BEGIN:VCALENDAR
VERSION:2.0
PRODID:-//Oasis Bereavement - ECPv6.15.18//NONSGML v1.0//EN
CALSCALE:GREGORIAN
METHOD:PUBLISH
X-WR-CALNAME:Oasis Bereavement
X-ORIGINAL-URL:https://oasisbereavement.com
X-WR-CALDESC:Events for Oasis Bereavement
REFRESH-INTERVAL;VALUE=DURATION:PT1H
X-Robots-Tag:noindex
X-PUBLISHED-TTL:PT1H
BEGIN:VTIMEZONE
TZID:UTC
BEGIN:STANDARD
TZOFFSETFROM:+0000
TZOFFSETTO:+0000
TZNAME:UTC
DTSTART:20250101T000000
END:STANDARD
END:VTIMEZONE
BEGIN:VEVENT
DTSTART;TZID=UTC:20260424T100000
DTEND;TZID=UTC:20260424T110000
DTSTAMP:20260424T220554
CREATED:20260408T182413Z
LAST-MODIFIED:20260408T182413Z
UID:4202-1777024800-1777028400@oasisbereavement.com
SUMMARY:Hope House Bereavement Bistro
DESCRIPTION:BEREAVEMENT BISTRO: ​A morning drop-in bereavement group for adults who are experiencing the death of a loved one. An opportunity for support & conversation.
URL:https://oasisbereavement.com/event/hope-house-bereavement-bistro-4/2026-04-24/
ATTACH;FMTTYPE=image/png:https://oasisbereavement.com/wp-content/uploads/2026/04/Screen-Shot-2026-04-08-at-2.17.49-PM.png
END:VEVENT
BEGIN:VEVENT
DTSTART;TZID=UTC:20260424T123000
DTEND;TZID=UTC:20260424T133000
DTSTAMP:20260424T220554
CREATED:20260408T181632Z
LAST-MODIFIED:20260408T181632Z
UID:4150-1777033800-1777037400@oasisbereavement.com
SUMMARY:Hope House Young Family Spousal Loss
DESCRIPTION:4th Friday of the Month12:30-1:30pm via ZOOM \n\n\nFAMILIES FINDING THEIR WAY \nmarch 27\, April 24\, May 22 & June 26\, 2026 \nA drop-in peer-support group intended for parents with children under 18 who are experiencing the death of a spouse or partner. This group provides a supportive space for conversation and connection
URL:https://oasisbereavement.com/event/hope-house-young-family-spousal-loss/2026-04-24/
ATTACH;FMTTYPE=image/png:https://oasisbereavement.com/wp-content/uploads/2026/04/Screen-Shot-2026-04-08-at-2.13.22-PM.png
END:VEVENT
BEGIN:VEVENT
DTSTART;TZID=UTC:20260424T180000
DTEND;TZID=UTC:20260424T193000
DTSTAMP:20260424T220554
CREATED:20260408T184502Z
LAST-MODIFIED:20260408T184502Z
UID:4435-1777053600-1777059000@oasisbereavement.com
SUMMARY:Hope House Feel Good Friday
DESCRIPTION:IN PERSON  15105 Yonge St. Unit 105 \nFriday Apr 24 @ 6:00-7:30pm \n​ \n\n\nFEEL GOOD FRIDAY – MOVEMENT & MINDSET An easeful and enjoyable session focused on seasonal selfcare practices to support our ability to rest\, digest and manifest. 
URL:https://oasisbereavement.com/event/hope-house-feel-good-friday/
ATTACH;FMTTYPE=image/png:https://oasisbereavement.com/wp-content/uploads/2026/04/Screen-Shot-2026-04-08-at-2.43.15-PM.png
END:VEVENT
END:VCALENDAR