BEGIN:VCALENDAR
VERSION:2.0
PRODID:-//Oasis Bereavement - ECPv6.15.18//NONSGML v1.0//EN
CALSCALE:GREGORIAN
METHOD:PUBLISH
X-WR-CALNAME:Oasis Bereavement
X-ORIGINAL-URL:https://oasisbereavement.com
X-WR-CALDESC:Events for Oasis Bereavement
REFRESH-INTERVAL;VALUE=DURATION:PT1H
X-Robots-Tag:noindex
X-PUBLISHED-TTL:PT1H
BEGIN:VTIMEZONE
TZID:UTC
BEGIN:STANDARD
TZOFFSETFROM:+0000
TZOFFSETTO:+0000
TZNAME:UTC
DTSTART:20230101T000000
END:STANDARD
END:VTIMEZONE
BEGIN:VEVENT
DTSTART;TZID=UTC:20240501T093000
DTEND;TZID=UTC:20240501T223000
DTSTAMP:20260421T191945
CREATED:20240406T161510Z
LAST-MODIFIED:20240406T161510Z
UID:2814-1714555800-1714602600@oasisbereavement.com
SUMMARY:Weekly - QIGONG - Hope House
DESCRIPTION:
URL:https://oasisbereavement.com/event/weekly-qigong-hope-house-2/
LOCATION:ZOOM
ATTACH;FMTTYPE=image/png:https://oasisbereavement.com/wp-content/uploads/2024/04/Screen-Shot-2024-04-06-at-12.05.46-PM.png
END:VEVENT
BEGIN:VEVENT
DTSTART;TZID=UTC:20240429T183000
DTEND;TZID=UTC:20240429T193000
DTSTAMP:20260421T191945
CREATED:20240406T144327Z
LAST-MODIFIED:20240406T144327Z
UID:2783-1714415400-1714419000@oasisbereavement.com
SUMMARY:Mindful Movement - Hope House
DESCRIPTION:
URL:https://oasisbereavement.com/event/mindful-movement-hope-house-4/
LOCATION:ZOOM
ATTACH;FMTTYPE=image/png:https://oasisbereavement.com/wp-content/uploads/2024/04/Screen-Shot-2024-04-06-at-10.35.53-AM.png
END:VEVENT
BEGIN:VEVENT
DTSTART;TZID=UTC:20240427T100000
DTEND;TZID=UTC:20240427T120000
DTSTAMP:20260421T191945
CREATED:20240112T234708Z
LAST-MODIFIED:20240112T234708Z
UID:2625-1714212000-1714219200@oasisbereavement.com
SUMMARY:Evergreen Bridges of Hope Drop-In
DESCRIPTION:
URL:https://oasisbereavement.com/event/evergreen-bridges-of-hope-drop-in-3/
LOCATION:Wind Phones
END:VEVENT
BEGIN:VEVENT
DTSTART;TZID=UTC:20240423T063000
DTEND;TZID=UTC:20240423T203000
DTSTAMP:20260421T191945
CREATED:20240404T174415Z
LAST-MODIFIED:20240404T174415Z
UID:2754-1713853800-1713904200@oasisbereavement.com
SUMMARY:Death Cafe - Doane House Hospice
DESCRIPTION:
URL:https://oasisbereavement.com/event/death-cafe-doane-house-hospice/
LOCATION:ZOOM
ATTACH;FMTTYPE=image/png:https://oasisbereavement.com/wp-content/uploads/2024/04/Screen-Shot-2024-04-04-at-1.32.38-PM.png
END:VEVENT
BEGIN:VEVENT
DTSTART;TZID=UTC:20240422T183000
DTEND;TZID=UTC:20240422T193000
DTSTAMP:20260421T191945
CREATED:20240406T144156Z
LAST-MODIFIED:20240406T144156Z
UID:2781-1713810600-1713814200@oasisbereavement.com
SUMMARY:Mindful Movement - Hope House
DESCRIPTION:
URL:https://oasisbereavement.com/event/mindful-movement-hope-house-3/
LOCATION:ZOOM
ATTACH;FMTTYPE=image/png:https://oasisbereavement.com/wp-content/uploads/2024/04/Screen-Shot-2024-04-06-at-10.35.53-AM.png
END:VEVENT
BEGIN:VEVENT
DTSTART;TZID=UTC:20240421T090000
DTEND;TZID=UTC:20240421T160000
DTSTAMP:20260421T191945
CREATED:20240124T193425Z
LAST-MODIFIED:20240124T193425Z
UID:2688-1713690000-1713715200@oasisbereavement.com
SUMMARY:PalCare - Foundations of Therapeutic Touch
DESCRIPTION:Are you interested in energy work\, well this training could be for you! Two part training April and November \nTherapeutic Touch® is a wholistic\, evidence-based\, modern interpretation of several ancient healing practises that promotes balance and well-being. This gentle form of energy healing is used to provide comfort and relief to others as well as oneself\, touching people at all levels of their being – physical\, emotional\, mental and spiritual. \nFoundations of Therapeutic Touch® is an interactive workshop designed to introduce participants to the principles and practice of Therapeutic Touch®. \n  \nFirst level starts \nApril 12th 6:30 – 8:30pm via ZOOM \nApril 13th – 9-3pm at Margaret Bahen Hospice (Multi-Purpose Room) \nApri; 21st – 9-4pm at Margaret Bahen Hospice (Multi-Purpose Room) \n  \nhttps://www.mypalcare.org/workshops 
URL:https://oasisbereavement.com/event/palcare-foundations-of-therapeutic-touch-3/
LOCATION:Margaret Bahen Hospice\, 653 Queen Street\, Newmarket\, Ontario\, Canada
END:VEVENT
BEGIN:VEVENT
DTSTART;TZID=UTC:20240417T170000
DTEND;TZID=UTC:20240417T190000
DTSTAMP:20260421T191945
CREATED:20240404T174127Z
LAST-MODIFIED:20240404T174127Z
UID:2750-1713373200-1713380400@oasisbereavement.com
SUMMARY:Adult Grief Group - 8 Wednesdays - Doane House Hospice
DESCRIPTION:
URL:https://oasisbereavement.com/event/adult-grief-group-8-wednesdays-doane-house-hospice/
LOCATION:Doane House Hospice\, 17100 Yonge Street\, Newmarket\, Ontario\, Canada
ATTACH;FMTTYPE=image/png:https://oasisbereavement.com/wp-content/uploads/2024/04/Screen-Shot-2024-04-04-at-1.35.44-PM.png
END:VEVENT
BEGIN:VEVENT
DTSTART;TZID=UTC:20240416T143000
DTEND;TZID=UTC:20240416T153000
DTSTAMP:20260421T191945
CREATED:20240406T150818Z
LAST-MODIFIED:20240406T150818Z
UID:2789-1713277800-1713281400@oasisbereavement.com
SUMMARY:Weekly - TRANQUIL MOMENTS YOGA  - Hope House
DESCRIPTION:
URL:https://oasisbereavement.com/event/weekly-tranquil-moments-yoga-hope-house/
LOCATION:Hope House Hospice\, 350 Industrial Pkwy South Unit 4\, Aurora\, Ontario\, L4G 3V7\, Canada
ATTACH;FMTTYPE=image/png:https://oasisbereavement.com/wp-content/uploads/2024/04/Screen-Shot-2024-04-06-at-11.01.49-AM.png
END:VEVENT
BEGIN:VEVENT
DTSTART;TZID=UTC:20240416T110000
DTEND;TZID=UTC:20240416T120000
DTSTAMP:20260421T191945
CREATED:20240113T210017Z
LAST-MODIFIED:20240113T210017Z
UID:2666-1713265200-1713268800@oasisbereavement.com
SUMMARY:Creative Therapy - Hospice Georgina
DESCRIPTION:Creative Therapy: Join us every 2nd and 3rd Tuesday of the month from 11:00am-12:00pm. The purpose of the Creative Therapy program is to provide clients with a creative outlet to express their feelings\, thoughts and emotions. Limited spaces available.
URL:https://oasisbereavement.com/event/creative-therapy-hospice-georgina-6/
END:VEVENT
BEGIN:VEVENT
DTSTART;TZID=UTC:20240415T183000
DTEND;TZID=UTC:20240415T193000
DTSTAMP:20260421T191945
CREATED:20240406T143954Z
LAST-MODIFIED:20240406T143954Z
UID:2779-1713205800-1713209400@oasisbereavement.com
SUMMARY:Mindful Movement - Hope House
DESCRIPTION:
URL:https://oasisbereavement.com/event/mindful-movement-hope-house-2/
LOCATION:ZOOM
ATTACH;FMTTYPE=image/png:https://oasisbereavement.com/wp-content/uploads/2024/04/Screen-Shot-2024-04-06-at-10.35.53-AM.png
END:VEVENT
BEGIN:VEVENT
DTSTART;TZID=UTC:20240413T090000
DTEND;TZID=UTC:20240413T150000
DTSTAMP:20260421T191945
CREATED:20240124T193307Z
LAST-MODIFIED:20240124T193307Z
UID:2687-1712998800-1713020400@oasisbereavement.com
SUMMARY:PalCare - Foundations of Therapeutic Touch
DESCRIPTION:Are you interested in energy work\, well this training could be for you! Two part training April and November \nTherapeutic Touch® is a wholistic\, evidence-based\, modern interpretation of several ancient healing practises that promotes balance and well-being. This gentle form of energy healing is used to provide comfort and relief to others as well as oneself\, touching people at all levels of their being – physical\, emotional\, mental and spiritual. \nFoundations of Therapeutic Touch® is an interactive workshop designed to introduce participants to the principles and practice of Therapeutic Touch®. \n  \nFirst level starts \nApril 12th 6:30 – 8:30pm via ZOOM \nApril 13th – 9-3pm at Margaret Bahen Hospice (Multi-Purpose Room) \nApri; 21st – 9-4pm at Margaret Bahen Hospice (Multi-Purpose Room) \n  \nhttps://www.mypalcare.org/workshops 
URL:https://oasisbereavement.com/event/palcare-foundations-of-therapeutic-touch-2/
LOCATION:Margaret Bahen Hospice\, 653 Queen Street\, Newmarket\, Ontario\, Canada
END:VEVENT
BEGIN:VEVENT
DTSTART;TZID=UTC:20240412T183000
DTEND;TZID=UTC:20240412T203000
DTSTAMP:20260421T191945
CREATED:20240124T193139Z
LAST-MODIFIED:20240124T193139Z
UID:2686-1712946600-1712953800@oasisbereavement.com
SUMMARY:PalCare - Foundations of Therapeutic Touch
DESCRIPTION:Are you interested in energy work\, well this training could be for you! Two part training April and November \nTherapeutic Touch® is a wholistic\, evidence-based\, modern interpretation of several ancient healing practises that promotes balance and well-being. This gentle form of energy healing is used to provide comfort and relief to others as well as oneself\, touching people at all levels of their being – physical\, emotional\, mental and spiritual. \nFoundations of Therapeutic Touch® is an interactive workshop designed to introduce participants to the principles and practice of Therapeutic Touch®. \n  \nFirst level starts \nApril 12th 6:30 – 8:30pm via ZOOM \nApril 13th – 9-3pm at Margaret Bahen Hospice (Multi-Purpose Room) \nApri; 21st – 9-4pm at Margaret Bahen Hospice (Multi-Purpose Room) \n  \nhttps://www.mypalcare.org/workshops 
URL:https://oasisbereavement.com/event/palcare-foundations-of-therapeutic-touch/
LOCATION:ZOOM
END:VEVENT
BEGIN:VEVENT
DTSTART;TZID=UTC:20240410T093000
DTEND;TZID=UTC:20240410T103000
DTSTAMP:20260421T191945
CREATED:20240406T161338Z
LAST-MODIFIED:20240406T161338Z
UID:2811-1712741400-1712745000@oasisbereavement.com
SUMMARY:Weekly - QIGONG - Hope House
DESCRIPTION:
URL:https://oasisbereavement.com/event/weekly-qigong-hope-house/
LOCATION:ZOOM
ATTACH;FMTTYPE=image/png:https://oasisbereavement.com/wp-content/uploads/2024/04/Screen-Shot-2024-04-06-at-12.05.46-PM.png
END:VEVENT
BEGIN:VEVENT
DTSTART;TZID=UTC:20240409T120000
DTEND;TZID=UTC:20240409T130000
DTSTAMP:20260421T191945
CREATED:20240124T201529Z
LAST-MODIFIED:20240124T201529Z
UID:2699-1712664000-1712667600@oasisbereavement.com
SUMMARY:PalCare - Join the Conversation
DESCRIPTION:Join the Conversation\n\n\nCourse Via Zoom\n\n\nDescription \nCome and join the conversation\, share your voice on topics that can include palliative care\, grief and bereavement\, organ donation\, MAID\, Advanced Care Planning and Self Compassion. We start the conversation by discussing videos\, TED talks\, podcasts etc. that we have shared with you to watch and listen to prior to the session.    \n​ \nDates \nTuesday\, January 9th\, 2024 \nTuesday\, February 13th\, 2024 \nTuesday\, March 12th\, 2024 \nTuesday\, April 9th\, 2024 \nTuesday\, May 14th\, 2024 \nTuesday\, June 11th\, 2024 \nTuesday\, July 9th\, 2024 \nTuesday\,August 13th\, 2024 \nTuesday\, September 10th\, 2024 \nTuesday\, October 8th\, 2024 \nTuesday\, November 12th\, 2024 \nTuesday\, December 10th\, 2024 \n​ \nTime \n12:00 – 12:45 pm
URL:https://oasisbereavement.com/event/palcare-join-the-conversation-3/
LOCATION:ZOOM
END:VEVENT
BEGIN:VEVENT
DTSTART;TZID=UTC:20240409T110000
DTEND;TZID=UTC:20240409T120000
DTSTAMP:20260421T191945
CREATED:20240113T205911Z
LAST-MODIFIED:20240113T205911Z
UID:2665-1712660400-1712664000@oasisbereavement.com
SUMMARY:Creative Therapy - Hospice Georgina
DESCRIPTION:Creative Therapy: Join us every 2nd and 3rd Tuesday of the month from 11:00am-12:00pm. The purpose of the Creative Therapy program is to provide clients with a creative outlet to express their feelings\, thoughts and emotions. Limited spaces available.
URL:https://oasisbereavement.com/event/creative-therapy-hospice-georgina-5/
LOCATION:Death of a Pet
END:VEVENT
BEGIN:VEVENT
DTSTART;TZID=UTC:20240408T183000
DTEND;TZID=UTC:20240408T193000
DTSTAMP:20260421T191945
CREATED:20240406T143829Z
LAST-MODIFIED:20240406T143829Z
UID:2776-1712601000-1712604600@oasisbereavement.com
SUMMARY:Mindful Movement - Hope House
DESCRIPTION:
URL:https://oasisbereavement.com/event/mindful-movement-hope-house/
LOCATION:ZOOM
ATTACH;FMTTYPE=image/png:https://oasisbereavement.com/wp-content/uploads/2024/04/Screen-Shot-2024-04-06-at-10.35.53-AM.png
END:VEVENT
BEGIN:VEVENT
DTSTART;TZID=UTC:20240408T100000
DTEND;TZID=UTC:20240408T110000
DTSTAMP:20260421T191945
CREATED:20240406T141959Z
LAST-MODIFIED:20240406T141959Z
UID:2757-1712570400-1712574000@oasisbereavement.com
SUMMARY:Weekly Permission to Pause Gentle Yoga - Hope House
DESCRIPTION:
URL:https://oasisbereavement.com/event/weekly-permission-to-pause-gentle-yoga-hope-house/
LOCATION:ZOOM
ATTACH;FMTTYPE=image/png:https://oasisbereavement.com/wp-content/uploads/2024/04/Screen-Shot-2024-04-06-at-10.17.57-AM.png
END:VEVENT
BEGIN:VEVENT
DTSTART;TZID=UTC:20240405T100000
DTEND;TZID=UTC:20240405T113000
DTSTAMP:20260421T191945
CREATED:20240113T203146Z
LAST-MODIFIED:20240113T203146Z
UID:2652-1712311200-1712316600@oasisbereavement.com
SUMMARY:Weekly - Hope House Virtual Bereavement Bistro
DESCRIPTION:
URL:https://oasisbereavement.com/event/weekly-hope-house-virtual-bereavement-bistro-4/
LOCATION:ZOOM
END:VEVENT
BEGIN:VEVENT
DTSTART;TZID=UTC:20240402T190000
DTEND;TZID=UTC:20240402T210000
DTSTAMP:20260421T191945
CREATED:20240113T000610Z
LAST-MODIFIED:20240113T000610Z
UID:2631-1712084400-1712091600@oasisbereavement.com
SUMMARY:Northridge Grief Care - Every Tuesday
DESCRIPTION:
URL:https://oasisbereavement.com/event/northridge-grief-care-every-tuesday-3/
LOCATION:153388 Leslie Street Aurora L4G 7C4\, 153388 Leslie Street\, Aurora\, Ontario\, L4G 7C4\, Canada
END:VEVENT
BEGIN:VEVENT
DTSTART;TZID=UTC:20240402T130000
DTEND;TZID=UTC:20240402T150000
DTSTAMP:20260421T191945
CREATED:20240113T200948Z
LAST-MODIFIED:20240113T200948Z
UID:2647-1712062800-1712070000@oasisbereavement.com
SUMMARY:Weekly - Hope House Comfort Cafe Virtual Drop-In
DESCRIPTION:
URL:https://oasisbereavement.com/event/weekly-hope-house-comfort-cafe-virtual-drop-in-3/
LOCATION:ZOOM
END:VEVENT
BEGIN:VEVENT
DTSTART;TZID=UTC:20240401T190000
DTEND;TZID=UTC:20240401T200000
DTSTAMP:20260421T191945
CREATED:20240113T002652Z
LAST-MODIFIED:20240113T002652Z
UID:2639-1711998000-1712001600@oasisbereavement.com
SUMMARY:Hope House - Weekly Virtual Drop-In - Moonlight Mourning
DESCRIPTION:
URL:https://oasisbereavement.com/event/hope-house-weekly-virtual-drop-in-moonlight-mourning-4/
LOCATION:ZOOM
END:VEVENT
BEGIN:VEVENT
DTSTART;TZID=UTC:20240323T100000
DTEND;TZID=UTC:20240323T120000
DTSTAMP:20260421T191945
CREATED:20240112T234503Z
LAST-MODIFIED:20240112T234503Z
UID:2223-1711188000-1711195200@oasisbereavement.com
SUMMARY:Evergreen Bridges of Hope Drop-In
DESCRIPTION:
URL:https://oasisbereavement.com/event/evergreen-bridges-of-hope-drop-in-2/
LOCATION:Wind Phones
END:VEVENT
BEGIN:VEVENT
DTSTART;TZID=UTC:20240319T110000
DTEND;TZID=UTC:20240319T120000
DTSTAMP:20260421T191945
CREATED:20240113T205747Z
LAST-MODIFIED:20240113T205747Z
UID:2664-1710846000-1710849600@oasisbereavement.com
SUMMARY:Creative Therapy - Hospice Georgina
DESCRIPTION:Creative Therapy: Join us every 2nd and 3rd Tuesday of the month from 11:00am-12:00pm. The purpose of the Creative Therapy program is to provide clients with a creative outlet to express their feelings\, thoughts and emotions. Limited spaces available.
URL:https://oasisbereavement.com/event/creative-therapy-hospice-georgina-4/
LOCATION:Death of a Pet
END:VEVENT
BEGIN:VEVENT
DTSTART;TZID=UTC:20240312T120000
DTEND;TZID=UTC:20240312T130000
DTSTAMP:20260421T191945
CREATED:20240124T201409Z
LAST-MODIFIED:20240124T201409Z
UID:2698-1710244800-1710248400@oasisbereavement.com
SUMMARY:PalCare - Join the Conversation
DESCRIPTION:Join the Conversation\n\n\nCourse Via Zoom\n\n\nDescription \nCome and join the conversation\, share your voice on topics that can include palliative care\, grief and bereavement\, organ donation\, MAID\, Advanced Care Planning and Self Compassion. We start the conversation by discussing videos\, TED talks\, podcasts etc. that we have shared with you to watch and listen to prior to the session.    \n​ \nDates \nTuesday\, January 9th\, 2024 \nTuesday\, February 13th\, 2024 \nTuesday\, March 12th\, 2024 \nTuesday\, April 9th\, 2024 \nTuesday\, May 14th\, 2024 \nTuesday\, June 11th\, 2024 \nTuesday\, July 9th\, 2024 \nTuesday\,August 13th\, 2024 \nTuesday\, September 10th\, 2024 \nTuesday\, October 8th\, 2024 \nTuesday\, November 12th\, 2024 \nTuesday\, December 10th\, 2024 \n​ \nTime \n12:00 – 12:45 pm
URL:https://oasisbereavement.com/event/palcare-join-the-conversation-2/
LOCATION:ZOOM
END:VEVENT
BEGIN:VEVENT
DTSTART;TZID=UTC:20240312T110000
DTEND;TZID=UTC:20240312T120000
DTSTAMP:20260421T191945
CREATED:20240113T205505Z
LAST-MODIFIED:20240113T205505Z
UID:2663-1710241200-1710244800@oasisbereavement.com
SUMMARY:Creative Therapy - Hospice Georgina
DESCRIPTION:Creative Therapy: Join us every 2nd and 3rd Tuesday of the month from 11:00am-12:00pm. The purpose of the Creative Therapy program is to provide clients with a creative outlet to express their feelings\, thoughts and emotions. Limited spaces available.
URL:https://oasisbereavement.com/event/creative-therapy-hospice-georgina-3/
LOCATION:Death of a Pet
END:VEVENT
BEGIN:VEVENT
DTSTART;TZID=UTC:20240305T130000
DTEND;TZID=UTC:20240305T150000
DTSTAMP:20260421T191945
CREATED:20240113T200807Z
LAST-MODIFIED:20240113T200807Z
UID:2646-1709643600-1709650800@oasisbereavement.com
SUMMARY:Weekly - Hope House Comfort Cafe Virtual Drop-In
DESCRIPTION:
URL:https://oasisbereavement.com/event/weekly-hope-house-comfort-cafe-virtual-drop-in-2/
LOCATION:ZOOM
END:VEVENT
BEGIN:VEVENT
DTSTART;TZID=UTC:20240305T080000
DTEND;TZID=UTC:20240305T170000
DTSTAMP:20260421T191945
CREATED:20240113T000437Z
LAST-MODIFIED:20240113T000437Z
UID:2246-1709625600-1709658000@oasisbereavement.com
SUMMARY:Northridge Grief Care - Every Tuesday
DESCRIPTION:
URL:https://oasisbereavement.com/event/northridge-grief-care-every-tuesday-2/
LOCATION:153388 Leslie Street Aurora L4G 7C4\, 153388 Leslie Street\, Aurora\, Ontario\, L4G 7C4\, Canada
END:VEVENT
BEGIN:VEVENT
DTSTART;TZID=UTC:20240304T190000
DTEND;TZID=UTC:20240304T200000
DTSTAMP:20260421T191945
CREATED:20240113T002537Z
LAST-MODIFIED:20240113T002537Z
UID:2638-1709578800-1709582400@oasisbereavement.com
SUMMARY:Hope House - Weekly Virtual Drop-In - Moonlight Mourning
DESCRIPTION:
URL:https://oasisbereavement.com/event/hope-house-weekly-virtual-drop-in-moonlight-mourning-3/
LOCATION:ZOOM
END:VEVENT
BEGIN:VEVENT
DTSTART;TZID=UTC:20240301T100000
DTEND;TZID=UTC:20240301T113000
DTSTAMP:20260421T191945
CREATED:20240113T203043Z
LAST-MODIFIED:20240113T203043Z
UID:2651-1709287200-1709292600@oasisbereavement.com
SUMMARY:Weekly - Hope House Virtual Bereavement Bistro
DESCRIPTION:
URL:https://oasisbereavement.com/event/weekly-hope-house-virtual-bereavement-bistro-3/
LOCATION:ZOOM
END:VEVENT
BEGIN:VEVENT
DTSTART;TZID=UTC:20240224T100000
DTEND;TZID=UTC:20240224T120000
DTSTAMP:20260421T191945
CREATED:20240112T234358Z
LAST-MODIFIED:20240112T234358Z
UID:2624-1708768800-1708776000@oasisbereavement.com
SUMMARY:Evergreen Bridges of Hope Drop-In
DESCRIPTION:
URL:https://oasisbereavement.com/event/evergreen-bridges-of-hope-drop-in/
LOCATION:Wind Phones
END:VEVENT
END:VCALENDAR