BEGIN:VCALENDAR
VERSION:2.0
PRODID:-//Oasis Bereavement - ECPv6.15.18//NONSGML v1.0//EN
CALSCALE:GREGORIAN
METHOD:PUBLISH
X-WR-CALNAME:Oasis Bereavement
X-ORIGINAL-URL:https://oasisbereavement.com
X-WR-CALDESC:Events for Oasis Bereavement
REFRESH-INTERVAL;VALUE=DURATION:PT1H
X-Robots-Tag:noindex
X-PUBLISHED-TTL:PT1H
BEGIN:VTIMEZONE
TZID:UTC
BEGIN:STANDARD
TZOFFSETFROM:+0000
TZOFFSETTO:+0000
TZNAME:UTC
DTSTART:20220101T000000
END:STANDARD
END:VTIMEZONE
BEGIN:VEVENT
DTSTART;TZID=UTC:20240205T190000
DTEND;TZID=UTC:20240205T200000
DTSTAMP:20260422T034958
CREATED:20240113T002412Z
LAST-MODIFIED:20240113T002412Z
UID:2270-1707159600-1707163200@oasisbereavement.com
SUMMARY:Hope House - Weekly Virtual Drop-In - Moonlight Mourning
DESCRIPTION:
URL:https://oasisbereavement.com/event/hope-house-weekly-virtual-drop-in-moonlight-mourning-2/
LOCATION:ZOOM
END:VEVENT
BEGIN:VEVENT
DTSTART;TZID=UTC:20240203T090000
DTEND;TZID=UTC:20240203T150000
DTSTAMP:20260422T034958
CREATED:20240124T192633Z
LAST-MODIFIED:20240124T192633Z
UID:2684-1706950800-1706972400@oasisbereavement.com
SUMMARY:PalCare - Grief & Bereavement Training
DESCRIPTION:3 Day Grief and Bereavement Training \n\n\nCourse Via In-person\n\n\nFacilitated by \nLouise Leblanc\, Juliet Irish\, Elaine Beemer \nDescription \nThese sessions are open to individuals who are interested in supporting people through there grief journey. \nMore Information \n​ \nDates and Time \nFebruary 2\, 2024 09:00 AM – 3 PMFebruary 3\, 2024 09:00 AM – 3 PMFebruary 10\, 2024 09:00 AM – 3 PM \n\n 
URL:https://oasisbereavement.com/event/palcare-grief-bereavement-training-2/
END:VEVENT
BEGIN:VEVENT
DTSTART;TZID=UTC:20240202T100000
DTEND;TZID=UTC:20240202T113000
DTSTAMP:20260422T034958
CREATED:20240113T202937Z
LAST-MODIFIED:20240113T202937Z
UID:2323-1706868000-1706873400@oasisbereavement.com
SUMMARY:Weekly - Hope House Virtual Bereavement Bistro
DESCRIPTION:
URL:https://oasisbereavement.com/event/weekly-hope-house-virtual-bereavement-bistro-2/
LOCATION:ZOOM
END:VEVENT
BEGIN:VEVENT
DTSTART;TZID=UTC:20240202T090000
DTEND;TZID=UTC:20240202T150000
DTSTAMP:20260422T034958
CREATED:20240124T192427Z
LAST-MODIFIED:20240124T192427Z
UID:2683-1706864400-1706886000@oasisbereavement.com
SUMMARY:PalCare - Grief & Bereavement Training
DESCRIPTION:3 Day Grief and Bereavement Training \n\n\nCourse Via In-person\n\n\nFacilitated by \nLouise Leblanc\, Juliet Irish\, Elaine Beemer \nDescription \nThese sessions are open to individuals who are interested in supporting people through there grief journey. \nMore Information \n​ \nDates and Time \nFebruary 2\, 2024 09:00 AM – 3 PMFebruary 3\, 2024 09:00 AM – 3 PMFebruary 10\, 2024 09:00 AM – 3 PM \n\n  \n  \n 
URL:https://oasisbereavement.com/event/palcare-grief-bereavement-training/
END:VEVENT
BEGIN:VEVENT
DTSTART;TZID=UTC:20240127T100000
DTEND;TZID=UTC:20240127T120000
DTSTAMP:20260422T034958
CREATED:20240112T233727Z
LAST-MODIFIED:20240112T233727Z
UID:2623-1706349600-1706356800@oasisbereavement.com
SUMMARY:Evergreen - Bridges of Hope - Drop In Support Group
DESCRIPTION:
URL:https://oasisbereavement.com/event/evergreen-bridges-of-hope-drop-in-support-group/
LOCATION:Wind Phones
END:VEVENT
BEGIN:VEVENT
DTSTART;TZID=UTC:20240124T183000
DTEND;TZID=UTC:20240124T203000
DTSTAMP:20260422T034958
CREATED:20240112T230950Z
LAST-MODIFIED:20240112T230950Z
UID:2210-1706121000-1706128200@oasisbereavement.com
SUMMARY:Doane House Hospice - Virtual Death Cafe
DESCRIPTION:Death Cafe\, is a group-directed discussion of death\, with no agenda\, objectives or themes. It is a discussion group\, not a support group or counselling session. \n———- \nIt’s a respectful\, life-affirming\, thought-provoking conversation about a topic that is often shied away from. \n  \nWe are offering a Virtual Death Café on Wednesday\, January 24\, 2024 (6:30 – 8:30 pm – Via Zoom). \n  \nIf you are interested in joining\, you must register by no later than January 17th.   \n  \nContact Us905.967.0259 info@myhospice.ca
URL:https://oasisbereavement.com/event/doane-house-hospice-virtual-death-cafe/
LOCATION:ZOOM
END:VEVENT
BEGIN:VEVENT
DTSTART;TZID=UTC:20240119T100000
DTEND;TZID=UTC:20240119T113000
DTSTAMP:20260422T034958
CREATED:20240113T202620Z
LAST-MODIFIED:20240113T202620Z
UID:2320-1705658400-1705663800@oasisbereavement.com
SUMMARY:Weekly - Hope House Virtual Bereavement Bistro
DESCRIPTION:
URL:https://oasisbereavement.com/event/weekly-hope-house-virtual-bereavement-bistro/
LOCATION:ZOOM
END:VEVENT
BEGIN:VEVENT
DTSTART;TZID=UTC:20240116T130000
DTEND;TZID=UTC:20240116T150000
DTSTAMP:20260422T034958
CREATED:20240113T200356Z
LAST-MODIFIED:20240113T200356Z
UID:2644-1705410000-1705417200@oasisbereavement.com
SUMMARY:Weekly - Hope Hospice Comfort Cafe Virtual Drop-In
DESCRIPTION:
URL:https://oasisbereavement.com/event/weekly-hope-hospice-comfort-cafe-virtual-drop-in/
LOCATION:ZOOM
END:VEVENT
BEGIN:VEVENT
DTSTART;TZID=UTC:20240115T190000
DTEND;TZID=UTC:20240115T200000
DTSTAMP:20260422T034958
CREATED:20240113T002304Z
LAST-MODIFIED:20240113T002304Z
UID:2266-1705345200-1705348800@oasisbereavement.com
SUMMARY:Hope House - Weekly Virtual Drop-In - Moonlight Mourning
DESCRIPTION:
URL:https://oasisbereavement.com/event/hope-house-weekly-virtual-drop-in-moonlight-mourning/
LOCATION:ZOOM
END:VEVENT
BEGIN:VEVENT
DTSTART;TZID=UTC:20231224T133000
DTEND;TZID=UTC:20231224T153000
DTSTAMP:20260422T034958
CREATED:20230118T182127Z
LAST-MODIFIED:20230118T182127Z
UID:1871-1703424600-1703431800@oasisbereavement.com
SUMMARY:Evergreen Bridges of Hope - Monthly Drop In
DESCRIPTION:Drop in support group for adults on the fourth Sunday of every month starting at 1:30pm at 201-5762 Hwy 7 E\, Markham. Call for more information 416 499-2185 or email info@evgcares.org.
URL:https://oasisbereavement.com/event/evergreen-bridges-of-hope-monthly-drop-in-12/
END:VEVENT
BEGIN:VEVENT
DTSTART;TZID=UTC:20231224T133000
DTEND;TZID=UTC:20231224T153000
DTSTAMP:20260422T034958
CREATED:20230118T182127Z
LAST-MODIFIED:20230118T182127Z
UID:2551-1703424600-1703431800@oasisbereavement.com
SUMMARY:Evergreen Bridges of Hope - Monthly Drop In
DESCRIPTION:Drop in support group for adults on the fourth Sunday of every month starting at 1:30pm at 201-5762 Hwy 7 E\, Markham. Call for more information 416 499-2185 or email info@evgcares.org.
URL:https://oasisbereavement.com/event/evergreen-bridges-of-hope-monthly-drop-in-12-2/
END:VEVENT
BEGIN:VEVENT
DTSTART;TZID=UTC:20231219T110000
DTEND;TZID=UTC:20231219T120000
DTSTAMP:20260422T034958
CREATED:20230416T220840Z
LAST-MODIFIED:20230416T220840Z
UID:2092-1702983600-1702987200@oasisbereavement.com
SUMMARY:Hospice Georgina - Creative Therapy
DESCRIPTION:
URL:https://oasisbereavement.com/event/hospice-georgina-creative-therapy-20/
END:VEVENT
BEGIN:VEVENT
DTSTART;TZID=UTC:20231219T110000
DTEND;TZID=UTC:20231219T120000
DTSTAMP:20260422T034958
CREATED:20230416T220840Z
LAST-MODIFIED:20230416T220840Z
UID:2610-1702983600-1702987200@oasisbereavement.com
SUMMARY:Hospice Georgina - Creative Therapy
DESCRIPTION:
URL:https://oasisbereavement.com/event/hospice-georgina-creative-therapy-20-2/
END:VEVENT
BEGIN:VEVENT
DTSTART;TZID=UTC:20231212T190000
DTEND;TZID=UTC:20231212T200000
DTSTAMP:20260422T034958
CREATED:20230416T214019Z
LAST-MODIFIED:20230416T214019Z
UID:2592-1702407600-1702411200@oasisbereavement.com
SUMMARY:Northridge Grief Care - Weekly on Tuesdays
DESCRIPTION:
URL:https://oasisbereavement.com/event/northridge-grief-care-weekly-on-tuesdays-9-2/
END:VEVENT
BEGIN:VEVENT
DTSTART;TZID=UTC:20231212T190000
DTEND;TZID=UTC:20231212T200000
DTSTAMP:20260422T034958
CREATED:20230416T214019Z
LAST-MODIFIED:20230416T214019Z
UID:2055-1702407600-1702411200@oasisbereavement.com
SUMMARY:Northridge Grief Care - Weekly on Tuesdays
DESCRIPTION:
URL:https://oasisbereavement.com/event/northridge-grief-care-weekly-on-tuesdays-9/
END:VEVENT
BEGIN:VEVENT
DTSTART;TZID=UTC:20231212T110000
DTEND;TZID=UTC:20231212T120000
DTSTAMP:20260422T034958
CREATED:20230416T220753Z
LAST-MODIFIED:20230416T220753Z
UID:2090-1702378800-1702382400@oasisbereavement.com
SUMMARY:Hospice Georgina - Creative Therapy
DESCRIPTION:
URL:https://oasisbereavement.com/event/hospice-georgina-creative-therapy-19/
END:VEVENT
BEGIN:VEVENT
DTSTART;TZID=UTC:20231212T110000
DTEND;TZID=UTC:20231212T120000
DTSTAMP:20260422T034958
CREATED:20230416T220753Z
LAST-MODIFIED:20230416T220753Z
UID:2609-1702378800-1702382400@oasisbereavement.com
SUMMARY:Hospice Georgina - Creative Therapy
DESCRIPTION:
URL:https://oasisbereavement.com/event/hospice-georgina-creative-therapy-19-2/
END:VEVENT
BEGIN:VEVENT
DTSTART;TZID=UTC:20231205T130000
DTEND;TZID=UTC:20231205T153000
DTSTAMP:20260422T034958
CREATED:20230118T185957Z
LAST-MODIFIED:20230118T185957Z
UID:2568-1701781200-1701790200@oasisbereavement.com
SUMMARY:Hope Hospice - Weekly Drop In Every Tuesday
DESCRIPTION:
URL:https://oasisbereavement.com/event/hope-hospice-weekly-drop-in-every-tuesday-2-2/
END:VEVENT
BEGIN:VEVENT
DTSTART;TZID=UTC:20231205T130000
DTEND;TZID=UTC:20231205T153000
DTSTAMP:20260422T034958
CREATED:20230118T185957Z
LAST-MODIFIED:20230118T185957Z
UID:1907-1701781200-1701790200@oasisbereavement.com
SUMMARY:Hope Hospice - Weekly Drop In Every Tuesday
DESCRIPTION:
URL:https://oasisbereavement.com/event/hope-hospice-weekly-drop-in-every-tuesday-2/
END:VEVENT
BEGIN:VEVENT
DTSTART;TZID=UTC:20231201T100000
DTEND;TZID=UTC:20231201T113000
DTSTAMP:20260422T034958
CREATED:20230118T191222Z
LAST-MODIFIED:20230118T191222Z
UID:2580-1701424800-1701430200@oasisbereavement.com
SUMMARY:Hope Hospice - Virtual Weekly Drop-In Every Friday
DESCRIPTION:
URL:https://oasisbereavement.com/event/hope-hospice-virtual-weekly-drop-in-every-friday-12-2/
END:VEVENT
BEGIN:VEVENT
DTSTART;TZID=UTC:20231201T100000
DTEND;TZID=UTC:20231201T113000
DTSTAMP:20260422T034958
CREATED:20230118T191222Z
LAST-MODIFIED:20230118T191222Z
UID:1931-1701424800-1701430200@oasisbereavement.com
SUMMARY:Hope Hospice - Virtual Weekly Drop-In Every Friday
DESCRIPTION:
URL:https://oasisbereavement.com/event/hope-hospice-virtual-weekly-drop-in-every-friday-12/
END:VEVENT
BEGIN:VEVENT
DTSTART;TZID=UTC:20231126T133000
DTEND;TZID=UTC:20231126T153000
DTSTAMP:20260422T034958
CREATED:20230118T182000Z
LAST-MODIFIED:20230118T182000Z
UID:1869-1701005400-1701012600@oasisbereavement.com
SUMMARY:Evergreen Bridges of Hope - Monthly Drop In
DESCRIPTION:Drop in support group for adults on the fourth Sunday of every month starting at 1:30pm at 201-5762 Hwy 7 E\, Markham. Call for more information 416 499-2185 or email info@evgcares.org.
URL:https://oasisbereavement.com/event/evergreen-bridges-of-hope-monthly-drop-in-11/
END:VEVENT
BEGIN:VEVENT
DTSTART;TZID=UTC:20231126T133000
DTEND;TZID=UTC:20231126T153000
DTSTAMP:20260422T034958
CREATED:20230118T182000Z
LAST-MODIFIED:20230118T182000Z
UID:2550-1701005400-1701012600@oasisbereavement.com
SUMMARY:Evergreen Bridges of Hope - Monthly Drop In
DESCRIPTION:Drop in support group for adults on the fourth Sunday of every month starting at 1:30pm at 201-5762 Hwy 7 E\, Markham. Call for more information 416 499-2185 or email info@evgcares.org.
URL:https://oasisbereavement.com/event/evergreen-bridges-of-hope-monthly-drop-in-11-2/
END:VEVENT
BEGIN:VEVENT
DTSTART;TZID=UTC:20231121T110000
DTEND;TZID=UTC:20231121T120000
DTSTAMP:20260422T034958
CREATED:20230416T220655Z
LAST-MODIFIED:20230416T220655Z
UID:2608-1700564400-1700568000@oasisbereavement.com
SUMMARY:Hospice Georgina - Creative Therapy
DESCRIPTION:
URL:https://oasisbereavement.com/event/hospice-georgina-creative-therapy-18-2/
END:VEVENT
BEGIN:VEVENT
DTSTART;TZID=UTC:20231121T110000
DTEND;TZID=UTC:20231121T120000
DTSTAMP:20260422T034958
CREATED:20230416T220655Z
LAST-MODIFIED:20230416T220655Z
UID:2088-1700564400-1700568000@oasisbereavement.com
SUMMARY:Hospice Georgina - Creative Therapy
DESCRIPTION:
URL:https://oasisbereavement.com/event/hospice-georgina-creative-therapy-18/
END:VEVENT
BEGIN:VEVENT
DTSTART;TZID=UTC:20231114T190000
DTEND;TZID=UTC:20231114T200000
DTSTAMP:20260422T034958
CREATED:20230416T213919Z
LAST-MODIFIED:20230416T213919Z
UID:2053-1699988400-1699992000@oasisbereavement.com
SUMMARY:Northridge Grief Care - Weekly on Tuesdays
DESCRIPTION:
URL:https://oasisbereavement.com/event/northridge-grief-care-weekly-on-tuesdays-8/
END:VEVENT
BEGIN:VEVENT
DTSTART;TZID=UTC:20231114T190000
DTEND;TZID=UTC:20231114T200000
DTSTAMP:20260422T034958
CREATED:20230416T213919Z
LAST-MODIFIED:20230416T213919Z
UID:2591-1699988400-1699992000@oasisbereavement.com
SUMMARY:Northridge Grief Care - Weekly on Tuesdays
DESCRIPTION:
URL:https://oasisbereavement.com/event/northridge-grief-care-weekly-on-tuesdays-8-2/
END:VEVENT
BEGIN:VEVENT
DTSTART;TZID=UTC:20231114T110000
DTEND;TZID=UTC:20231114T120000
DTSTAMP:20260422T034958
CREATED:20230416T220554Z
LAST-MODIFIED:20230416T220554Z
UID:2086-1699959600-1699963200@oasisbereavement.com
SUMMARY:Hospice Georgina - Creative Therapy
DESCRIPTION:
URL:https://oasisbereavement.com/event/hospice-georgina-creative-therapy-17/
END:VEVENT
BEGIN:VEVENT
DTSTART;TZID=UTC:20231114T110000
DTEND;TZID=UTC:20231114T120000
DTSTAMP:20260422T034958
CREATED:20230416T220554Z
LAST-MODIFIED:20230416T220554Z
UID:2607-1699959600-1699963200@oasisbereavement.com
SUMMARY:Hospice Georgina - Creative Therapy
DESCRIPTION:
URL:https://oasisbereavement.com/event/hospice-georgina-creative-therapy-17-2/
END:VEVENT
BEGIN:VEVENT
DTSTART;TZID=UTC:20231107T130000
DTEND;TZID=UTC:20231107T153000
DTSTAMP:20260422T034958
CREATED:20230118T185858Z
LAST-MODIFIED:20230118T185858Z
UID:1905-1699362000-1699371000@oasisbereavement.com
SUMMARY:Hope Hospice - Weekly Drop In Every Tuesday
DESCRIPTION:
URL:https://oasisbereavement.com/event/hope-hospice-weekly-drop-in-every-tuesday/
END:VEVENT
END:VCALENDAR