BEGIN:VCALENDAR
VERSION:2.0
PRODID:-//Oasis Bereavement - ECPv6.15.18//NONSGML v1.0//EN
CALSCALE:GREGORIAN
METHOD:PUBLISH
X-WR-CALNAME:Oasis Bereavement
X-ORIGINAL-URL:https://oasisbereavement.com
X-WR-CALDESC:Events for Oasis Bereavement
REFRESH-INTERVAL;VALUE=DURATION:PT1H
X-Robots-Tag:noindex
X-PUBLISHED-TTL:PT1H
BEGIN:VTIMEZONE
TZID:UTC
BEGIN:STANDARD
TZOFFSETFROM:+0000
TZOFFSETTO:+0000
TZNAME:UTC
DTSTART:20220101T000000
END:STANDARD
END:VTIMEZONE
BEGIN:VEVENT
DTSTART;TZID=UTC:20231010T190000
DTEND;TZID=UTC:20231010T200000
DTSTAMP:20260422T093254
CREATED:20230416T213751Z
LAST-MODIFIED:20230416T213751Z
UID:2590-1696964400-1696968000@oasisbereavement.com
SUMMARY:Northridge Grief Care - Weekly on Tuesdays
DESCRIPTION:
URL:https://oasisbereavement.com/event/northridge-grief-care-weekly-on-tuesdays-7-2/
END:VEVENT
BEGIN:VEVENT
DTSTART;TZID=UTC:20231010T110000
DTEND;TZID=UTC:20231010T120000
DTSTAMP:20260422T093254
CREATED:20230416T220322Z
LAST-MODIFIED:20230416T220322Z
UID:2082-1696935600-1696939200@oasisbereavement.com
SUMMARY:Hospice Georgina - Creative Therapy
DESCRIPTION:
URL:https://oasisbereavement.com/event/hospice-georgina-creative-therapy-15/
END:VEVENT
BEGIN:VEVENT
DTSTART;TZID=UTC:20231010T110000
DTEND;TZID=UTC:20231010T120000
DTSTAMP:20260422T093254
CREATED:20230416T220322Z
LAST-MODIFIED:20230416T220322Z
UID:2605-1696935600-1696939200@oasisbereavement.com
SUMMARY:Hospice Georgina - Creative Therapy
DESCRIPTION:
URL:https://oasisbereavement.com/event/hospice-georgina-creative-therapy-15-2/
END:VEVENT
BEGIN:VEVENT
DTSTART;TZID=UTC:20231006T100000
DTEND;TZID=UTC:20231006T113000
DTSTAMP:20260422T093254
CREATED:20230118T191032Z
LAST-MODIFIED:20230118T191032Z
UID:1927-1696586400-1696591800@oasisbereavement.com
SUMMARY:Hope Hospice - Virtual Weekly Drop-In Every Friday
DESCRIPTION:
URL:https://oasisbereavement.com/event/hope-hospice-virtual-weekly-drop-in-every-friday-10/
END:VEVENT
BEGIN:VEVENT
DTSTART;TZID=UTC:20231006T100000
DTEND;TZID=UTC:20231006T113000
DTSTAMP:20260422T093254
CREATED:20230118T191032Z
LAST-MODIFIED:20230118T191032Z
UID:2578-1696586400-1696591800@oasisbereavement.com
SUMMARY:Hope Hospice - Virtual Weekly Drop-In Every Friday
DESCRIPTION:
URL:https://oasisbereavement.com/event/hope-hospice-virtual-weekly-drop-in-every-friday-10-2/
END:VEVENT
BEGIN:VEVENT
DTSTART;TZID=UTC:20231003T193000
DTEND;TZID=UTC:20231003T210000
DTSTAMP:20260422T093254
CREATED:20230803T175919Z
LAST-MODIFIED:20230803T175919Z
UID:2615-1696361400-1696366800@oasisbereavement.com
SUMMARY:RTZ 6 Week Virtual Group Ending a Wanted Pregnancy (Birthing Parent)
DESCRIPTION:Who: Birthing parents who have made the difficult decision to terminate a pregnancy due to medical reasons\, including life-limiting or life-threatening fetal diagnoses and maternal health issues.\nDates: October 3-November 7\, 2023\nDay: Tuesdays\nTime: 4:30-6:00 pm PST/7:30-9:00 pm EST\nFacilitator: Jessica Van Wyen and Ryan Rose Weaver\nCost: $150 Pay Full Price\, $75 Pay What You Can\nUse coupons: PAYWHATYOUCAN for 50% off
URL:https://oasisbereavement.com/event/rtz-6-week-virtual-group-ending-a-wanted-pregnancy-birthing-parent-2/
END:VEVENT
BEGIN:VEVENT
DTSTART;TZID=UTC:20231003T193000
DTEND;TZID=UTC:20231003T210000
DTSTAMP:20260422T093254
CREATED:20230803T175919Z
LAST-MODIFIED:20230803T175919Z
UID:2146-1696361400-1696366800@oasisbereavement.com
SUMMARY:RTZ 6 Week Virtual Group Ending a Wanted Pregnancy (Birthing Parent)
DESCRIPTION:Who: Birthing parents who have made the difficult decision to terminate a pregnancy due to medical reasons\, including life-limiting or life-threatening fetal diagnoses and maternal health issues.\nDates: October 3-November 7\, 2023\nDay: Tuesdays\nTime: 4:30-6:00 pm PST/7:30-9:00 pm EST\nFacilitator: Jessica Van Wyen and Ryan Rose Weaver\nCost: $150 Pay Full Price\, $75 Pay What You Can\nUse coupons: PAYWHATYOUCAN for 50% off
URL:https://oasisbereavement.com/event/rtz-6-week-virtual-group-ending-a-wanted-pregnancy-birthing-parent/
END:VEVENT
BEGIN:VEVENT
DTSTART;TZID=UTC:20231003T130000
DTEND;TZID=UTC:20231003T153000
DTSTAMP:20260422T093254
CREATED:20230118T185736Z
LAST-MODIFIED:20230118T185736Z
UID:1903-1696338000-1696347000@oasisbereavement.com
SUMMARY:Hope Hospice Weekly Virtual Drop-in - Every Tuesday
DESCRIPTION:
URL:https://oasisbereavement.com/event/hope-hospice-weekly-virtual-drop-in-every-tuesday-10/
END:VEVENT
BEGIN:VEVENT
DTSTART;TZID=UTC:20231003T130000
DTEND;TZID=UTC:20231003T153000
DTSTAMP:20260422T093254
CREATED:20230118T185736Z
LAST-MODIFIED:20230118T185736Z
UID:2566-1696338000-1696347000@oasisbereavement.com
SUMMARY:Hope Hospice Weekly Virtual Drop-in - Every Tuesday
DESCRIPTION:
URL:https://oasisbereavement.com/event/hope-hospice-weekly-virtual-drop-in-every-tuesday-10-2/
END:VEVENT
BEGIN:VEVENT
DTSTART;TZID=UTC:20231002T203000
DTEND;TZID=UTC:20231002T220000
DTSTAMP:20260422T093254
CREATED:20230803T192044Z
LAST-MODIFIED:20230803T192044Z
UID:2619-1696278600-1696284000@oasisbereavement.com
SUMMARY:RTZ 6 Week Virtual Pregnancy and Infant Loss (Birthing Parent)
DESCRIPTION:9 hours @ $150.00\n\nBook\nWho: Birthing parents who experienced loss through infertility\, miscarriage\, stillbirth\, terminations for medical reasons\, or infant death\, whether more recently or in the past.\nDates: October 2-November 20 (No group on October 16th or 30th).\nDay: Mondays\nTime: 5:30pm – 7:00pm PST/ 8:30pm – 10:00pm EST\nFacilitator: Avril Klooster\nCost: $150 Pay Full Price\, $75 Pay What You Can\nUse coupons: PAYWHATYOUCAN for 50% off
URL:https://oasisbereavement.com/event/rtz-6-week-virtual-pregnancy-and-infant-loss-birthing-parent-2/
END:VEVENT
BEGIN:VEVENT
DTSTART;TZID=UTC:20231002T203000
DTEND;TZID=UTC:20231002T220000
DTSTAMP:20260422T093254
CREATED:20230803T192044Z
LAST-MODIFIED:20230803T192044Z
UID:2154-1696278600-1696284000@oasisbereavement.com
SUMMARY:RTZ 6 Week Virtual Pregnancy and Infant Loss (Birthing Parent)
DESCRIPTION:9 hours @ $150.00\n\nBook\nWho: Birthing parents who experienced loss through infertility\, miscarriage\, stillbirth\, terminations for medical reasons\, or infant death\, whether more recently or in the past.\nDates: October 2-November 20 (No group on October 16th or 30th).\nDay: Mondays\nTime: 5:30pm – 7:00pm PST/ 8:30pm – 10:00pm EST\nFacilitator: Avril Klooster\nCost: $150 Pay Full Price\, $75 Pay What You Can\nUse coupons: PAYWHATYOUCAN for 50% off
URL:https://oasisbereavement.com/event/rtz-6-week-virtual-pregnancy-and-infant-loss-birthing-parent/
END:VEVENT
BEGIN:VEVENT
DTSTART;TZID=UTC:20231001T190000
DTEND;TZID=UTC:20231001T203000
DTSTAMP:20260422T093254
CREATED:20230803T191538Z
LAST-MODIFIED:20230803T191538Z
UID:2148-1696186800-1696192200@oasisbereavement.com
SUMMARY:RTZ 6 Week Virtual Group Pregnancy and Infant Loss (Couples)
DESCRIPTION:Who: Couples (birthing parent + partner) who have experienced loss through infertility\, miscarriage\, stillbirth\, terminations for medical reasons\, or infant death\, whether more recently or in the past.\nDates: October 1-November 5\, 2023\nDay: Sundays\nTime: 4:00-5:30 pm PST/7:00-8:30 pm EST\nFacilitator: Jennifer Kaiton and Betsy Winter\nCost: $250 Pay Full Price\, $125 Pay What You Can\nUse coupons: PAYWHATYOUCAN for 50% off
URL:https://oasisbereavement.com/event/rtz-6-week-virtual-group-pregnancy-and-infant-loss-couples/
END:VEVENT
BEGIN:VEVENT
DTSTART;TZID=UTC:20231001T190000
DTEND;TZID=UTC:20231001T203000
DTSTAMP:20260422T093254
CREATED:20230803T191538Z
LAST-MODIFIED:20230803T191538Z
UID:2616-1696186800-1696192200@oasisbereavement.com
SUMMARY:RTZ 6 Week Virtual Group Pregnancy and Infant Loss (Couples)
DESCRIPTION:Who: Couples (birthing parent + partner) who have experienced loss through infertility\, miscarriage\, stillbirth\, terminations for medical reasons\, or infant death\, whether more recently or in the past.\nDates: October 1-November 5\, 2023\nDay: Sundays\nTime: 4:00-5:30 pm PST/7:00-8:30 pm EST\nFacilitator: Jennifer Kaiton and Betsy Winter\nCost: $250 Pay Full Price\, $125 Pay What You Can\nUse coupons: PAYWHATYOUCAN for 50% off
URL:https://oasisbereavement.com/event/rtz-6-week-virtual-group-pregnancy-and-infant-loss-couples-2/
END:VEVENT
BEGIN:VEVENT
DTSTART;TZID=UTC:20230927T190000
DTEND;TZID=UTC:20230927T200000
DTSTAMP:20260422T093254
CREATED:20230903T161618Z
LAST-MODIFIED:20230903T161618Z
UID:2176-1695841200-1695844800@oasisbereavement.com
SUMMARY:OASIS AGM
DESCRIPTION:
URL:https://oasisbereavement.com/event/oasis-agm-2/
END:VEVENT
BEGIN:VEVENT
DTSTART;TZID=UTC:20230927T190000
DTEND;TZID=UTC:20230927T200000
DTSTAMP:20260422T093254
CREATED:20230903T161618Z
LAST-MODIFIED:20230903T161618Z
UID:2621-1695841200-1695844800@oasisbereavement.com
SUMMARY:OASIS AGM
DESCRIPTION:
URL:https://oasisbereavement.com/event/oasis-agm-2-2/
END:VEVENT
BEGIN:VEVENT
DTSTART;TZID=UTC:20230924T133000
DTEND;TZID=UTC:20230924T153000
DTSTAMP:20260422T093254
CREATED:20230118T181738Z
LAST-MODIFIED:20230118T181738Z
UID:1865-1695562200-1695569400@oasisbereavement.com
SUMMARY:Evergreen Bridges of Hope - Monthly Drop In
DESCRIPTION:Drop in support group for adults on the fourth Sunday of every month starting at 1:30pm at 201-5762 Hwy 7 E\, Markham. Call for more information 416 499-2185 or email info@evgcares.org.
URL:https://oasisbereavement.com/event/evergreen-bridges-of-hope-monthly-drop-in-9/
END:VEVENT
BEGIN:VEVENT
DTSTART;TZID=UTC:20230924T133000
DTEND;TZID=UTC:20230924T153000
DTSTAMP:20260422T093254
CREATED:20230118T181738Z
LAST-MODIFIED:20230118T181738Z
UID:2548-1695562200-1695569400@oasisbereavement.com
SUMMARY:Evergreen Bridges of Hope - Monthly Drop In
DESCRIPTION:Drop in support group for adults on the fourth Sunday of every month starting at 1:30pm at 201-5762 Hwy 7 E\, Markham. Call for more information 416 499-2185 or email info@evgcares.org.
URL:https://oasisbereavement.com/event/evergreen-bridges-of-hope-monthly-drop-in-9-2/
END:VEVENT
BEGIN:VEVENT
DTSTART;TZID=UTC:20230919T110000
DTEND;TZID=UTC:20230919T120000
DTSTAMP:20260422T093254
CREATED:20230416T220232Z
LAST-MODIFIED:20230416T220232Z
UID:2080-1695121200-1695124800@oasisbereavement.com
SUMMARY:Hospice Georgina - Creative Therapy
DESCRIPTION:
URL:https://oasisbereavement.com/event/hospice-georgina-creative-therapy-14/
END:VEVENT
BEGIN:VEVENT
DTSTART;TZID=UTC:20230919T110000
DTEND;TZID=UTC:20230919T120000
DTSTAMP:20260422T093254
CREATED:20230416T220232Z
LAST-MODIFIED:20230416T220232Z
UID:2604-1695121200-1695124800@oasisbereavement.com
SUMMARY:Hospice Georgina - Creative Therapy
DESCRIPTION:
URL:https://oasisbereavement.com/event/hospice-georgina-creative-therapy-14-2/
END:VEVENT
BEGIN:VEVENT
DTSTART;TZID=UTC:20230918T150000
DTEND;TZID=UTC:20230918T163000
DTSTAMP:20260422T093254
CREATED:20230803T175426Z
LAST-MODIFIED:20230803T175426Z
UID:2142-1695049200-1695054600@oasisbereavement.com
SUMMARY:RTZ 6 Week Virtual Support Group Pregnancy After Loss (Birthing Parents)
DESCRIPTION:Who: Birthing parents who have experienced a prior loss and are currently navigating a pregnancy after loss.\nDates: September 18 – October 23 2023\nDay: Mondays\nTime: 12:00-1:30 pm PST/3:00-4:30 pm EST\nFacilitator: Jennifer Kaiton\nCost: $150 Pay Full Price\, $75 Pay What You Can\nUse coupons: PAYWHATYOUCAN for 50% off
URL:https://oasisbereavement.com/event/rtz-6-week-virtual-support-group-pregnancy-after-loss-birthing-parents/
END:VEVENT
BEGIN:VEVENT
DTSTART;TZID=UTC:20230918T150000
DTEND;TZID=UTC:20230918T163000
DTSTAMP:20260422T093254
CREATED:20230803T175426Z
LAST-MODIFIED:20230803T175426Z
UID:2613-1695049200-1695054600@oasisbereavement.com
SUMMARY:RTZ 6 Week Virtual Support Group Pregnancy After Loss (Birthing Parents)
DESCRIPTION:Who: Birthing parents who have experienced a prior loss and are currently navigating a pregnancy after loss.\nDates: September 18 – October 23 2023\nDay: Mondays\nTime: 12:00-1:30 pm PST/3:00-4:30 pm EST\nFacilitator: Jennifer Kaiton\nCost: $150 Pay Full Price\, $75 Pay What You Can\nUse coupons: PAYWHATYOUCAN for 50% off
URL:https://oasisbereavement.com/event/rtz-6-week-virtual-support-group-pregnancy-after-loss-birthing-parents-2/
END:VEVENT
BEGIN:VEVENT
DTSTART;TZID=UTC:20230913T200000
DTEND;TZID=UTC:20230913T213000
DTSTAMP:20260422T093254
CREATED:20230803T175622Z
LAST-MODIFIED:20230803T175622Z
UID:2144-1694635200-1694640600@oasisbereavement.com
SUMMARY:RTZ 6 Week Virtual Support Group Early Pregnancy Loss (Birthing Parent)
DESCRIPTION:Who: Birthing parents who have experienced early pregnancy loss (0-12 weeks) including: blighted ovum\, ectopic\, molar\, and chemical pregnancies\, missed miscarriage\, and miscarriage.\nDates: September 13-October 18\, 2023\nDay: Wednesdays\nTime: 5:00-6:30 pm PST/8:00-9:30 pm EST\nFacilitator: Jennifer Kaiton\nCost: $150 Pay Full Price\, $75 Pay What You Can\nUse coupons: PAYWHATYOUCAN for 50% off
URL:https://oasisbereavement.com/event/rtz-6-week-virtual-support-group-early-pregnancy-loss-birthing-parent/
END:VEVENT
BEGIN:VEVENT
DTSTART;TZID=UTC:20230913T200000
DTEND;TZID=UTC:20230913T213000
DTSTAMP:20260422T093254
CREATED:20230803T175622Z
LAST-MODIFIED:20230803T175622Z
UID:2614-1694635200-1694640600@oasisbereavement.com
SUMMARY:RTZ 6 Week Virtual Support Group Early Pregnancy Loss (Birthing Parent)
DESCRIPTION:Who: Birthing parents who have experienced early pregnancy loss (0-12 weeks) including: blighted ovum\, ectopic\, molar\, and chemical pregnancies\, missed miscarriage\, and miscarriage.\nDates: September 13-October 18\, 2023\nDay: Wednesdays\nTime: 5:00-6:30 pm PST/8:00-9:30 pm EST\nFacilitator: Jennifer Kaiton\nCost: $150 Pay Full Price\, $75 Pay What You Can\nUse coupons: PAYWHATYOUCAN for 50% off
URL:https://oasisbereavement.com/event/rtz-6-week-virtual-support-group-early-pregnancy-loss-birthing-parent-2/
END:VEVENT
BEGIN:VEVENT
DTSTART;TZID=UTC:20230912T190000
DTEND;TZID=UTC:20230912T200000
DTSTAMP:20260422T093254
CREATED:20230416T213702Z
LAST-MODIFIED:20230416T213702Z
UID:2049-1694545200-1694548800@oasisbereavement.com
SUMMARY:Northridge Grief Care - Weekly on Tuesdays
DESCRIPTION:
URL:https://oasisbereavement.com/event/northridge-grief-care-weekly-on-tuesdays-6/
END:VEVENT
BEGIN:VEVENT
DTSTART;TZID=UTC:20230912T190000
DTEND;TZID=UTC:20230912T200000
DTSTAMP:20260422T093254
CREATED:20230416T213702Z
LAST-MODIFIED:20230416T213702Z
UID:2589-1694545200-1694548800@oasisbereavement.com
SUMMARY:Northridge Grief Care - Weekly on Tuesdays
DESCRIPTION:
URL:https://oasisbereavement.com/event/northridge-grief-care-weekly-on-tuesdays-6-2/
END:VEVENT
BEGIN:VEVENT
DTSTART;TZID=UTC:20230912T110000
DTEND;TZID=UTC:20230912T120000
DTSTAMP:20260422T093254
CREATED:20230416T220138Z
LAST-MODIFIED:20230416T220138Z
UID:2603-1694516400-1694520000@oasisbereavement.com
SUMMARY:Hospice Georgina - Creative Therapy
DESCRIPTION:
URL:https://oasisbereavement.com/event/hospice-georgina-creative-therapy-13-2/
END:VEVENT
BEGIN:VEVENT
DTSTART;TZID=UTC:20230912T110000
DTEND;TZID=UTC:20230912T120000
DTSTAMP:20260422T093254
CREATED:20230416T220138Z
LAST-MODIFIED:20230416T220138Z
UID:2078-1694516400-1694520000@oasisbereavement.com
SUMMARY:Hospice Georgina - Creative Therapy
DESCRIPTION:
URL:https://oasisbereavement.com/event/hospice-georgina-creative-therapy-13/
END:VEVENT
BEGIN:VEVENT
DTSTART;TZID=UTC:20230910T130000
DTEND;TZID=UTC:20230910T143000
DTSTAMP:20260422T093254
CREATED:20230803T175215Z
LAST-MODIFIED:20230803T175215Z
UID:2140-1694350800-1694356200@oasisbereavement.com
SUMMARY:RTZ 6 Week Virtual Support BIPOC Pregnancy and Infant Loss (Birthing Parent)
DESCRIPTION:Who: Black\, Indigenous\, and other birthing parents of color who have experienced loss through infertility\, miscarriage\, stillbirth\, terminations for medical reasons\, or infant death\, whether more recently or in the past.\nDates: September 10-October 15\, 2023\nDay: Sundays\nTime: 10:00-11:30 am PST/ 1:00-2:30 pm EST\nFacilitator: Alishia Anderson and Domenique Rice\nCost: $150 pay full price\, $75 pay what you can\nUse code PAYWHATYOUCAN for 50% off
URL:https://oasisbereavement.com/event/rtz-6-week-virtual-support-bipoc-pregnancy-and-infant-loss-birthing-parent/
END:VEVENT
BEGIN:VEVENT
DTSTART;TZID=UTC:20230910T130000
DTEND;TZID=UTC:20230910T143000
DTSTAMP:20260422T093254
CREATED:20230803T175215Z
LAST-MODIFIED:20230803T175215Z
UID:2612-1694350800-1694356200@oasisbereavement.com
SUMMARY:RTZ 6 Week Virtual Support BIPOC Pregnancy and Infant Loss (Birthing Parent)
DESCRIPTION:Who: Black\, Indigenous\, and other birthing parents of color who have experienced loss through infertility\, miscarriage\, stillbirth\, terminations for medical reasons\, or infant death\, whether more recently or in the past.\nDates: September 10-October 15\, 2023\nDay: Sundays\nTime: 10:00-11:30 am PST/ 1:00-2:30 pm EST\nFacilitator: Alishia Anderson and Domenique Rice\nCost: $150 pay full price\, $75 pay what you can\nUse code PAYWHATYOUCAN for 50% off
URL:https://oasisbereavement.com/event/rtz-6-week-virtual-support-bipoc-pregnancy-and-infant-loss-birthing-parent-2/
END:VEVENT
BEGIN:VEVENT
DTSTART;TZID=UTC:20230905T130000
DTEND;TZID=UTC:20230905T153000
DTSTAMP:20260422T093254
CREATED:20230118T185633Z
LAST-MODIFIED:20230118T185633Z
UID:1901-1693918800-1693927800@oasisbereavement.com
SUMMARY:Hope Hospice Weekly Virtual Drop-in - Every Tuesday
DESCRIPTION:
URL:https://oasisbereavement.com/event/hope-hospice-weekly-virtual-drop-in-every-tuesday-9/
END:VEVENT
END:VCALENDAR