BEGIN:VCALENDAR
VERSION:2.0
PRODID:-//Oasis Bereavement - ECPv6.15.18//NONSGML v1.0//EN
CALSCALE:GREGORIAN
METHOD:PUBLISH
X-WR-CALNAME:Oasis Bereavement
X-ORIGINAL-URL:https://oasisbereavement.com
X-WR-CALDESC:Events for Oasis Bereavement
REFRESH-INTERVAL;VALUE=DURATION:PT1H
X-Robots-Tag:noindex
X-PUBLISHED-TTL:PT1H
BEGIN:VTIMEZONE
TZID:UTC
BEGIN:STANDARD
TZOFFSETFROM:+0000
TZOFFSETTO:+0000
TZNAME:UTC
DTSTART:20220101T000000
END:STANDARD
END:VTIMEZONE
BEGIN:VEVENT
DTSTART;TZID=UTC:20230723T133000
DTEND;TZID=UTC:20230723T153000
DTSTAMP:20260422T224606
CREATED:20230118T181503Z
LAST-MODIFIED:20230118T181503Z
UID:1861-1690119000-1690126200@oasisbereavement.com
SUMMARY:Evergreen Bridges of Hope - Monthly Drop In
DESCRIPTION:Drop in support group for adults on the fourth Sunday of every month starting at 1:30pm at 201-5762 Hwy 7 E\, Markham. Call for more information 416 499-2185 or email info@evgcares.org.
URL:https://oasisbereavement.com/event/evergreen-bridges-of-hope-monthly-drop-in-7/
END:VEVENT
BEGIN:VEVENT
DTSTART;TZID=UTC:20230723T133000
DTEND;TZID=UTC:20230723T153000
DTSTAMP:20260422T224606
CREATED:20230118T181503Z
LAST-MODIFIED:20230118T181503Z
UID:2546-1690119000-1690126200@oasisbereavement.com
SUMMARY:Evergreen Bridges of Hope - Monthly Drop In
DESCRIPTION:Drop in support group for adults on the fourth Sunday of every month starting at 1:30pm at 201-5762 Hwy 7 E\, Markham. Call for more information 416 499-2185 or email info@evgcares.org.
URL:https://oasisbereavement.com/event/evergreen-bridges-of-hope-monthly-drop-in-7-2/
END:VEVENT
BEGIN:VEVENT
DTSTART;TZID=UTC:20230718T110000
DTEND;TZID=UTC:20230718T120000
DTSTAMP:20260422T224606
CREATED:20230416T215824Z
LAST-MODIFIED:20230416T215824Z
UID:2072-1689678000-1689681600@oasisbereavement.com
SUMMARY:Hospice Georgina - Creative Therapy
DESCRIPTION:
URL:https://oasisbereavement.com/event/hospice-georgina-creative-therapy-10/
END:VEVENT
BEGIN:VEVENT
DTSTART;TZID=UTC:20230718T110000
DTEND;TZID=UTC:20230718T120000
DTSTAMP:20260422T224606
CREATED:20230416T215824Z
LAST-MODIFIED:20230416T215824Z
UID:2600-1689678000-1689681600@oasisbereavement.com
SUMMARY:Hospice Georgina - Creative Therapy
DESCRIPTION:
URL:https://oasisbereavement.com/event/hospice-georgina-creative-therapy-10-2/
END:VEVENT
BEGIN:VEVENT
DTSTART;TZID=UTC:20230711T190000
DTEND;TZID=UTC:20230711T200000
DTSTAMP:20260422T224606
CREATED:20230416T213509Z
LAST-MODIFIED:20230416T213509Z
UID:2587-1689102000-1689105600@oasisbereavement.com
SUMMARY:Northridge Grief Care- Weekly on Tuesdays
DESCRIPTION:
URL:https://oasisbereavement.com/event/northridge-grief-care-weekly-on-tuesdays-4-2/
END:VEVENT
BEGIN:VEVENT
DTSTART;TZID=UTC:20230711T190000
DTEND;TZID=UTC:20230711T200000
DTSTAMP:20260422T224606
CREATED:20230416T213509Z
LAST-MODIFIED:20230416T213509Z
UID:2045-1689102000-1689105600@oasisbereavement.com
SUMMARY:Northridge Grief Care- Weekly on Tuesdays
DESCRIPTION:
URL:https://oasisbereavement.com/event/northridge-grief-care-weekly-on-tuesdays-4/
END:VEVENT
BEGIN:VEVENT
DTSTART;TZID=UTC:20230711T110000
DTEND;TZID=UTC:20230711T120000
DTSTAMP:20260422T224606
CREATED:20230416T215731Z
LAST-MODIFIED:20230416T215731Z
UID:2599-1689073200-1689076800@oasisbereavement.com
SUMMARY:Hospice Georgina - Creative Therapy
DESCRIPTION:
URL:https://oasisbereavement.com/event/hospice-georgina-creative-therapy-9-2/
END:VEVENT
BEGIN:VEVENT
DTSTART;TZID=UTC:20230711T110000
DTEND;TZID=UTC:20230711T120000
DTSTAMP:20260422T224606
CREATED:20230416T215731Z
LAST-MODIFIED:20230416T215731Z
UID:2070-1689073200-1689076800@oasisbereavement.com
SUMMARY:Hospice Georgina - Creative Therapy
DESCRIPTION:
URL:https://oasisbereavement.com/event/hospice-georgina-creative-therapy-9/
END:VEVENT
BEGIN:VEVENT
DTSTART;TZID=UTC:20230707T100000
DTEND;TZID=UTC:20230707T113000
DTSTAMP:20260422T224606
CREATED:20230118T190754Z
LAST-MODIFIED:20230118T190754Z
UID:2575-1688724000-1688729400@oasisbereavement.com
SUMMARY:Hope Hospice - Virtual Weekly Drop-In Every Friday
DESCRIPTION:
URL:https://oasisbereavement.com/event/hope-hospice-virtual-weekly-drop-in-every-friday-7-2/
END:VEVENT
BEGIN:VEVENT
DTSTART;TZID=UTC:20230707T100000
DTEND;TZID=UTC:20230707T113000
DTSTAMP:20260422T224606
CREATED:20230118T190754Z
LAST-MODIFIED:20230118T190754Z
UID:1921-1688724000-1688729400@oasisbereavement.com
SUMMARY:Hope Hospice - Virtual Weekly Drop-In Every Friday
DESCRIPTION:
URL:https://oasisbereavement.com/event/hope-hospice-virtual-weekly-drop-in-every-friday-7/
END:VEVENT
BEGIN:VEVENT
DTSTART;TZID=UTC:20230704T130000
DTEND;TZID=UTC:20230704T153000
DTSTAMP:20260422T224606
CREATED:20230118T185433Z
LAST-MODIFIED:20230118T185433Z
UID:2563-1688475600-1688484600@oasisbereavement.com
SUMMARY:Hope Hospice Weekly Virtual Drop-in - Every Tuesday
DESCRIPTION:
URL:https://oasisbereavement.com/event/hope-hospice-weekly-virtual-drop-in-every-tuesday-7-2/
END:VEVENT
BEGIN:VEVENT
DTSTART;TZID=UTC:20230704T130000
DTEND;TZID=UTC:20230704T153000
DTSTAMP:20260422T224606
CREATED:20230118T185433Z
LAST-MODIFIED:20230118T185433Z
UID:1897-1688475600-1688484600@oasisbereavement.com
SUMMARY:Hope Hospice Weekly Virtual Drop-in - Every Tuesday
DESCRIPTION:
URL:https://oasisbereavement.com/event/hope-hospice-weekly-virtual-drop-in-every-tuesday-7/
END:VEVENT
BEGIN:VEVENT
DTSTART;TZID=UTC:20230625T133000
DTEND;TZID=UTC:20230625T153000
DTSTAMP:20260422T224606
CREATED:20230118T181318Z
LAST-MODIFIED:20230118T181318Z
UID:1859-1687699800-1687707000@oasisbereavement.com
SUMMARY:Evergreen Bridges of Hope - Monthly Drop In
DESCRIPTION:Drop in support group for adults on the fourth Sunday of every month starting at 1:30pm at 201-5762 Hwy 7 E\, Markham. Call for more information 416 499-2185 or email info@evgcares.org.
URL:https://oasisbereavement.com/event/evergreen-bridges-of-hope-monthly-drop-in-6/
END:VEVENT
BEGIN:VEVENT
DTSTART;TZID=UTC:20230625T133000
DTEND;TZID=UTC:20230625T153000
DTSTAMP:20260422T224606
CREATED:20230118T181318Z
LAST-MODIFIED:20230118T181318Z
UID:2545-1687699800-1687707000@oasisbereavement.com
SUMMARY:Evergreen Bridges of Hope - Monthly Drop In
DESCRIPTION:Drop in support group for adults on the fourth Sunday of every month starting at 1:30pm at 201-5762 Hwy 7 E\, Markham. Call for more information 416 499-2185 or email info@evgcares.org.
URL:https://oasisbereavement.com/event/evergreen-bridges-of-hope-monthly-drop-in-6-2/
END:VEVENT
BEGIN:VEVENT
DTSTART;TZID=UTC:20230621T180000
DTEND;TZID=UTC:20230621T200000
DTSTAMP:20260422T224606
CREATED:20230118T174708Z
LAST-MODIFIED:20230118T174708Z
UID:1835-1687370400-1687377600@oasisbereavement.com
SUMMARY:Death Cafe at Doane
DESCRIPTION:Come Join our Death Café at Doane!\nA Death Café is a group directed discussion of death with no agenda\, objectives or themes. Our objective is ‘to increase awareness of death with a view to helping people make the most of their (finite) lives’.\nSeveral Death Cafés dates are planned.\nDetails on poster. Registration required.
URL:https://oasisbereavement.com/event/death-cafe-at-doane/
LOCATION:Doane House Hospice\, 17100 Yonge Street\, Newmarket\, Ontario\, Canada
END:VEVENT
BEGIN:VEVENT
DTSTART;TZID=UTC:20230621T180000
DTEND;TZID=UTC:20230621T200000
DTSTAMP:20260422T224606
CREATED:20230118T174708Z
LAST-MODIFIED:20230118T174708Z
UID:2536-1687370400-1687377600@oasisbereavement.com
SUMMARY:Death Cafe at Doane
DESCRIPTION:Come Join our Death Café at Doane!\nA Death Café is a group directed discussion of death with no agenda\, objectives or themes. Our objective is ‘to increase awareness of death with a view to helping people make the most of their (finite) lives’.\nSeveral Death Cafés dates are planned.\nDetails on poster. Registration required.
URL:https://oasisbereavement.com/event/death-cafe-at-doane-3/
LOCATION:Doane House Hospice\, 17100 Yonge Street\, Newmarket\, Ontario\, Canada
END:VEVENT
BEGIN:VEVENT
DTSTART;TZID=UTC:20230613T190000
DTEND;TZID=UTC:20230613T200000
DTSTAMP:20260422T224606
CREATED:20230416T213415Z
LAST-MODIFIED:20230416T213415Z
UID:2043-1686682800-1686686400@oasisbereavement.com
SUMMARY:Northridge Grief Care - Weekly on Tuesdays
DESCRIPTION:
URL:https://oasisbereavement.com/event/northridge-grief-care-weekly-on-tuesdays-3/
END:VEVENT
BEGIN:VEVENT
DTSTART;TZID=UTC:20230613T190000
DTEND;TZID=UTC:20230613T200000
DTSTAMP:20260422T224606
CREATED:20230416T213415Z
LAST-MODIFIED:20230416T213415Z
UID:2586-1686682800-1686686400@oasisbereavement.com
SUMMARY:Northridge Grief Care - Weekly on Tuesdays
DESCRIPTION:
URL:https://oasisbereavement.com/event/northridge-grief-care-weekly-on-tuesdays-3-2/
END:VEVENT
BEGIN:VEVENT
DTSTART;TZID=UTC:20230613T110000
DTEND;TZID=UTC:20230613T120000
DTSTAMP:20260422T224606
CREATED:20230416T215523Z
LAST-MODIFIED:20230416T215523Z
UID:2066-1686654000-1686657600@oasisbereavement.com
SUMMARY:Hospice Georgina - Creative Therapy
DESCRIPTION:
URL:https://oasisbereavement.com/event/hospice-georgina-creative-therapy-7/
END:VEVENT
BEGIN:VEVENT
DTSTART;TZID=UTC:20230613T110000
DTEND;TZID=UTC:20230613T120000
DTSTAMP:20260422T224606
CREATED:20230416T215523Z
LAST-MODIFIED:20230416T215523Z
UID:2597-1686654000-1686657600@oasisbereavement.com
SUMMARY:Hospice Georgina - Creative Therapy
DESCRIPTION:
URL:https://oasisbereavement.com/event/hospice-georgina-creative-therapy-7-2/
END:VEVENT
BEGIN:VEVENT
DTSTART;TZID=UTC:20230606T130000
DTEND;TZID=UTC:20230606T153000
DTSTAMP:20260422T224606
CREATED:20230118T185318Z
LAST-MODIFIED:20230118T185318Z
UID:1895-1686056400-1686065400@oasisbereavement.com
SUMMARY:Hope Hospice Weekly Virtual Drop-in - Every Tuesday
DESCRIPTION:
URL:https://oasisbereavement.com/event/hope-hospice-weekly-virtual-drop-in-every-tuesday-6/
END:VEVENT
BEGIN:VEVENT
DTSTART;TZID=UTC:20230606T130000
DTEND;TZID=UTC:20230606T153000
DTSTAMP:20260422T224606
CREATED:20230118T185318Z
LAST-MODIFIED:20230118T185318Z
UID:2562-1686056400-1686065400@oasisbereavement.com
SUMMARY:Hope Hospice Weekly Virtual Drop-in - Every Tuesday
DESCRIPTION:
URL:https://oasisbereavement.com/event/hope-hospice-weekly-virtual-drop-in-every-tuesday-6-2/
END:VEVENT
BEGIN:VEVENT
DTSTART;TZID=UTC:20230602T100000
DTEND;TZID=UTC:20230602T113000
DTSTAMP:20260422T224606
CREATED:20230118T190633Z
LAST-MODIFIED:20230118T190633Z
UID:1919-1685700000-1685705400@oasisbereavement.com
SUMMARY:Hope Hospice - Virtual Weekly Drop-In Every Friday
DESCRIPTION:
URL:https://oasisbereavement.com/event/hope-hospice-virtual-weekly-drop-in-every-friday-6/
END:VEVENT
BEGIN:VEVENT
DTSTART;TZID=UTC:20230602T100000
DTEND;TZID=UTC:20230602T113000
DTSTAMP:20260422T224606
CREATED:20230118T190633Z
LAST-MODIFIED:20230118T190633Z
UID:2574-1685700000-1685705400@oasisbereavement.com
SUMMARY:Hope Hospice - Virtual Weekly Drop-In Every Friday
DESCRIPTION:
URL:https://oasisbereavement.com/event/hope-hospice-virtual-weekly-drop-in-every-friday-6-2/
END:VEVENT
BEGIN:VEVENT
DTSTART;TZID=UTC:20230530T190000
DTEND;TZID=UTC:20230530T203000
DTSTAMP:20260422T224606
CREATED:20230416T214555Z
LAST-MODIFIED:20230416T214555Z
UID:2057-1685473200-1685478600@oasisbereavement.com
SUMMARY:Hope House - Touchstone Bracelet Workshop for Grief and Loss
DESCRIPTION:
URL:https://oasisbereavement.com/event/hope-house-touchstone-bracelet-workshop-for-grief-and-loss/
END:VEVENT
BEGIN:VEVENT
DTSTART;TZID=UTC:20230530T190000
DTEND;TZID=UTC:20230530T203000
DTSTAMP:20260422T224606
CREATED:20230416T214555Z
LAST-MODIFIED:20230416T214555Z
UID:2593-1685473200-1685478600@oasisbereavement.com
SUMMARY:Hope House - Touchstone Bracelet Workshop for Grief and Loss
DESCRIPTION:
URL:https://oasisbereavement.com/event/hope-house-touchstone-bracelet-workshop-for-grief-and-loss-2/
END:VEVENT
BEGIN:VEVENT
DTSTART;TZID=UTC:20230528T133000
DTEND;TZID=UTC:20230528T153000
DTSTAMP:20260422T224606
CREATED:20230118T181201Z
LAST-MODIFIED:20230118T181201Z
UID:1857-1685280600-1685287800@oasisbereavement.com
SUMMARY:Evergreen Bridges of Hope - Monthly Drop In
DESCRIPTION:Drop in support group for adults on the fourth Sunday of every month starting at 1:30pm at 201-5762 Hwy 7 E\, Markham. Call for more information 416 499-2185 or email info@evgcares.org.
URL:https://oasisbereavement.com/event/evergreen-bridges-of-hope-monthly-drop-in-5/
END:VEVENT
BEGIN:VEVENT
DTSTART;TZID=UTC:20230528T133000
DTEND;TZID=UTC:20230528T153000
DTSTAMP:20260422T224606
CREATED:20230118T181201Z
LAST-MODIFIED:20230118T181201Z
UID:2544-1685280600-1685287800@oasisbereavement.com
SUMMARY:Evergreen Bridges of Hope - Monthly Drop In
DESCRIPTION:Drop in support group for adults on the fourth Sunday of every month starting at 1:30pm at 201-5762 Hwy 7 E\, Markham. Call for more information 416 499-2185 or email info@evgcares.org.
URL:https://oasisbereavement.com/event/evergreen-bridges-of-hope-monthly-drop-in-5-2/
END:VEVENT
BEGIN:VEVENT
DTSTART;TZID=UTC:20230516T110000
DTEND;TZID=UTC:20230516T120000
DTSTAMP:20260422T224606
CREATED:20230416T215620Z
LAST-MODIFIED:20230416T215620Z
UID:2068-1684234800-1684238400@oasisbereavement.com
SUMMARY:Hospice Georgina - Creative Therapy
DESCRIPTION:
URL:https://oasisbereavement.com/event/hospice-georgina-creative-therapy-8/
END:VEVENT
BEGIN:VEVENT
DTSTART;TZID=UTC:20230516T110000
DTEND;TZID=UTC:20230516T120000
DTSTAMP:20260422T224606
CREATED:20230416T215620Z
LAST-MODIFIED:20230416T215620Z
UID:2598-1684234800-1684238400@oasisbereavement.com
SUMMARY:Hospice Georgina - Creative Therapy
DESCRIPTION:
URL:https://oasisbereavement.com/event/hospice-georgina-creative-therapy-8-2/
END:VEVENT
END:VCALENDAR