BEGIN:VCALENDAR
VERSION:2.0
PRODID:-//Oasis Bereavement - ECPv6.15.18//NONSGML v1.0//EN
CALSCALE:GREGORIAN
METHOD:PUBLISH
X-WR-CALNAME:Oasis Bereavement
X-ORIGINAL-URL:https://oasisbereavement.com
X-WR-CALDESC:Events for Oasis Bereavement
REFRESH-INTERVAL;VALUE=DURATION:PT1H
X-Robots-Tag:noindex
X-PUBLISHED-TTL:PT1H
BEGIN:VTIMEZONE
TZID:UTC
BEGIN:STANDARD
TZOFFSETFROM:+0000
TZOFFSETTO:+0000
TZNAME:UTC
DTSTART:20210101T000000
END:STANDARD
END:VTIMEZONE
BEGIN:VEVENT
DTSTART;TZID=UTC:20220722T090000
DTEND;TZID=UTC:20220722T113000
DTSTAMP:20260425T120338
CREATED:20220331T170935Z
LAST-MODIFIED:20220331T170935Z
UID:2451-1658480400-1658489400@oasisbereavement.com
SUMMARY:Children's Grief Art Therapy 3-Day Camp Offered by Doane House Hospice
DESCRIPTION:Morning sessions are for Children ages 6-9: 9am-11:30am \nThere are three main art therapy activities for each day: 1) Feeling Flowers 2) Superheroes 3) Wish Kite \nFurther details on the poster.  Please Register by calling Doane House Hospice at 905-967-0259 or email: kvalkanas@myhospice.ca \n 
URL:https://oasisbereavement.com/event/childrens-grief-art-therapy-3-day-camp-offered-by-doane-house-hospice-5-2/
END:VEVENT
BEGIN:VEVENT
DTSTART;TZID=UTC:20220721T133000
DTEND;TZID=UTC:20220721T160000
DTSTAMP:20260425T120338
CREATED:20220331T170730Z
LAST-MODIFIED:20220331T171307Z
UID:1206-1658410200-1658419200@oasisbereavement.com
SUMMARY:Children's Grief Art Therapy 3-Day Camp Offered by Doane House Hospice
DESCRIPTION:Afternoon sessions are for Children ages 10-12: 1:30pm-4:00pm  \nThere are three main art therapy activities for each day: \n1) Feeling Flowers 2) Superheroes 3) Wish Kite \nFurther details on the poster.  Please Register by calling Doane House Hospice at 905-967-0259 or email: kvalkanas@myhospice.ca \n 
URL:https://oasisbereavement.com/event/childrens-grief-art-therapy-3-day-camp-offered-by-doane-house-hospice-4/
END:VEVENT
BEGIN:VEVENT
DTSTART;TZID=UTC:20220721T133000
DTEND;TZID=UTC:20220721T160000
DTSTAMP:20260425T120338
CREATED:20220331T170730Z
LAST-MODIFIED:20220331T170730Z
UID:2450-1658410200-1658419200@oasisbereavement.com
SUMMARY:Children's Grief Art Therapy 3-Day Camp Offered by Doane House Hospice
DESCRIPTION:Afternoon sessions are for Children ages 10-12: 1:30pm-4:00pm  \nThere are three main art therapy activities for each day: \n1) Feeling Flowers 2) Superheroes 3) Wish Kite \nFurther details on the poster.  Please Register by calling Doane House Hospice at 905-967-0259 or email: kvalkanas@myhospice.ca \n 
URL:https://oasisbereavement.com/event/childrens-grief-art-therapy-3-day-camp-offered-by-doane-house-hospice-4-2/
END:VEVENT
BEGIN:VEVENT
DTSTART;TZID=UTC:20220721T090000
DTEND;TZID=UTC:20220721T113000
DTSTAMP:20260425T120338
CREATED:20220331T170511Z
LAST-MODIFIED:20220331T170511Z
UID:2449-1658394000-1658403000@oasisbereavement.com
SUMMARY:Children's Grief Art Therapy 3-Day Camp Offered by Doane House Hospice
DESCRIPTION:Morning sessions are for Children ages 6-9: 9am-11:30am \nThere are three main art therapy activities for each day: \n1) Feeling Flowers 2) Superheroes 3) Wish Kite \nFurther details on the poster.  Please Register by calling Doane House Hospice at 905-967-0259 or email: kvalkanas@myhospice.ca \n 
URL:https://oasisbereavement.com/event/childrens-grief-art-therapy-3-day-camp-offered-by-doane-house-hospice-3-2/
END:VEVENT
BEGIN:VEVENT
DTSTART;TZID=UTC:20220721T090000
DTEND;TZID=UTC:20220721T113000
DTSTAMP:20260425T120338
CREATED:20220331T170511Z
LAST-MODIFIED:20220331T170511Z
UID:1204-1658394000-1658403000@oasisbereavement.com
SUMMARY:Children's Grief Art Therapy 3-Day Camp Offered by Doane House Hospice
DESCRIPTION:Morning sessions are for Children ages 6-9: 9am-11:30am \nThere are three main art therapy activities for each day: \n1) Feeling Flowers 2) Superheroes 3) Wish Kite \nFurther details on the poster.  Please Register by calling Doane House Hospice at 905-967-0259 or email: kvalkanas@myhospice.ca \n 
URL:https://oasisbereavement.com/event/childrens-grief-art-therapy-3-day-camp-offered-by-doane-house-hospice-3/
END:VEVENT
BEGIN:VEVENT
DTSTART;TZID=UTC:20220720T133000
DTEND;TZID=UTC:20220720T160000
DTSTAMP:20260425T120338
CREATED:20220331T170308Z
LAST-MODIFIED:20220331T171340Z
UID:1202-1658323800-1658332800@oasisbereavement.com
SUMMARY:Children's Grief Art Therapy 3-Day Camp Offered by Doane House Hospice
DESCRIPTION:Afternoon sessions are for Children ages 10-12: 1:30pm-4:00pm  \nThere are three main art therapy activities for each day: \n1) Feeling Flowers 2) Superheroes 3) Wish Kite \nFurther details on the poster.  Please Register by calling Doane House Hospice at 905-967-0259 or email: kvalkanas@myhospice.ca \n 
URL:https://oasisbereavement.com/event/childrens-grief-art-therapy-3-day-camp-offered-by-doane-house-hospice-2/
END:VEVENT
BEGIN:VEVENT
DTSTART;TZID=UTC:20220720T133000
DTEND;TZID=UTC:20220720T160000
DTSTAMP:20260425T120338
CREATED:20220331T170308Z
LAST-MODIFIED:20220331T170308Z
UID:2448-1658323800-1658332800@oasisbereavement.com
SUMMARY:Children's Grief Art Therapy 3-Day Camp Offered by Doane House Hospice
DESCRIPTION:Afternoon sessions are for Children ages 10-12: 1:30pm-4:00pm  \nThere are three main art therapy activities for each day: \n1) Feeling Flowers 2) Superheroes 3) Wish Kite \nFurther details on the poster.  Please Register by calling Doane House Hospice at 905-967-0259 or email: kvalkanas@myhospice.ca \n 
URL:https://oasisbereavement.com/event/childrens-grief-art-therapy-3-day-camp-offered-by-doane-house-hospice-2-2/
END:VEVENT
BEGIN:VEVENT
DTSTART;TZID=UTC:20220720T130000
DTEND;TZID=UTC:20220722T163000
DTSTAMP:20260425T120338
CREATED:20220617T222212Z
LAST-MODIFIED:20220617T222212Z
UID:1339-1658322000-1658507400@oasisbereavement.com
SUMMARY:Doane House Hospice 3 Day Art Camp - Age 10-12
DESCRIPTION:CHILDREN’S GRIEF ART THERAPY CAMP (Summer)\nDates: Wednesday\, July 20th\, Thursday\, July 21st and Friday\, July 22nd\, 2022\nMorning sessions are for Children ages 6-9: 9am-11:30am\nAfternoon sessions are for Children ages 10-12: 1pm-4:30pm\nThere are three main art therapy activities for each day: 1) Feeling Flowers 2) Superheroes 3) Wish Kite\nFurther details on the poster. \nPlease Register by calling Doane House Hospice at 905-967-0259 or email: kvalkanas@myhospice.ca
URL:https://oasisbereavement.com/event/doane-house-hospice-3-day-art-camp-age-10-12/
END:VEVENT
BEGIN:VEVENT
DTSTART;TZID=UTC:20220720T130000
DTEND;TZID=UTC:20220722T163000
DTSTAMP:20260425T120338
CREATED:20220617T222212Z
LAST-MODIFIED:20220617T222212Z
UID:2462-1658322000-1658507400@oasisbereavement.com
SUMMARY:Doane House Hospice 3 Day Art Camp - Age 10-12
DESCRIPTION:CHILDREN’S GRIEF ART THERAPY CAMP (Summer)\nDates: Wednesday\, July 20th\, Thursday\, July 21st and Friday\, July 22nd\, 2022\nMorning sessions are for Children ages 6-9: 9am-11:30am\nAfternoon sessions are for Children ages 10-12: 1pm-4:30pm\nThere are three main art therapy activities for each day: 1) Feeling Flowers 2) Superheroes 3) Wish Kite\nFurther details on the poster. \nPlease Register by calling Doane House Hospice at 905-967-0259 or email: kvalkanas@myhospice.ca
URL:https://oasisbereavement.com/event/doane-house-hospice-3-day-art-camp-age-10-12-2/
END:VEVENT
BEGIN:VEVENT
DTSTART;TZID=UTC:20220720T090000
DTEND;TZID=UTC:20220722T113000
DTSTAMP:20260425T120338
CREATED:20220617T222031Z
LAST-MODIFIED:20220617T222031Z
UID:2461-1658307600-1658489400@oasisbereavement.com
SUMMARY:Doane House Hospice 3 Day Art Camp - Age 6-9
DESCRIPTION:CHILDREN’S GRIEF ART THERAPY CAMP (Summer)\nDates: Wednesday\, July 20th\, Thursday\, July 21st and Friday\, July 22nd\, 2022\nMorning sessions are for Children ages 6-9: 9am-11:30am\nAfternoon sessions are for Children ages 10-12: 1pm-4:30pm\nThere are three main art therapy activities for each day: 1) Feeling Flowers 2) Superheroes 3) Wish Kite\nFurther details on the poster. \nPlease Register by calling Doane House Hospice at 905-967-0259 or email: kvalkanas@myhospice.ca
URL:https://oasisbereavement.com/event/doane-house-hospice-3-day-art-camp-age-6-9-2/
END:VEVENT
BEGIN:VEVENT
DTSTART;TZID=UTC:20220720T090000
DTEND;TZID=UTC:20220722T113000
DTSTAMP:20260425T120338
CREATED:20220617T222031Z
LAST-MODIFIED:20220617T222031Z
UID:1336-1658307600-1658489400@oasisbereavement.com
SUMMARY:Doane House Hospice 3 Day Art Camp - Age 6-9
DESCRIPTION:CHILDREN’S GRIEF ART THERAPY CAMP (Summer)\nDates: Wednesday\, July 20th\, Thursday\, July 21st and Friday\, July 22nd\, 2022\nMorning sessions are for Children ages 6-9: 9am-11:30am\nAfternoon sessions are for Children ages 10-12: 1pm-4:30pm\nThere are three main art therapy activities for each day: 1) Feeling Flowers 2) Superheroes 3) Wish Kite\nFurther details on the poster. \nPlease Register by calling Doane House Hospice at 905-967-0259 or email: kvalkanas@myhospice.ca
URL:https://oasisbereavement.com/event/doane-house-hospice-3-day-art-camp-age-6-9/
END:VEVENT
BEGIN:VEVENT
DTSTART;TZID=UTC:20220720T090000
DTEND;TZID=UTC:20220720T113000
DTSTAMP:20260425T120338
CREATED:20220331T170046Z
LAST-MODIFIED:20220331T170046Z
UID:1199-1658307600-1658316600@oasisbereavement.com
SUMMARY:Children's Grief Art Therapy 3-Day Camp Offered by Doane House Hospice
DESCRIPTION:AGES 6-9 in AM SESSIONS \nFurther details on the poster.  Please Register by calling Doane House Hospice at 905-967-0259 or email: kvalkanas@myhospice.ca \n 
URL:https://oasisbereavement.com/event/childrens-grief-art-therapy-3-day-camp-offered-by-doane-house-hospice/
END:VEVENT
BEGIN:VEVENT
DTSTART;TZID=UTC:20220720T090000
DTEND;TZID=UTC:20220720T113000
DTSTAMP:20260425T120338
CREATED:20220331T170046Z
LAST-MODIFIED:20220331T170046Z
UID:2447-1658307600-1658316600@oasisbereavement.com
SUMMARY:Children's Grief Art Therapy 3-Day Camp Offered by Doane House Hospice
DESCRIPTION:AGES 6-9 in AM SESSIONS \nFurther details on the poster.  Please Register by calling Doane House Hospice at 905-967-0259 or email: kvalkanas@myhospice.ca \n 
URL:https://oasisbereavement.com/event/childrens-grief-art-therapy-3-day-camp-offered-by-doane-house-hospice-7/
END:VEVENT
BEGIN:VEVENT
DTSTART;TZID=UTC:20220719T110000
DTEND;TZID=UTC:20220719T121500
DTSTAMP:20260425T120338
CREATED:20220621T224039Z
LAST-MODIFIED:20220621T224039Z
UID:1419-1658228400-1658232900@oasisbereavement.com
SUMMARY:Hospice Georgina Music\, Moves and Memories - 4 Weeks
DESCRIPTION:Music\, Moves\, & Memories\n\nTuesday\, July 19\, 2022\n11:00 AM  12:15 PM\n\n\n\n\n\n\n\nCombining dance and art to bring back feel good memories\, suitable for all fitness levels. \n4 Tuesday’s\, at 11am-12:15pm \nMay 31st\, June 21st\, July 19th\, August 16th \nRegister with Victoria: events@hospicegeorgina.com or 905-722-9333 x 5505
URL:https://oasisbereavement.com/event/hospice-georgina-music-moves-and-memories-4-weeks/
END:VEVENT
BEGIN:VEVENT
DTSTART;TZID=UTC:20220719T110000
DTEND;TZID=UTC:20220719T121500
DTSTAMP:20260425T120338
CREATED:20220621T224039Z
LAST-MODIFIED:20220621T224039Z
UID:2500-1658228400-1658232900@oasisbereavement.com
SUMMARY:Hospice Georgina Music\, Moves and Memories - 4 Weeks
DESCRIPTION:Music\, Moves\, & Memories\n\nTuesday\, July 19\, 2022\n11:00 AM  12:15 PM\n\n\n\n\n\n\n\nCombining dance and art to bring back feel good memories\, suitable for all fitness levels. \n4 Tuesday’s\, at 11am-12:15pm \nMay 31st\, June 21st\, July 19th\, August 16th \nRegister with Victoria: events@hospicegeorgina.com or 905-722-9333 x 5505
URL:https://oasisbereavement.com/event/hospice-georgina-music-moves-and-memories-4-weeks-3/
END:VEVENT
BEGIN:VEVENT
DTSTART;TZID=UTC:20220715T110000
DTEND;TZID=UTC:20220715T123000
DTSTAMP:20260425T120338
CREATED:20220617T222600Z
LAST-MODIFIED:20220617T222600Z
UID:1341-1657882800-1657888200@oasisbereavement.com
SUMMARY:Evergreen Connection Café  – Book Discussion Club
DESCRIPTION:The Evergreen Connection Café Book Discussion Club will meet the third Friday of every month from 11:00am to 12:30pm via Zoom. \nWe will discuss books that focus on self-care\, grief\, and other healthcare related topics. There will not be a specific book for everyone to read\, instead it will be more of a reference library for those interested in finding their next book and/or recommending and discussing one they have found to be helpful on their journey. \nAll Connection Café Clubs are here to help people looking for social activities and community events in addition to providing interest-based activities to those who attend. They are open to clients\,volunteers\, staff\, and community members – everyone! These clubs are not support groups – just a way to connect people. \nUpcoming Book Discussion Club Dates: \n\nJune 17th\, 2022 at 11:00 am\nJul 15\, 2022 at 11:00 am\nAug 19\, 2022 at 11:00 am\nSep 16\, 2022 at 11:00 am\nOct 21\, 2022 at 11:00 am\nNov 18\, 2022 at 11:00 am\n\nRegister with Zoom in advance for these events below. After registering\, you will receive a confirmation email containing information about joining the meeting. \nhttps://us06web.zoom.us/meeting/register/tZ0pcuqrrzwjHdavKhW6npDpsKvgVwRfkPQu
URL:https://oasisbereavement.com/event/evergreen-connection-cafe-book-discussion-club-4/
END:VEVENT
BEGIN:VEVENT
DTSTART;TZID=UTC:20220715T110000
DTEND;TZID=UTC:20220715T123000
DTSTAMP:20260425T120338
CREATED:20220617T222600Z
LAST-MODIFIED:20220617T222600Z
UID:2463-1657882800-1657888200@oasisbereavement.com
SUMMARY:Evergreen Connection Café  – Book Discussion Club
DESCRIPTION:The Evergreen Connection Café Book Discussion Club will meet the third Friday of every month from 11:00am to 12:30pm via Zoom. \nWe will discuss books that focus on self-care\, grief\, and other healthcare related topics. There will not be a specific book for everyone to read\, instead it will be more of a reference library for those interested in finding their next book and/or recommending and discussing one they have found to be helpful on their journey. \nAll Connection Café Clubs are here to help people looking for social activities and community events in addition to providing interest-based activities to those who attend. They are open to clients\,volunteers\, staff\, and community members – everyone! These clubs are not support groups – just a way to connect people. \nUpcoming Book Discussion Club Dates: \n\nJune 17th\, 2022 at 11:00 am\nJul 15\, 2022 at 11:00 am\nAug 19\, 2022 at 11:00 am\nSep 16\, 2022 at 11:00 am\nOct 21\, 2022 at 11:00 am\nNov 18\, 2022 at 11:00 am\n\nRegister with Zoom in advance for these events below. After registering\, you will receive a confirmation email containing information about joining the meeting. \nhttps://us06web.zoom.us/meeting/register/tZ0pcuqrrzwjHdavKhW6npDpsKvgVwRfkPQu
URL:https://oasisbereavement.com/event/evergreen-connection-cafe-book-discussion-club-4-2/
END:VEVENT
BEGIN:VEVENT
DTSTART;TZID=UTC:20220712T183000
DTEND;TZID=UTC:20220712T200000
DTSTAMP:20260425T120338
CREATED:20220617T225545Z
LAST-MODIFIED:20220617T225545Z
UID:1381-1657650600-1657656000@oasisbereavement.com
SUMMARY:Hope House Hospice Alternate Tuesdays - Adults 18-25
DESCRIPTION: 
URL:https://oasisbereavement.com/event/hope-house-hospice-alternate-tuesdays-adults-18-25/
END:VEVENT
BEGIN:VEVENT
DTSTART;TZID=UTC:20220712T183000
DTEND;TZID=UTC:20220712T200000
DTSTAMP:20260425T120338
CREATED:20220617T225545Z
LAST-MODIFIED:20220617T225545Z
UID:2482-1657650600-1657656000@oasisbereavement.com
SUMMARY:Hope House Hospice Alternate Tuesdays - Adults 18-25
DESCRIPTION: 
URL:https://oasisbereavement.com/event/hope-house-hospice-alternate-tuesdays-adults-18-25-7/
END:VEVENT
BEGIN:VEVENT
DTSTART;TZID=UTC:20220711T103000
DTEND;TZID=UTC:20220711T113000
DTSTAMP:20260425T120338
CREATED:20220621T223751Z
LAST-MODIFIED:20220621T223751Z
UID:1417-1657535400-1657539000@oasisbereavement.com
SUMMARY:Hospice Georgina Weekly Coffee Chats
DESCRIPTION:Coffee & Chats\n\nMonday\, July 11\, 2022\n10:30 AM  11:30 AM\n\n\n\n\n\n\n\nJoin us Monday mornings for a cup of coffee and an hour of socialization with our Volunteer and Client Coordinator and a member of Vaughan Community Health Centre. In this program we take a laid back approach of talking about life and wellbeing. \nThis is facilitated on Zoom and is done in partnership with the Vaughan Community Health Centre. \nPlease contact Victoria 905-722-9333 (ext. 5505) or events@hospicegeorgina.com
URL:https://oasisbereavement.com/event/hospice-georgina-weekly-coffee-chats/
END:VEVENT
BEGIN:VEVENT
DTSTART;TZID=UTC:20220711T103000
DTEND;TZID=UTC:20220711T113000
DTSTAMP:20260425T120338
CREATED:20220621T223751Z
LAST-MODIFIED:20220621T223751Z
UID:2499-1657535400-1657539000@oasisbereavement.com
SUMMARY:Hospice Georgina Weekly Coffee Chats
DESCRIPTION:Coffee & Chats\n\nMonday\, July 11\, 2022\n10:30 AM  11:30 AM\n\n\n\n\n\n\n\nJoin us Monday mornings for a cup of coffee and an hour of socialization with our Volunteer and Client Coordinator and a member of Vaughan Community Health Centre. In this program we take a laid back approach of talking about life and wellbeing. \nThis is facilitated on Zoom and is done in partnership with the Vaughan Community Health Centre. \nPlease contact Victoria 905-722-9333 (ext. 5505) or events@hospicegeorgina.com
URL:https://oasisbereavement.com/event/hospice-georgina-weekly-coffee-chats-2/
END:VEVENT
BEGIN:VEVENT
DTSTART;TZID=UTC:20220707T130000
DTEND;TZID=UTC:20220707T140000
DTSTAMP:20260425T120338
CREATED:20220621T223637Z
LAST-MODIFIED:20220621T223637Z
UID:1415-1657198800-1657202400@oasisbereavement.com
SUMMARY:Hospice Georgina Weekly Walking Group
DESCRIPTION:Walking Group\n\nThursday\, July 7\, 2022\n1:00 PM  2:00 PM\nHospice Georgina (map)\n\n\n\n\n\n\n\nJoin us on Thursday afternoon’s for an outdoor walking group\, where individuals are able to express their feelings and enjoy a light exercise. We will be walking around various trails and labyrinths\, while sometimes incorporating outdoor activities. \nWeather permitting. \nPlease register with Victoria: 905-722-9333 (ext. 5505)\, events@hospicegeorgina.com
URL:https://oasisbereavement.com/event/hospice-georgina-weekly-walking-group/
END:VEVENT
BEGIN:VEVENT
DTSTART;TZID=UTC:20220707T130000
DTEND;TZID=UTC:20220707T140000
DTSTAMP:20260425T120338
CREATED:20220621T223637Z
LAST-MODIFIED:20220621T223637Z
UID:2498-1657198800-1657202400@oasisbereavement.com
SUMMARY:Hospice Georgina Weekly Walking Group
DESCRIPTION:Walking Group\n\nThursday\, July 7\, 2022\n1:00 PM  2:00 PM\nHospice Georgina (map)\n\n\n\n\n\n\n\nJoin us on Thursday afternoon’s for an outdoor walking group\, where individuals are able to express their feelings and enjoy a light exercise. We will be walking around various trails and labyrinths\, while sometimes incorporating outdoor activities. \nWeather permitting. \nPlease register with Victoria: 905-722-9333 (ext. 5505)\, events@hospicegeorgina.com
URL:https://oasisbereavement.com/event/hospice-georgina-weekly-walking-group-2/
END:VEVENT
BEGIN:VEVENT
DTSTART;TZID=UTC:20220705T190000
DTEND;TZID=UTC:20220705T200000
DTSTAMP:20260425T120338
CREATED:20220621T223433Z
LAST-MODIFIED:20220621T223433Z
UID:2497-1657047600-1657051200@oasisbereavement.com
SUMMARY:Georgina Hospice Drop-In Grief Group
DESCRIPTION:Drop-In Grief Group\n\nTuesday\, July 5\, 2022\n7:00 PM  8:00 PM\nHospice Georgina (map)\n\n\n\n\n\n\n\nThis group is intended for those who are past the anniversary of their loss but are still grieving. This group will look to bring together those from different walks of grief\, to share their unique experience in a non-judgmental way. \nPlease contact Shannon at ccc@hospicegeorgina.com
URL:https://oasisbereavement.com/event/georgina-hospice-drop-in-grief-group-2/
END:VEVENT
BEGIN:VEVENT
DTSTART;TZID=UTC:20220705T190000
DTEND;TZID=UTC:20220705T200000
DTSTAMP:20260425T120338
CREATED:20220621T223433Z
LAST-MODIFIED:20220621T223433Z
UID:1413-1657047600-1657051200@oasisbereavement.com
SUMMARY:Georgina Hospice Drop-In Grief Group
DESCRIPTION:Drop-In Grief Group\n\nTuesday\, July 5\, 2022\n7:00 PM  8:00 PM\nHospice Georgina (map)\n\n\n\n\n\n\n\nThis group is intended for those who are past the anniversary of their loss but are still grieving. This group will look to bring together those from different walks of grief\, to share their unique experience in a non-judgmental way. \nPlease contact Shannon at ccc@hospicegeorgina.com
URL:https://oasisbereavement.com/event/georgina-hospice-drop-in-grief-group/
END:VEVENT
BEGIN:VEVENT
DTSTART;TZID=UTC:20220705T130000
DTEND;TZID=UTC:20220705T150000
DTSTAMP:20260425T120338
CREATED:20220617T223933Z
LAST-MODIFIED:20220617T223933Z
UID:1355-1657026000-1657033200@oasisbereavement.com
SUMMARY:Hope House Hospice Weekly Comfort Cafe
DESCRIPTION:  \n 
URL:https://oasisbereavement.com/event/hope-house-hospice-weekly-comfort-cafe/
END:VEVENT
BEGIN:VEVENT
DTSTART;TZID=UTC:20220705T130000
DTEND;TZID=UTC:20220705T150000
DTSTAMP:20260425T120338
CREATED:20220617T223933Z
LAST-MODIFIED:20220617T223933Z
UID:2470-1657026000-1657033200@oasisbereavement.com
SUMMARY:Hope House Hospice Weekly Comfort Cafe
DESCRIPTION:  \n 
URL:https://oasisbereavement.com/event/hope-house-hospice-weekly-comfort-cafe-7/
END:VEVENT
BEGIN:VEVENT
DTSTART;TZID=UTC:20220704T180000
DTEND;TZID=UTC:20220704T193000
DTSTAMP:20260425T120338
CREATED:20220617T230312Z
LAST-MODIFIED:20220617T230312Z
UID:1394-1656957600-1656963000@oasisbereavement.com
SUMMARY:Hope House Hospice Alternate Mondays - Relief Room - Teens 13-17
DESCRIPTION: 
URL:https://oasisbereavement.com/event/hope-house-hospice-alternate-mondays-relief-room-teens-13-17/
END:VEVENT
BEGIN:VEVENT
DTSTART;TZID=UTC:20220704T180000
DTEND;TZID=UTC:20220704T193000
DTSTAMP:20260425T120338
CREATED:20220617T230312Z
LAST-MODIFIED:20220617T230312Z
UID:2488-1656957600-1656963000@oasisbereavement.com
SUMMARY:Hope House Hospice Alternate Mondays - Relief Room - Teens 13-17
DESCRIPTION: 
URL:https://oasisbereavement.com/event/hope-house-hospice-alternate-mondays-relief-room-teens-13-17-7/
END:VEVENT
BEGIN:VEVENT
DTSTART;TZID=UTC:20220701T100000
DTEND;TZID=UTC:20220701T233000
DTSTAMP:20260425T120338
CREATED:20220617T224657Z
LAST-MODIFIED:20220617T224657Z
UID:1368-1656669600-1656718200@oasisbereavement.com
SUMMARY:Hope House Hospice Weekly Bereavement Bistro
DESCRIPTION:
URL:https://oasisbereavement.com/event/hope-house-hospice-weekly-bereavement-bistro/
END:VEVENT
END:VCALENDAR