BEGIN:VCALENDAR
VERSION:2.0
PRODID:-//Oasis Bereavement - ECPv6.15.18//NONSGML v1.0//EN
CALSCALE:GREGORIAN
METHOD:PUBLISH
X-WR-CALNAME:Oasis Bereavement
X-ORIGINAL-URL:https://oasisbereavement.com
X-WR-CALDESC:Events for Oasis Bereavement
REFRESH-INTERVAL;VALUE=DURATION:PT1H
X-Robots-Tag:noindex
X-PUBLISHED-TTL:PT1H
BEGIN:VTIMEZONE
TZID:UTC
BEGIN:STANDARD
TZOFFSETFROM:+0000
TZOFFSETTO:+0000
TZNAME:UTC
DTSTART:20210101T000000
END:STANDARD
END:VTIMEZONE
BEGIN:VEVENT
DTSTART;TZID=UTC:20221206T130000
DTEND;TZID=UTC:20221206T150000
DTSTAMP:20260423T101434
CREATED:20220617T224425Z
LAST-MODIFIED:20220617T224425Z
UID:1366-1670331600-1670338800@oasisbereavement.com
SUMMARY:Hope House Hospice Weekly Comfort Cafe
DESCRIPTION:
URL:https://oasisbereavement.com/event/hope-house-hospice-weekly-comfort-cafe-6/
END:VEVENT
BEGIN:VEVENT
DTSTART;TZID=UTC:20221205T180000
DTEND;TZID=UTC:20221205T193000
DTSTAMP:20260423T101434
CREATED:20220617T230718Z
LAST-MODIFIED:20220617T230718Z
UID:1405-1670263200-1670268600@oasisbereavement.com
SUMMARY:Hope House Hospice Alternate Mondays - Relief Room - Teens 13-17
DESCRIPTION:
URL:https://oasisbereavement.com/event/hope-house-hospice-alternate-mondays-relief-room-teens-13-17-6/
END:VEVENT
BEGIN:VEVENT
DTSTART;TZID=UTC:20221205T180000
DTEND;TZID=UTC:20221205T193000
DTSTAMP:20260423T101434
CREATED:20220617T230718Z
LAST-MODIFIED:20220617T230718Z
UID:2493-1670263200-1670268600@oasisbereavement.com
SUMMARY:Hope House Hospice Alternate Mondays - Relief Room - Teens 13-17
DESCRIPTION:
URL:https://oasisbereavement.com/event/hope-house-hospice-alternate-mondays-relief-room-teens-13-17-6-2/
END:VEVENT
BEGIN:VEVENT
DTSTART;TZID=UTC:20221202T100000
DTEND;TZID=UTC:20221202T113000
DTSTAMP:20260423T101434
CREATED:20220617T225216Z
LAST-MODIFIED:20220617T225216Z
UID:1379-1669975200-1669980600@oasisbereavement.com
SUMMARY:Hope House Hospice Weekly Bereavement Bistro
DESCRIPTION:
URL:https://oasisbereavement.com/event/hope-house-hospice-weekly-bereavement-bistro-6/
END:VEVENT
BEGIN:VEVENT
DTSTART;TZID=UTC:20221202T100000
DTEND;TZID=UTC:20221202T113000
DTSTAMP:20260423T101434
CREATED:20220617T225216Z
LAST-MODIFIED:20220617T225216Z
UID:2481-1669975200-1669980600@oasisbereavement.com
SUMMARY:Hope House Hospice Weekly Bereavement Bistro
DESCRIPTION:
URL:https://oasisbereavement.com/event/hope-house-hospice-weekly-bereavement-bistro-6-2/
END:VEVENT
BEGIN:VEVENT
DTSTART;TZID=UTC:20221127T140000
DTEND;TZID=UTC:20221127T160000
DTSTAMP:20260423T101434
CREATED:20220617T221532Z
LAST-MODIFIED:20220617T221532Z
UID:1334-1669557600-1669564800@oasisbereavement.com
SUMMARY:Doane House Hospice: Death Cafe
DESCRIPTION:A Death Café is a group directed discussion of death with no agenda\, objectives or themes. Our objective is ‘to increase awareness of death with a view to helping people make the most of their (finite) lives’. Several Death Cafés dates are planned.
URL:https://oasisbereavement.com/event/doane-house-hospice-death-cafe-2/
END:VEVENT
BEGIN:VEVENT
DTSTART;TZID=UTC:20221127T140000
DTEND;TZID=UTC:20221127T160000
DTSTAMP:20260423T101434
CREATED:20220617T221532Z
LAST-MODIFIED:20220617T221532Z
UID:2460-1669557600-1669564800@oasisbereavement.com
SUMMARY:Doane House Hospice: Death Cafe
DESCRIPTION:A Death Café is a group directed discussion of death with no agenda\, objectives or themes. Our objective is ‘to increase awareness of death with a view to helping people make the most of their (finite) lives’. Several Death Cafés dates are planned.
URL:https://oasisbereavement.com/event/doane-house-hospice-death-cafe-2-2/
END:VEVENT
BEGIN:VEVENT
DTSTART;TZID=UTC:20221118T110000
DTEND;TZID=UTC:20221118T123000
DTSTAMP:20260423T101434
CREATED:20220617T223109Z
LAST-MODIFIED:20220617T223109Z
UID:2467-1668769200-1668774600@oasisbereavement.com
SUMMARY:Evergreen Connection Café  – Book Discussion Club
DESCRIPTION:The Evergreen Connection Café Book Discussion Club will meet the third Friday of every month from 11:00am to 12:30pm via Zoom. \nWe will discuss books that focus on self-care\, grief\, and other healthcare related topics. There will not be a specific book for everyone to read\, instead it will be more of a reference library for those interested in finding their next book and/or recommending and discussing one they have found to be helpful on their journey. \nAll Connection Café Clubs are here to help people looking for social activities and community events in addition to providing interest-based activities to those who attend. They are open to clients\,volunteers\, staff\, and community members – everyone! These clubs are not support groups – just a way to connect people. \nUpcoming Book Discussion Club Dates: \n\nJune 17th\, 2022 at 11:00 am\nJul 15\, 2022 at 11:00 am\nAug 19\, 2022 at 11:00 am\nSep 16\, 2022 at 11:00 am\nOct 21\, 2022 at 11:00 am\nNov 18\, 2022 at 11:00 am\n\nRegister with Zoom in advance for these events below. After registering\, you will receive a confirmation email containing information about joining the meeting. \nhttps://us06web.zoom.us/meeting/register/tZ0pcuqrrzwjHdavKhW6npDpsKvgVwRfkPQu
URL:https://oasisbereavement.com/event/evergreen-connection-cafe-book-discussion-club-8-2/
END:VEVENT
BEGIN:VEVENT
DTSTART;TZID=UTC:20221118T110000
DTEND;TZID=UTC:20221118T123000
DTSTAMP:20260423T101434
CREATED:20220617T223109Z
LAST-MODIFIED:20220617T223109Z
UID:1349-1668769200-1668774600@oasisbereavement.com
SUMMARY:Evergreen Connection Café  – Book Discussion Club
DESCRIPTION:The Evergreen Connection Café Book Discussion Club will meet the third Friday of every month from 11:00am to 12:30pm via Zoom. \nWe will discuss books that focus on self-care\, grief\, and other healthcare related topics. There will not be a specific book for everyone to read\, instead it will be more of a reference library for those interested in finding their next book and/or recommending and discussing one they have found to be helpful on their journey. \nAll Connection Café Clubs are here to help people looking for social activities and community events in addition to providing interest-based activities to those who attend. They are open to clients\,volunteers\, staff\, and community members – everyone! These clubs are not support groups – just a way to connect people. \nUpcoming Book Discussion Club Dates: \n\nJune 17th\, 2022 at 11:00 am\nJul 15\, 2022 at 11:00 am\nAug 19\, 2022 at 11:00 am\nSep 16\, 2022 at 11:00 am\nOct 21\, 2022 at 11:00 am\nNov 18\, 2022 at 11:00 am\n\nRegister with Zoom in advance for these events below. After registering\, you will receive a confirmation email containing information about joining the meeting. \nhttps://us06web.zoom.us/meeting/register/tZ0pcuqrrzwjHdavKhW6npDpsKvgVwRfkPQu
URL:https://oasisbereavement.com/event/evergreen-connection-cafe-book-discussion-club-8/
END:VEVENT
BEGIN:VEVENT
DTSTART;TZID=UTC:20221108T183000
DTEND;TZID=UTC:20221108T200000
DTSTAMP:20260423T101434
CREATED:20220617T225935Z
LAST-MODIFIED:20220617T225935Z
UID:1390-1667932200-1667937600@oasisbereavement.com
SUMMARY:Hope House Hospice Alternate Tuesdays - Adults 18-25
DESCRIPTION:
URL:https://oasisbereavement.com/event/hope-house-hospice-alternate-tuesdays-adults-18-25-5/
END:VEVENT
BEGIN:VEVENT
DTSTART;TZID=UTC:20221108T183000
DTEND;TZID=UTC:20221108T200000
DTSTAMP:20260423T101434
CREATED:20220617T225935Z
LAST-MODIFIED:20220617T225935Z
UID:2486-1667932200-1667937600@oasisbereavement.com
SUMMARY:Hope House Hospice Alternate Tuesdays - Adults 18-25
DESCRIPTION:
URL:https://oasisbereavement.com/event/hope-house-hospice-alternate-tuesdays-adults-18-25-5-2/
END:VEVENT
BEGIN:VEVENT
DTSTART;TZID=UTC:20221107T180000
DTEND;TZID=UTC:20221107T193000
DTSTAMP:20260423T101434
CREATED:20220617T230621Z
LAST-MODIFIED:20220617T230621Z
UID:1403-1667844000-1667849400@oasisbereavement.com
SUMMARY:Hope House Hospice Alternate Mondays - Relief Room - Teens 13-17
DESCRIPTION:
URL:https://oasisbereavement.com/event/hope-house-hospice-alternate-mondays-relief-room-teens-13-17-5/
END:VEVENT
BEGIN:VEVENT
DTSTART;TZID=UTC:20221107T180000
DTEND;TZID=UTC:20221107T193000
DTSTAMP:20260423T101434
CREATED:20220617T230621Z
LAST-MODIFIED:20220617T230621Z
UID:2492-1667844000-1667849400@oasisbereavement.com
SUMMARY:Hope House Hospice Alternate Mondays - Relief Room - Teens 13-17
DESCRIPTION:
URL:https://oasisbereavement.com/event/hope-house-hospice-alternate-mondays-relief-room-teens-13-17-5-2/
END:VEVENT
BEGIN:VEVENT
DTSTART;TZID=UTC:20221104T100000
DTEND;TZID=UTC:20221104T233000
DTSTAMP:20260423T101434
CREATED:20220617T225116Z
LAST-MODIFIED:20220617T225116Z
UID:1377-1667556000-1667604600@oasisbereavement.com
SUMMARY:Hope House Hospice Weekly Bereavement Bistro
DESCRIPTION:
URL:https://oasisbereavement.com/event/hope-house-hospice-weekly-bereavement-bistro-5/
END:VEVENT
BEGIN:VEVENT
DTSTART;TZID=UTC:20221104T100000
DTEND;TZID=UTC:20221104T233000
DTSTAMP:20260423T101434
CREATED:20220617T225116Z
LAST-MODIFIED:20220617T225116Z
UID:2480-1667556000-1667604600@oasisbereavement.com
SUMMARY:Hope House Hospice Weekly Bereavement Bistro
DESCRIPTION:
URL:https://oasisbereavement.com/event/hope-house-hospice-weekly-bereavement-bistro-5-2/
END:VEVENT
BEGIN:VEVENT
DTSTART;TZID=UTC:20221101T130000
DTEND;TZID=UTC:20221101T150000
DTSTAMP:20260423T101434
CREATED:20220617T224332Z
LAST-MODIFIED:20220617T224332Z
UID:1364-1667307600-1667314800@oasisbereavement.com
SUMMARY:Hope House Hospice Weekly Comfort Cafe
DESCRIPTION:
URL:https://oasisbereavement.com/event/hope-house-hospice-weekly-comfort-cafe-5/
END:VEVENT
BEGIN:VEVENT
DTSTART;TZID=UTC:20221101T130000
DTEND;TZID=UTC:20221101T150000
DTSTAMP:20260423T101434
CREATED:20220617T224332Z
LAST-MODIFIED:20220617T224332Z
UID:2474-1667307600-1667314800@oasisbereavement.com
SUMMARY:Hope House Hospice Weekly Comfort Cafe
DESCRIPTION:
URL:https://oasisbereavement.com/event/hope-house-hospice-weekly-comfort-cafe-5-2/
END:VEVENT
BEGIN:VEVENT
DTSTART;VALUE=DATE:20221101
DTEND;VALUE=DATE:20221102
DTSTAMP:20260423T101434
CREATED:20220617T223355Z
LAST-MODIFIED:20220617T223355Z
UID:1353-1667260800-1667347199@oasisbereavement.com
SUMMARY:Evergreen Memorial Pumpkin Parade
DESCRIPTION:Memorial Pumpkin Parade\nTuesday\, November 1\, 2022\nAnyone in our communities can bring a carved pumpkin to Morgan Park to light in honour of their loved ones. \nMore details coming soon.
URL:https://oasisbereavement.com/event/evergreen-memorial-pumpkin-parade/
END:VEVENT
BEGIN:VEVENT
DTSTART;VALUE=DATE:20221101
DTEND;VALUE=DATE:20221102
DTSTAMP:20260423T101434
CREATED:20220617T223355Z
LAST-MODIFIED:20220617T223355Z
UID:2469-1667260800-1667347199@oasisbereavement.com
SUMMARY:Evergreen Memorial Pumpkin Parade
DESCRIPTION:Memorial Pumpkin Parade\nTuesday\, November 1\, 2022\nAnyone in our communities can bring a carved pumpkin to Morgan Park to light in honour of their loved ones. \nMore details coming soon.
URL:https://oasisbereavement.com/event/evergreen-memorial-pumpkin-parade-2/
END:VEVENT
BEGIN:VEVENT
DTSTART;TZID=UTC:20221021T110000
DTEND;TZID=UTC:20221021T123000
DTSTAMP:20260423T101434
CREATED:20220617T222959Z
LAST-MODIFIED:20220617T222959Z
UID:1347-1666350000-1666355400@oasisbereavement.com
SUMMARY:Evergreen Connection Café  – Book Discussion Club
DESCRIPTION:The Evergreen Connection Café Book Discussion Club will meet the third Friday of every month from 11:00am to 12:30pm via Zoom. \nWe will discuss books that focus on self-care\, grief\, and other healthcare related topics. There will not be a specific book for everyone to read\, instead it will be more of a reference library for those interested in finding their next book and/or recommending and discussing one they have found to be helpful on their journey. \nAll Connection Café Clubs are here to help people looking for social activities and community events in addition to providing interest-based activities to those who attend. They are open to clients\,volunteers\, staff\, and community members – everyone! These clubs are not support groups – just a way to connect people. \nUpcoming Book Discussion Club Dates: \n\nJune 17th\, 2022 at 11:00 am\nJul 15\, 2022 at 11:00 am\nAug 19\, 2022 at 11:00 am\nSep 16\, 2022 at 11:00 am\nOct 21\, 2022 at 11:00 am\nNov 18\, 2022 at 11:00 am\n\nRegister with Zoom in advance for these events below. After registering\, you will receive a confirmation email containing information about joining the meeting. \nhttps://us06web.zoom.us/meeting/register/tZ0pcuqrrzwjHdavKhW6npDpsKvgVwRfkPQu
URL:https://oasisbereavement.com/event/evergreen-connection-cafe-book-discussion-club-7/
END:VEVENT
BEGIN:VEVENT
DTSTART;TZID=UTC:20221021T110000
DTEND;TZID=UTC:20221021T123000
DTSTAMP:20260423T101434
CREATED:20220617T222959Z
LAST-MODIFIED:20220617T222959Z
UID:2466-1666350000-1666355400@oasisbereavement.com
SUMMARY:Evergreen Connection Café  – Book Discussion Club
DESCRIPTION:The Evergreen Connection Café Book Discussion Club will meet the third Friday of every month from 11:00am to 12:30pm via Zoom. \nWe will discuss books that focus on self-care\, grief\, and other healthcare related topics. There will not be a specific book for everyone to read\, instead it will be more of a reference library for those interested in finding their next book and/or recommending and discussing one they have found to be helpful on their journey. \nAll Connection Café Clubs are here to help people looking for social activities and community events in addition to providing interest-based activities to those who attend. They are open to clients\,volunteers\, staff\, and community members – everyone! These clubs are not support groups – just a way to connect people. \nUpcoming Book Discussion Club Dates: \n\nJune 17th\, 2022 at 11:00 am\nJul 15\, 2022 at 11:00 am\nAug 19\, 2022 at 11:00 am\nSep 16\, 2022 at 11:00 am\nOct 21\, 2022 at 11:00 am\nNov 18\, 2022 at 11:00 am\n\nRegister with Zoom in advance for these events below. After registering\, you will receive a confirmation email containing information about joining the meeting. \nhttps://us06web.zoom.us/meeting/register/tZ0pcuqrrzwjHdavKhW6npDpsKvgVwRfkPQu
URL:https://oasisbereavement.com/event/evergreen-connection-cafe-book-discussion-club-7-2/
END:VEVENT
BEGIN:VEVENT
DTSTART;VALUE=DATE:20221012
DTEND;VALUE=DATE:20221013
DTSTAMP:20260423T101434
CREATED:20220815T203314Z
LAST-MODIFIED:20220815T203314Z
UID:1782-1665532800-1665619199@oasisbereavement.com
SUMMARY:Palcare - Bringing Peace to the Dying
DESCRIPTION:October 12th – Bringing Peace to the Dying (Planned for In person) \n\n\n\nPalCare has been busy putting together the fall workshops and so we are starting off with September/ October sessions. \nTraining for PWS’s also available\, support in Palliative Care as well as Grief and Bereavement\, PSW Training | palcare (mypalcare.org) or email me for more information. \n 
URL:https://oasisbereavement.com/event/palcare-bringing-peace-to-the-dying/
END:VEVENT
BEGIN:VEVENT
DTSTART;VALUE=DATE:20221012
DTEND;VALUE=DATE:20221013
DTSTAMP:20260423T101434
CREATED:20220815T203314Z
LAST-MODIFIED:20220815T203314Z
UID:2518-1665532800-1665619199@oasisbereavement.com
SUMMARY:Palcare - Bringing Peace to the Dying
DESCRIPTION:October 12th – Bringing Peace to the Dying (Planned for In person) \n\n\n\nPalCare has been busy putting together the fall workshops and so we are starting off with September/ October sessions. \nTraining for PWS’s also available\, support in Palliative Care as well as Grief and Bereavement\, PSW Training | palcare (mypalcare.org) or email me for more information. \n 
URL:https://oasisbereavement.com/event/palcare-bringing-peace-to-the-dying-2/
END:VEVENT
BEGIN:VEVENT
DTSTART;TZID=UTC:20221011T183000
DTEND;TZID=UTC:20221011T200000
DTSTAMP:20260423T101434
CREATED:20220617T225845Z
LAST-MODIFIED:20220617T225845Z
UID:1388-1665513000-1665518400@oasisbereavement.com
SUMMARY:Hope House Hospice Alternate Tuesdays - Adults 18-25
DESCRIPTION:
URL:https://oasisbereavement.com/event/hope-house-hospice-alternate-tuesdays-adults-18-25-4/
END:VEVENT
BEGIN:VEVENT
DTSTART;TZID=UTC:20221011T183000
DTEND;TZID=UTC:20221011T200000
DTSTAMP:20260423T101434
CREATED:20220617T225845Z
LAST-MODIFIED:20220617T225845Z
UID:2485-1665513000-1665518400@oasisbereavement.com
SUMMARY:Hope House Hospice Alternate Tuesdays - Adults 18-25
DESCRIPTION:
URL:https://oasisbereavement.com/event/hope-house-hospice-alternate-tuesdays-adults-18-25-4-2/
END:VEVENT
BEGIN:VEVENT
DTSTART;TZID=UTC:20221010T193000
DTEND;TZID=UTC:20221010T210000
DTSTAMP:20260423T101434
CREATED:20220815T201844Z
LAST-MODIFIED:20220815T201844Z
UID:1770-1665430200-1665435600@oasisbereavement.com
SUMMARY:RTZ - Writing Through Grief - Virtual Workshop - Poetry - 3 Sessions
DESCRIPTION:Poetry: A Kind Friend in Grief \n 6 hours @ $75.00 \nWho: Birthing parents and non-birthing parents who have experienced any form of loss more recently or in the past.\nDate: October 10\, 17 & 24\, 2022\nDay: Monday\nTime: 4:30-6:00pm PST/7:30-9:00pm EST\nFacilitator: Molly Bolton\nCost: $75\nIn this three session workshop\, through guided group reflection and journal prompts\, you will learn how to soulfully engage poetry as a source of consolation in sorrow. Participants need not consider themselves a writer to participate in this group.
URL:https://oasisbereavement.com/event/rtz-writing-through-grief-virtual-workshop-poetry-3-sessions/
END:VEVENT
BEGIN:VEVENT
DTSTART;TZID=UTC:20221010T193000
DTEND;TZID=UTC:20221010T210000
DTSTAMP:20260423T101434
CREATED:20220815T201844Z
LAST-MODIFIED:20220815T201844Z
UID:2512-1665430200-1665435600@oasisbereavement.com
SUMMARY:RTZ - Writing Through Grief - Virtual Workshop - Poetry - 3 Sessions
DESCRIPTION:Poetry: A Kind Friend in Grief \n 6 hours @ $75.00 \nWho: Birthing parents and non-birthing parents who have experienced any form of loss more recently or in the past.\nDate: October 10\, 17 & 24\, 2022\nDay: Monday\nTime: 4:30-6:00pm PST/7:30-9:00pm EST\nFacilitator: Molly Bolton\nCost: $75\nIn this three session workshop\, through guided group reflection and journal prompts\, you will learn how to soulfully engage poetry as a source of consolation in sorrow. Participants need not consider themselves a writer to participate in this group.
URL:https://oasisbereavement.com/event/rtz-writing-through-grief-virtual-workshop-poetry-3-sessions-2/
END:VEVENT
BEGIN:VEVENT
DTSTART;TZID=UTC:20221007T100000
DTEND;TZID=UTC:20221007T113000
DTSTAMP:20260423T101434
CREATED:20220617T225017Z
LAST-MODIFIED:20220617T225017Z
UID:2479-1665136800-1665142200@oasisbereavement.com
SUMMARY:Hope House Hospice Weekly Bereavement Bistro
DESCRIPTION: 
URL:https://oasisbereavement.com/event/hope-house-hospice-weekly-bereavement-bistro-4-2/
END:VEVENT
BEGIN:VEVENT
DTSTART;TZID=UTC:20221007T100000
DTEND;TZID=UTC:20221007T113000
DTSTAMP:20260423T101434
CREATED:20220617T225017Z
LAST-MODIFIED:20220617T225017Z
UID:1375-1665136800-1665142200@oasisbereavement.com
SUMMARY:Hope House Hospice Weekly Bereavement Bistro
DESCRIPTION: 
URL:https://oasisbereavement.com/event/hope-house-hospice-weekly-bereavement-bistro-4/
END:VEVENT
BEGIN:VEVENT
DTSTART;TZID=UTC:20221004T130000
DTEND;TZID=UTC:20221004T150000
DTSTAMP:20260423T101434
CREATED:20220617T224240Z
LAST-MODIFIED:20220617T224240Z
UID:1362-1664888400-1664895600@oasisbereavement.com
SUMMARY:Hope House Hospice Weekly Comfort Cafe
DESCRIPTION:
URL:https://oasisbereavement.com/event/hope-house-hospice-weekly-comfort-cafe-4/
END:VEVENT
END:VCALENDAR