BEGIN:VCALENDAR
VERSION:2.0
PRODID:-//Oasis Bereavement - ECPv6.15.18//NONSGML v1.0//EN
CALSCALE:GREGORIAN
METHOD:PUBLISH
X-WR-CALNAME:Oasis Bereavement
X-ORIGINAL-URL:https://oasisbereavement.com
X-WR-CALDESC:Events for Oasis Bereavement
REFRESH-INTERVAL;VALUE=DURATION:PT1H
X-Robots-Tag:noindex
X-PUBLISHED-TTL:PT1H
BEGIN:VTIMEZONE
TZID:UTC
BEGIN:STANDARD
TZOFFSETFROM:+0000
TZOFFSETTO:+0000
TZNAME:UTC
DTSTART:20260101T000000
END:STANDARD
END:VTIMEZONE
BEGIN:VEVENT
DTSTART;TZID=UTC:20271012T180000
DTEND;TZID=UTC:20271012T200000
DTSTAMP:20260422T223417
CREATED:20260408T174323Z
LAST-MODIFIED:20260408T174323Z
UID:3725-1823364000-1823371200@oasisbereavement.com
SUMMARY:Evergreen  Bereaved Parent's Group
DESCRIPTION:
URL:https://oasisbereavement.com/event/evergreen-bereaved-parents-group-13/2027-10-12/
END:VEVENT
BEGIN:VEVENT
DTSTART;TZID=UTC:20271012T190000
DTEND;TZID=UTC:20271012T210000
DTSTAMP:20260422T223417
CREATED:20260408T180331Z
LAST-MODIFIED:20260408T180331Z
UID:4097-1823367600-1823374800@oasisbereavement.com
SUMMARY:Northridge Grief Care
DESCRIPTION:This is a support group for anyone 18 years or older who is looking to find comfort\, answers\, and hope after the death of a family member or friend. \nSchedule: Tuesdays @ 7:00-9:00 pm\nLocation: Northridge
URL:https://oasisbereavement.com/event/northridge-grief-care/2027-10-12/
END:VEVENT
BEGIN:VEVENT
DTSTART;TZID=UTC:20271013T100000
DTEND;TZID=UTC:20271013T110000
DTSTAMP:20260422T223417
CREATED:20260408T183251Z
LAST-MODIFIED:20260408T183251Z
UID:4332-1823421600-1823425200@oasisbereavement.com
SUMMARY:Hope House Joy In Movement
DESCRIPTION:VIRTUAL \nWednesdays @ 10-11am \n​ \n\n\nA fun and engaging morning mind/body session focused on simple movements and moments of stillness. Incorporates yoga\, qigong\, shaking medicine and spontaneous movement
URL:https://oasisbereavement.com/event/hope-house-joy-in-movement/2027-10-13/
ATTACH;FMTTYPE=image/png:https://oasisbereavement.com/wp-content/uploads/2026/04/Screen-Shot-2026-04-08-at-2.29.26-PM.png
END:VEVENT
BEGIN:VEVENT
DTSTART;TZID=UTC:20271014T110000
DTEND;TZID=UTC:20271014T120000
DTSTAMP:20260422T223417
CREATED:20260408T174650Z
LAST-MODIFIED:20260408T174650Z
UID:3811-1823511600-1823515200@oasisbereavement.com
SUMMARY:Evergreen Living Room
DESCRIPTION:The Living Room Program welcomes all Evergreen clients (those living with an illness\, caregivers\, and those who are grieving) to come together to share an activity focused on their well being and self care. It is an activity based group providing the opportunity to take time for yourself\, participate in conversation\, expressive art or music\, or just be in a healing\, supportive environment. \n​ \nPlease call the office at 416-499-2185 or e-mail info@evgcares.org to register for groups or to get more information. 
URL:https://oasisbereavement.com/event/evergreen-living-room/2027-10-14/
END:VEVENT
BEGIN:VEVENT
DTSTART;TZID=UTC:20271014T130000
DTEND;TZID=UTC:20271014T140000
DTSTAMP:20260422T223417
CREATED:20260408T174852Z
LAST-MODIFIED:20260408T174852Z
UID:3943-1823518800-1823522400@oasisbereavement.com
SUMMARY:Evergreen Men's Group - Online
DESCRIPTION:
URL:https://oasisbereavement.com/event/evergreen-mens-group-online/2027-10-14/
END:VEVENT
BEGIN:VEVENT
DTSTART;TZID=UTC:20271015T103000
DTEND;TZID=UTC:20271015T120000
DTSTAMP:20260422T223417
CREATED:20260408T175421Z
LAST-MODIFIED:20260408T175421Z
UID:3987-1823596200-1823601600@oasisbereavement.com
SUMMARY:Evergreen Connection Cafe - Knitting Circle
DESCRIPTION:
URL:https://oasisbereavement.com/event/evergreen-connection-cafe-knitting-circle/2027-10-15/
END:VEVENT
BEGIN:VEVENT
DTSTART;TZID=UTC:20271015T103000
DTEND;TZID=UTC:20271015T123000
DTSTAMP:20260422T223417
CREATED:20260408T184214Z
LAST-MODIFIED:20260408T184214Z
UID:4429-1823596200-1823603400@oasisbereavement.com
SUMMARY:Hope House Making Meaning Expressive Art
DESCRIPTION:IN PERSON  15105 Yonge St. Unit 105 \n 3rd Friday of the Month @ 10:30am-12:30 \n​​ \n\n\nOpportunity for sharing stories\, chances for reflection and connection with others while creating legacy-focused projects 
URL:https://oasisbereavement.com/event/hope-house-making-meaning-expressive-art/2027-10-15/
ATTACH;FMTTYPE=image/png:https://oasisbereavement.com/wp-content/uploads/2026/04/Screen-Shot-2026-04-08-at-2.39.40-PM.png
END:VEVENT
BEGIN:VEVENT
DTSTART;TZID=UTC:20271015T130000
DTEND;TZID=UTC:20271015T150000
DTSTAMP:20260422T223417
CREATED:20260408T185244Z
LAST-MODIFIED:20260408T185244Z
UID:4461-1823605200-1823612400@oasisbereavement.com
SUMMARY:Hospice Georgina Grief Cafe
DESCRIPTION:Grief Café\nThe Grief Café provides a welcoming\, comfortable environment for individuals to come together and explore their grief alongside others with similar experiences. These sessions help participants feel supported\, build connection\, and deepen their understanding of their grief journey. All groups are facilitated by trained hospice staff and volunteers. \nBeginning in the new year\, Hospice Georgina will also be offering group grief sessions specifically for children and youth\, expanding our support to ensure young people have a safe place to share\, learn\, and be supported through their grief.
URL:https://oasisbereavement.com/event/hospice-georgina-grief-cafe/2027-10-15/
END:VEVENT
BEGIN:VEVENT
DTSTART;TZID=UTC:20271015T140000
DTEND;TZID=UTC:20271015T153000
DTSTAMP:20260422T223417
CREATED:20260408T175606Z
LAST-MODIFIED:20260408T175606Z
UID:4012-1823608800-1823614200@oasisbereavement.com
SUMMARY:Evergreen  Connection Cafe-Book Discussion Club
DESCRIPTION:This is open to everyone: volunteers\, staff\, clients and community.\nRegister in advance for this meeting:  https://us06web.zoom.us/meeting/register/tZ0pcuqrrzwjHdavKhW6npDpsKvgVwRfkPQu
URL:https://oasisbereavement.com/event/evergreen-connection-cafe-book-discussion-club-10/2027-10-15/
END:VEVENT
BEGIN:VEVENT
DTSTART;TZID=UTC:20271018T183000
DTEND;TZID=UTC:20271018T193000
DTSTAMP:20260422T223417
CREATED:20260408T172715Z
LAST-MODIFIED:20260408T172715Z
UID:3681-1823884200-1823887800@oasisbereavement.com
SUMMARY:Evergreen On-line Drop-In Bereavement Group
DESCRIPTION:
URL:https://oasisbereavement.com/event/evergreen-online-drop-in-bereavement-group/2027-10-18/
LOCATION:ZOOM
END:VEVENT
BEGIN:VEVENT
DTSTART;TZID=UTC:20271019T110000
DTEND;TZID=UTC:20271019T130000
DTSTAMP:20260422T223417
CREATED:20260408T173620Z
LAST-MODIFIED:20260408T173620Z
UID:3578-1823943600-1823950800@oasisbereavement.com
SUMMARY:Evergreen Women's Group - Online
DESCRIPTION:
URL:https://oasisbereavement.com/event/evergreen-womens-group-online/2027-10-19/
END:VEVENT
BEGIN:VEVENT
DTSTART;TZID=UTC:20271019T190000
DTEND;TZID=UTC:20271019T210000
DTSTAMP:20260422T223417
CREATED:20260408T180331Z
LAST-MODIFIED:20260408T180331Z
UID:4098-1823972400-1823979600@oasisbereavement.com
SUMMARY:Northridge Grief Care
DESCRIPTION:This is a support group for anyone 18 years or older who is looking to find comfort\, answers\, and hope after the death of a family member or friend. \nSchedule: Tuesdays @ 7:00-9:00 pm\nLocation: Northridge
URL:https://oasisbereavement.com/event/northridge-grief-care/2027-10-19/
END:VEVENT
BEGIN:VEVENT
DTSTART;TZID=UTC:20271020T100000
DTEND;TZID=UTC:20271020T110000
DTSTAMP:20260422T223417
CREATED:20260408T183251Z
LAST-MODIFIED:20260408T183251Z
UID:4333-1824026400-1824030000@oasisbereavement.com
SUMMARY:Hope House Joy In Movement
DESCRIPTION:VIRTUAL \nWednesdays @ 10-11am \n​ \n\n\nA fun and engaging morning mind/body session focused on simple movements and moments of stillness. Incorporates yoga\, qigong\, shaking medicine and spontaneous movement
URL:https://oasisbereavement.com/event/hope-house-joy-in-movement/2027-10-20/
ATTACH;FMTTYPE=image/png:https://oasisbereavement.com/wp-content/uploads/2026/04/Screen-Shot-2026-04-08-at-2.29.26-PM.png
END:VEVENT
BEGIN:VEVENT
DTSTART;TZID=UTC:20271021T110000
DTEND;TZID=UTC:20271021T120000
DTSTAMP:20260422T223417
CREATED:20260408T174650Z
LAST-MODIFIED:20260408T174650Z
UID:3812-1824116400-1824120000@oasisbereavement.com
SUMMARY:Evergreen Living Room
DESCRIPTION:The Living Room Program welcomes all Evergreen clients (those living with an illness\, caregivers\, and those who are grieving) to come together to share an activity focused on their well being and self care. It is an activity based group providing the opportunity to take time for yourself\, participate in conversation\, expressive art or music\, or just be in a healing\, supportive environment. \n​ \nPlease call the office at 416-499-2185 or e-mail info@evgcares.org to register for groups or to get more information. 
URL:https://oasisbereavement.com/event/evergreen-living-room/2027-10-21/
END:VEVENT
BEGIN:VEVENT
DTSTART;TZID=UTC:20271021T130000
DTEND;TZID=UTC:20271021T140000
DTSTAMP:20260422T223417
CREATED:20260408T174852Z
LAST-MODIFIED:20260408T174852Z
UID:3944-1824123600-1824127200@oasisbereavement.com
SUMMARY:Evergreen Men's Group - Online
DESCRIPTION:
URL:https://oasisbereavement.com/event/evergreen-mens-group-online/2027-10-21/
END:VEVENT
BEGIN:VEVENT
DTSTART;TZID=UTC:20271022T100000
DTEND;TZID=UTC:20271022T110000
DTSTAMP:20260422T223417
CREATED:20260408T182413Z
LAST-MODIFIED:20260408T182413Z
UID:4221-1824199200-1824202800@oasisbereavement.com
SUMMARY:Hope House Bereavement Bistro
DESCRIPTION:BEREAVEMENT BISTRO: ​A morning drop-in bereavement group for adults who are experiencing the death of a loved one. An opportunity for support & conversation.
URL:https://oasisbereavement.com/event/hope-house-bereavement-bistro-4/2027-10-22/
ATTACH;FMTTYPE=image/png:https://oasisbereavement.com/wp-content/uploads/2026/04/Screen-Shot-2026-04-08-at-2.17.49-PM.png
END:VEVENT
BEGIN:VEVENT
DTSTART;TZID=UTC:20271022T123000
DTEND;TZID=UTC:20271022T133000
DTSTAMP:20260422T223417
CREATED:20260408T181632Z
LAST-MODIFIED:20260408T181632Z
UID:4170-1824208200-1824211800@oasisbereavement.com
SUMMARY:Hope House Young Family Spousal Loss
DESCRIPTION:4th Friday of the Month12:30-1:30pm via ZOOM \n\n\nFAMILIES FINDING THEIR WAY \nmarch 27\, April 24\, May 22 & June 26\, 2026 \nA drop-in peer-support group intended for parents with children under 18 who are experiencing the death of a spouse or partner. This group provides a supportive space for conversation and connection
URL:https://oasisbereavement.com/event/hope-house-young-family-spousal-loss/2027-10-22/
ATTACH;FMTTYPE=image/png:https://oasisbereavement.com/wp-content/uploads/2026/04/Screen-Shot-2026-04-08-at-2.13.22-PM.png
END:VEVENT
BEGIN:VEVENT
DTSTART;TZID=UTC:20271025T100000
DTEND;TZID=UTC:20271025T120000
DTSTAMP:20260422T223417
CREATED:20260408T173349Z
LAST-MODIFIED:20260408T173349Z
UID:3492-1824458400-1824465600@oasisbereavement.com
SUMMARY:Evergreen Connection Cafe-Walking Club
DESCRIPTION:
URL:https://oasisbereavement.com/event/evergreen-connection-cafe-walking-club/2027-10-25/
END:VEVENT
BEGIN:VEVENT
DTSTART;TZID=UTC:20271025T183000
DTEND;TZID=UTC:20271025T193000
DTSTAMP:20260422T223417
CREATED:20260408T172715Z
LAST-MODIFIED:20260408T172715Z
UID:3682-1824489000-1824492600@oasisbereavement.com
SUMMARY:Evergreen On-line Drop-In Bereavement Group
DESCRIPTION:
URL:https://oasisbereavement.com/event/evergreen-online-drop-in-bereavement-group/2027-10-25/
LOCATION:ZOOM
END:VEVENT
BEGIN:VEVENT
DTSTART;TZID=UTC:20271026T110000
DTEND;TZID=UTC:20271026T130000
DTSTAMP:20260422T223417
CREATED:20260408T173620Z
LAST-MODIFIED:20260408T173620Z
UID:3579-1824548400-1824555600@oasisbereavement.com
SUMMARY:Evergreen Women's Group - Online
DESCRIPTION:
URL:https://oasisbereavement.com/event/evergreen-womens-group-online/2027-10-26/
END:VEVENT
BEGIN:VEVENT
DTSTART;TZID=UTC:20271026T190000
DTEND;TZID=UTC:20271026T210000
DTSTAMP:20260422T223417
CREATED:20260408T180331Z
LAST-MODIFIED:20260408T180331Z
UID:4099-1824577200-1824584400@oasisbereavement.com
SUMMARY:Northridge Grief Care
DESCRIPTION:This is a support group for anyone 18 years or older who is looking to find comfort\, answers\, and hope after the death of a family member or friend. \nSchedule: Tuesdays @ 7:00-9:00 pm\nLocation: Northridge
URL:https://oasisbereavement.com/event/northridge-grief-care/2027-10-26/
END:VEVENT
BEGIN:VEVENT
DTSTART;TZID=UTC:20271027T100000
DTEND;TZID=UTC:20271027T110000
DTSTAMP:20260422T223417
CREATED:20260408T183251Z
LAST-MODIFIED:20260408T183251Z
UID:4334-1824631200-1824634800@oasisbereavement.com
SUMMARY:Hope House Joy In Movement
DESCRIPTION:VIRTUAL \nWednesdays @ 10-11am \n​ \n\n\nA fun and engaging morning mind/body session focused on simple movements and moments of stillness. Incorporates yoga\, qigong\, shaking medicine and spontaneous movement
URL:https://oasisbereavement.com/event/hope-house-joy-in-movement/2027-10-27/
ATTACH;FMTTYPE=image/png:https://oasisbereavement.com/wp-content/uploads/2026/04/Screen-Shot-2026-04-08-at-2.29.26-PM.png
END:VEVENT
BEGIN:VEVENT
DTSTART;TZID=UTC:20271028T110000
DTEND;TZID=UTC:20271028T120000
DTSTAMP:20260422T223417
CREATED:20260408T174650Z
LAST-MODIFIED:20260408T174650Z
UID:3813-1824721200-1824724800@oasisbereavement.com
SUMMARY:Evergreen Living Room
DESCRIPTION:The Living Room Program welcomes all Evergreen clients (those living with an illness\, caregivers\, and those who are grieving) to come together to share an activity focused on their well being and self care. It is an activity based group providing the opportunity to take time for yourself\, participate in conversation\, expressive art or music\, or just be in a healing\, supportive environment. \n​ \nPlease call the office at 416-499-2185 or e-mail info@evgcares.org to register for groups or to get more information. 
URL:https://oasisbereavement.com/event/evergreen-living-room/2027-10-28/
END:VEVENT
BEGIN:VEVENT
DTSTART;TZID=UTC:20271028T130000
DTEND;TZID=UTC:20271028T140000
DTSTAMP:20260422T223417
CREATED:20260408T174852Z
LAST-MODIFIED:20260408T174852Z
UID:3945-1824728400-1824732000@oasisbereavement.com
SUMMARY:Evergreen Men's Group - Online
DESCRIPTION:
URL:https://oasisbereavement.com/event/evergreen-mens-group-online/2027-10-28/
END:VEVENT
BEGIN:VEVENT
DTSTART;TZID=UTC:20271028T190000
DTEND;TZID=UTC:20271028T200000
DTSTAMP:20260422T223417
CREATED:20260408T183548Z
LAST-MODIFIED:20260408T183548Z
UID:4378-1824750000-1824753600@oasisbereavement.com
SUMMARY:Hope House Qigong for Rest & Sleep
DESCRIPTION:VIRTUAL \n4th Thursday of the month @ 7-8pm \n​ \n\n\nJoin us for a fun and easeful session focusing on winding down\, releasing stress and getting both the body and mind ready for sleep
URL:https://oasisbereavement.com/event/hope-house-qigong-for-rest-sleep/2027-10-28/
ATTACH;FMTTYPE=image/png:https://oasisbereavement.com/wp-content/uploads/2026/04/Screen-Shot-2026-04-08-at-2.33.23-PM.png
END:VEVENT
BEGIN:VEVENT
DTSTART;TZID=UTC:20271101T183000
DTEND;TZID=UTC:20271101T193000
DTSTAMP:20260422T223417
CREATED:20260408T172715Z
LAST-MODIFIED:20260408T172715Z
UID:3683-1825093800-1825097400@oasisbereavement.com
SUMMARY:Evergreen On-line Drop-In Bereavement Group
DESCRIPTION:
URL:https://oasisbereavement.com/event/evergreen-online-drop-in-bereavement-group/2027-11-01/
LOCATION:ZOOM
END:VEVENT
BEGIN:VEVENT
DTSTART;TZID=UTC:20271102T110000
DTEND;TZID=UTC:20271102T130000
DTSTAMP:20260422T223417
CREATED:20260408T173620Z
LAST-MODIFIED:20260408T173620Z
UID:3580-1825153200-1825160400@oasisbereavement.com
SUMMARY:Evergreen Women's Group - Online
DESCRIPTION:
URL:https://oasisbereavement.com/event/evergreen-womens-group-online/2027-11-02/
END:VEVENT
BEGIN:VEVENT
DTSTART;TZID=UTC:20271102T190000
DTEND;TZID=UTC:20271102T210000
DTSTAMP:20260422T223417
CREATED:20260408T180331Z
LAST-MODIFIED:20260408T180331Z
UID:4100-1825182000-1825189200@oasisbereavement.com
SUMMARY:Northridge Grief Care
DESCRIPTION:This is a support group for anyone 18 years or older who is looking to find comfort\, answers\, and hope after the death of a family member or friend. \nSchedule: Tuesdays @ 7:00-9:00 pm\nLocation: Northridge
URL:https://oasisbereavement.com/event/northridge-grief-care/2027-11-02/
END:VEVENT
BEGIN:VEVENT
DTSTART;TZID=UTC:20271103T100000
DTEND;TZID=UTC:20271103T110000
DTSTAMP:20260422T223417
CREATED:20260408T183251Z
LAST-MODIFIED:20260408T183251Z
UID:4335-1825236000-1825239600@oasisbereavement.com
SUMMARY:Hope House Joy In Movement
DESCRIPTION:VIRTUAL \nWednesdays @ 10-11am \n​ \n\n\nA fun and engaging morning mind/body session focused on simple movements and moments of stillness. Incorporates yoga\, qigong\, shaking medicine and spontaneous movement
URL:https://oasisbereavement.com/event/hope-house-joy-in-movement/2027-11-03/
ATTACH;FMTTYPE=image/png:https://oasisbereavement.com/wp-content/uploads/2026/04/Screen-Shot-2026-04-08-at-2.29.26-PM.png
END:VEVENT
BEGIN:VEVENT
DTSTART;TZID=UTC:20271104T110000
DTEND;TZID=UTC:20271104T120000
DTSTAMP:20260422T223417
CREATED:20260408T174650Z
LAST-MODIFIED:20260408T174650Z
UID:3814-1825326000-1825329600@oasisbereavement.com
SUMMARY:Evergreen Living Room
DESCRIPTION:The Living Room Program welcomes all Evergreen clients (those living with an illness\, caregivers\, and those who are grieving) to come together to share an activity focused on their well being and self care. It is an activity based group providing the opportunity to take time for yourself\, participate in conversation\, expressive art or music\, or just be in a healing\, supportive environment. \n​ \nPlease call the office at 416-499-2185 or e-mail info@evgcares.org to register for groups or to get more information. 
URL:https://oasisbereavement.com/event/evergreen-living-room/2027-11-04/
END:VEVENT
END:VCALENDAR