BEGIN:VCALENDAR
VERSION:2.0
PRODID:-//Oasis Bereavement - ECPv6.15.18//NONSGML v1.0//EN
CALSCALE:GREGORIAN
METHOD:PUBLISH
X-WR-CALNAME:Oasis Bereavement
X-ORIGINAL-URL:https://oasisbereavement.com
X-WR-CALDESC:Events for Oasis Bereavement
REFRESH-INTERVAL;VALUE=DURATION:PT1H
X-Robots-Tag:noindex
X-PUBLISHED-TTL:PT1H
BEGIN:VTIMEZONE
TZID:UTC
BEGIN:STANDARD
TZOFFSETFROM:+0000
TZOFFSETTO:+0000
TZNAME:UTC
DTSTART:20210101T000000
END:STANDARD
END:VTIMEZONE
BEGIN:VEVENT
DTSTART;TZID=UTC:20220915T193000
DTEND;TZID=UTC:20220915T210000
DTSTAMP:20260425T144053
CREATED:20220815T200722Z
LAST-MODIFIED:20220815T200722Z
UID:1758-1663270200-1663275600@oasisbereavement.com
SUMMARY:RTZ - Ending A Wanted Pregnancy - Virtual Workshop - Sept 15- Oct 20 Thursdays
DESCRIPTION:Ending a Wanted Pregnancy (Couples) September 2022  \n 9 hours @ $250.00 \nWho: Couples who have made the difficult decision to terminate a pregnancy due to medical reasons\, including life-limiting or life-threatening fetal diagnoses and maternal health issues.\nDates: September 15-October 20\, 2022\nDay: Thursdays\nTime: 4:30-6:00pm PST/7:30-9:00pm EST\nFacilitator: Betsy Winter & Jessica Van Wyen\nCost: $250 Pay Full Price or $125 Pay What You Can\nUse coupon PAYWHATYOUCAN to redeem discount
URL:https://oasisbereavement.com/event/rtz-ending-a-wanted-pregnancy-virtual-workshop-sept-15-oct-20-thursdays/
END:VEVENT
BEGIN:VEVENT
DTSTART;TZID=UTC:20220915T193000
DTEND;TZID=UTC:20220915T210000
DTSTAMP:20260425T144053
CREATED:20220815T200722Z
LAST-MODIFIED:20220815T200722Z
UID:2507-1663270200-1663275600@oasisbereavement.com
SUMMARY:RTZ - Ending A Wanted Pregnancy - Virtual Workshop - Sept 15- Oct 20 Thursdays
DESCRIPTION:Ending a Wanted Pregnancy (Couples) September 2022  \n 9 hours @ $250.00 \nWho: Couples who have made the difficult decision to terminate a pregnancy due to medical reasons\, including life-limiting or life-threatening fetal diagnoses and maternal health issues.\nDates: September 15-October 20\, 2022\nDay: Thursdays\nTime: 4:30-6:00pm PST/7:30-9:00pm EST\nFacilitator: Betsy Winter & Jessica Van Wyen\nCost: $250 Pay Full Price or $125 Pay What You Can\nUse coupon PAYWHATYOUCAN to redeem discount
URL:https://oasisbereavement.com/event/rtz-ending-a-wanted-pregnancy-virtual-workshop-sept-15-oct-20-thursdays-2/
END:VEVENT
BEGIN:VEVENT
DTSTART;TZID=UTC:20220915T090000
DTEND;TZID=UTC:20220915T150000
DTSTAMP:20260425T144053
CREATED:20220815T202619Z
LAST-MODIFIED:20220815T202619Z
UID:1774-1663232400-1663254000@oasisbereavement.com
SUMMARY:Palcare - Grief and Bereavement Training for Volunteers - 3 Weeks
DESCRIPTION:Grief and Bereavement\nTraining for Volunteers\n\n\nCourse \n\n\n\n\n\nFacilitated by \nSusanne Urzendowsky\, Katherine Valkanas and Louise Leblanc \nDescription \nThese sessions are open to volunteers who have offered direct client support for a minimum of a year and are interested in facilitating grief and bereavement groups. \nRead more about the workshop. \nDates \nOctober: \n\n\nSaturday 15th – Processing Individuals G&B \n\n\nSaturday 22nd – Practical Approaches to Grief and Bereavement \n\n\nSaturday 29th – Facilitator Training \n\n\n   Register    \n​ \nTime \n9 am – 3pm \nFee \n$30 volunteers / Caregiver $60 for Professionals​ \n​
URL:https://oasisbereavement.com/event/palcare-grief-and-bereavement-training-for-volunteers-3-weeks/
END:VEVENT
BEGIN:VEVENT
DTSTART;TZID=UTC:20220915T090000
DTEND;TZID=UTC:20220915T150000
DTSTAMP:20260425T144053
CREATED:20220815T202619Z
LAST-MODIFIED:20220815T202619Z
UID:2514-1663232400-1663254000@oasisbereavement.com
SUMMARY:Palcare - Grief and Bereavement Training for Volunteers - 3 Weeks
DESCRIPTION:Grief and Bereavement\nTraining for Volunteers\n\n\nCourse \n\n\n\n\n\nFacilitated by \nSusanne Urzendowsky\, Katherine Valkanas and Louise Leblanc \nDescription \nThese sessions are open to volunteers who have offered direct client support for a minimum of a year and are interested in facilitating grief and bereavement groups. \nRead more about the workshop. \nDates \nOctober: \n\n\nSaturday 15th – Processing Individuals G&B \n\n\nSaturday 22nd – Practical Approaches to Grief and Bereavement \n\n\nSaturday 29th – Facilitator Training \n\n\n   Register    \n​ \nTime \n9 am – 3pm \nFee \n$30 volunteers / Caregiver $60 for Professionals​ \n​
URL:https://oasisbereavement.com/event/palcare-grief-and-bereavement-training-for-volunteers-3-weeks-2/
END:VEVENT
BEGIN:VEVENT
DTSTART;TZID=UTC:20220914T190000
DTEND;TZID=UTC:20220914T200000
DTSTAMP:20260425T144053
CREATED:20220818T212226Z
LAST-MODIFIED:20220818T212226Z
UID:2521-1663182000-1663185600@oasisbereavement.com
SUMMARY:Oasis AGM
DESCRIPTION:Please join us for Oasis’ AGM. \nWe have had a great year!!! \nJoin Zoom Meeting https://us02web.zoom.us/j/86177359650?pwd=NmhBOUxsSW9HY2w1Tm1Ga3FFcmNoZz09 Meeting ID: 861 7735 9650 \nPasscode: 348527 \n 
URL:https://oasisbereavement.com/event/oasis-agm-3/
END:VEVENT
BEGIN:VEVENT
DTSTART;TZID=UTC:20220914T190000
DTEND;TZID=UTC:20220914T200000
DTSTAMP:20260425T144053
CREATED:20220818T212226Z
LAST-MODIFIED:20220818T212226Z
UID:1790-1663182000-1663185600@oasisbereavement.com
SUMMARY:Oasis AGM
DESCRIPTION:Please join us for Oasis’ AGM. \nWe have had a great year!!! \nJoin Zoom Meeting https://us02web.zoom.us/j/86177359650?pwd=NmhBOUxsSW9HY2w1Tm1Ga3FFcmNoZz09 Meeting ID: 861 7735 9650 \nPasscode: 348527 \n 
URL:https://oasisbereavement.com/event/oasis-agm/
END:VEVENT
BEGIN:VEVENT
DTSTART;TZID=UTC:20220913T183000
DTEND;TZID=UTC:20220913T200000
DTSTAMP:20260425T144053
CREATED:20220617T225740Z
LAST-MODIFIED:20220617T225740Z
UID:1386-1663093800-1663099200@oasisbereavement.com
SUMMARY:Hope House Hospice Alternate Tuesdays - Adults 18-25
DESCRIPTION:
URL:https://oasisbereavement.com/event/hope-house-hospice-alternate-tuesdays-adults-18-25-3/
END:VEVENT
BEGIN:VEVENT
DTSTART;TZID=UTC:20220913T183000
DTEND;TZID=UTC:20220913T200000
DTSTAMP:20260425T144053
CREATED:20220617T225740Z
LAST-MODIFIED:20220617T225740Z
UID:2484-1663093800-1663099200@oasisbereavement.com
SUMMARY:Hope House Hospice Alternate Tuesdays - Adults 18-25
DESCRIPTION:
URL:https://oasisbereavement.com/event/hope-house-hospice-alternate-tuesdays-adults-18-25-3-2/
END:VEVENT
BEGIN:VEVENT
DTSTART;TZID=UTC:20220913T123000
DTEND;TZID=UTC:20220913T140000
DTSTAMP:20260425T144053
CREATED:20220815T201315Z
LAST-MODIFIED:20220815T201315Z
UID:1765-1663072200-1663077600@oasisbereavement.com
SUMMARY:RTZ - Parenting After Loss - Virtual 6 Week Group
DESCRIPTION:Parenting After Loss (Birthing and Non-Birthing Parents)\, September 2022  \n 9 hours @ $150.00 \nWho: For parents navigating the challenging road of parenting after loss. Open to those who had children prior to their loss\, after their loss\, or both. It is recommended to have completed a loss-specific support group prior to participation\, but is not a requirement.\nDates: September 13-October 18\, 2022\nDay: Tuesdays\nTime: 9:30-11:00am PST/12:30-2:00pm EST\nFacilitator: Betsy Winter\nCost: $150 Pay Full Price or $75 Pay What You Can\nUse coupon PAYWHATYOUCAN to redeem discount
URL:https://oasisbereavement.com/event/rtz-parenting-after-loss-virtual-6-week-group/
END:VEVENT
BEGIN:VEVENT
DTSTART;TZID=UTC:20220913T123000
DTEND;TZID=UTC:20220913T140000
DTSTAMP:20260425T144053
CREATED:20220815T201315Z
LAST-MODIFIED:20220815T201315Z
UID:2510-1663072200-1663077600@oasisbereavement.com
SUMMARY:RTZ - Parenting After Loss - Virtual 6 Week Group
DESCRIPTION:Parenting After Loss (Birthing and Non-Birthing Parents)\, September 2022  \n 9 hours @ $150.00 \nWho: For parents navigating the challenging road of parenting after loss. Open to those who had children prior to their loss\, after their loss\, or both. It is recommended to have completed a loss-specific support group prior to participation\, but is not a requirement.\nDates: September 13-October 18\, 2022\nDay: Tuesdays\nTime: 9:30-11:00am PST/12:30-2:00pm EST\nFacilitator: Betsy Winter\nCost: $150 Pay Full Price or $75 Pay What You Can\nUse coupon PAYWHATYOUCAN to redeem discount
URL:https://oasisbereavement.com/event/rtz-parenting-after-loss-virtual-6-week-group-2/
END:VEVENT
BEGIN:VEVENT
DTSTART;TZID=UTC:20220912T160000
DTEND;TZID=UTC:20220912T190000
DTSTAMP:20260425T144053
CREATED:20220815T203938Z
LAST-MODIFIED:20220815T203938Z
UID:1784-1662998400-1663009200@oasisbereavement.com
SUMMARY:Doane and Margaret Bahen Hospice - Last Aid Education Course
DESCRIPTION:
URL:https://oasisbereavement.com/event/doane-and-margaret-bahen-hospice-last-aid-education-course/
LOCATION:ZOOM
END:VEVENT
BEGIN:VEVENT
DTSTART;TZID=UTC:20220912T160000
DTEND;TZID=UTC:20220912T190000
DTSTAMP:20260425T144053
CREATED:20220815T203938Z
LAST-MODIFIED:20220815T203938Z
UID:2519-1662998400-1663009200@oasisbereavement.com
SUMMARY:Doane and Margaret Bahen Hospice - Last Aid Education Course
DESCRIPTION:
URL:https://oasisbereavement.com/event/doane-and-margaret-bahen-hospice-last-aid-education-course-2/
LOCATION:ZOOM
END:VEVENT
BEGIN:VEVENT
DTSTART;TZID=UTC:20220912T120000
DTEND;TZID=UTC:20220912T133000
DTSTAMP:20260425T144053
CREATED:20220815T200234Z
LAST-MODIFIED:20220815T200234Z
UID:2505-1662984000-1662989400@oasisbereavement.com
SUMMARY:RTZ - Pregnancy and Infant Loss (Couples)\, November 12-Dec 17th Saturdays
DESCRIPTION:Who: Couples (birthing parent + partner) who have experienced loss through infertility\, miscarriage\, stillbirth\, terminations for medical reasons\, or infant death\, whether more recently or in the past.\nDates: November 12- December 17\, 2022\nDay: Saturdays\nTime: 9:00-10:30am PST/12:00-1:30pm EST\nFacilitator: Jennifer Kaiton\nCost: $250 Pay Full Price or $125 Pay What You Can\nUse coupon PAYWHATYOUCAN to redeem discount
URL:https://oasisbereavement.com/event/rtz-pregnancy-and-infant-loss-couples-november-12-dec-17th-saturdays-2/
END:VEVENT
BEGIN:VEVENT
DTSTART;TZID=UTC:20220912T120000
DTEND;TZID=UTC:20220912T133000
DTSTAMP:20260425T144053
CREATED:20220815T200234Z
LAST-MODIFIED:20220815T200234Z
UID:1754-1662984000-1662989400@oasisbereavement.com
SUMMARY:RTZ - Pregnancy and Infant Loss (Couples)\, November 12-Dec 17th Saturdays
DESCRIPTION:Who: Couples (birthing parent + partner) who have experienced loss through infertility\, miscarriage\, stillbirth\, terminations for medical reasons\, or infant death\, whether more recently or in the past.\nDates: November 12- December 17\, 2022\nDay: Saturdays\nTime: 9:00-10:30am PST/12:00-1:30pm EST\nFacilitator: Jennifer Kaiton\nCost: $250 Pay Full Price or $125 Pay What You Can\nUse coupon PAYWHATYOUCAN to redeem discount
URL:https://oasisbereavement.com/event/rtz-pregnancy-and-infant-loss-couples-november-12-dec-17th-saturdays/
END:VEVENT
BEGIN:VEVENT
DTSTART;TZID=UTC:20220911T120000
DTEND;TZID=UTC:20220911T133000
DTSTAMP:20260425T144053
CREATED:20220815T200916Z
LAST-MODIFIED:20220815T200916Z
UID:1760-1662897600-1662903000@oasisbereavement.com
SUMMARY:RTZ - People of Colour Pregnancy and Infant Loss - 6 Week Program
DESCRIPTION:People of Color Pregnancy and Infant Loss (Birthing Parent)\, September 2022  \n 9 hours @ $150.00 \nWho: Birthing parents of color who have experienced loss through infertility\, miscarriage\, stillbirth\, terminations for medical reasons\, or infant death\, whether more recently or in the past.\nDates: September 11-October 16\, 2022\nDay: Sundays\nTime: 9:00am-10:30am PST/ 12:00-1:30pm EST\nFacilitator: Alishia Anderson and Anna Calix\nCost: $150 Pay Full Price or $75 Pay What You Can\nUse coupon PAYWHATYOUCAN to redeem discount
URL:https://oasisbereavement.com/event/rtz-people-of-colour-pregnancy-and-infant-loss-6-week-program/
END:VEVENT
BEGIN:VEVENT
DTSTART;TZID=UTC:20220911T120000
DTEND;TZID=UTC:20220911T133000
DTSTAMP:20260425T144053
CREATED:20220815T200916Z
LAST-MODIFIED:20220815T200916Z
UID:2508-1662897600-1662903000@oasisbereavement.com
SUMMARY:RTZ - People of Colour Pregnancy and Infant Loss - 6 Week Program
DESCRIPTION:People of Color Pregnancy and Infant Loss (Birthing Parent)\, September 2022  \n 9 hours @ $150.00 \nWho: Birthing parents of color who have experienced loss through infertility\, miscarriage\, stillbirth\, terminations for medical reasons\, or infant death\, whether more recently or in the past.\nDates: September 11-October 16\, 2022\nDay: Sundays\nTime: 9:00am-10:30am PST/ 12:00-1:30pm EST\nFacilitator: Alishia Anderson and Anna Calix\nCost: $150 Pay Full Price or $75 Pay What You Can\nUse coupon PAYWHATYOUCAN to redeem discount
URL:https://oasisbereavement.com/event/rtz-people-of-colour-pregnancy-and-infant-loss-6-week-program-2/
END:VEVENT
BEGIN:VEVENT
DTSTART;TZID=UTC:20220910T150000
DTEND;TZID=UTC:20220910T170000
DTSTAMP:20260425T144053
CREATED:20220815T202250Z
LAST-MODIFIED:20220815T202250Z
UID:2513-1662822000-1662829200@oasisbereavement.com
SUMMARY:RTZ - Writing Circle - Healing Through Literature
DESCRIPTION:Healing Through Literature: Writing Your Personal Essay  \n 2 hours @ $35.00 \nWho: Birthing parents who have experienced any form of loss more recently or in the past.\nDate: September 10\, 2022\nDay: Saturday\nTime: 12:00-2:00pm PST/3:00-5:00pm EST\nFacilitator: Leah Mele\nCost: $35\nIn this generative workshop you will learn about the art of writing a personal essay. You will read previously published stories about baby loss\, write and share your own stories\, and learn about the path towards publication.
URL:https://oasisbereavement.com/event/rtz-writing-circle-healing-through-literature-2/
END:VEVENT
BEGIN:VEVENT
DTSTART;TZID=UTC:20220910T150000
DTEND;TZID=UTC:20220910T170000
DTSTAMP:20260425T144053
CREATED:20220815T202250Z
LAST-MODIFIED:20220815T202250Z
UID:1772-1662822000-1662829200@oasisbereavement.com
SUMMARY:RTZ - Writing Circle - Healing Through Literature
DESCRIPTION:Healing Through Literature: Writing Your Personal Essay  \n 2 hours @ $35.00 \nWho: Birthing parents who have experienced any form of loss more recently or in the past.\nDate: September 10\, 2022\nDay: Saturday\nTime: 12:00-2:00pm PST/3:00-5:00pm EST\nFacilitator: Leah Mele\nCost: $35\nIn this generative workshop you will learn about the art of writing a personal essay. You will read previously published stories about baby loss\, write and share your own stories\, and learn about the path towards publication.
URL:https://oasisbereavement.com/event/rtz-writing-circle-healing-through-literature/
END:VEVENT
BEGIN:VEVENT
DTSTART;TZID=UTC:20220909T110000
DTEND;TZID=UTC:20220909T120000
DTSTAMP:20260425T144053
CREATED:20220815T204140Z
LAST-MODIFIED:20220815T204140Z
UID:1788-1662721200-1662724800@oasisbereavement.com
SUMMARY:Doane and Margaret Bahen - Healthy Body Peaceful Mind - 8 Weeks
DESCRIPTION:
URL:https://oasisbereavement.com/event/doane-and-margaret-bahen-healthy-body-peaceful-mind-8-weeks/
END:VEVENT
BEGIN:VEVENT
DTSTART;TZID=UTC:20220909T110000
DTEND;TZID=UTC:20220909T120000
DTSTAMP:20260425T144053
CREATED:20220815T204140Z
LAST-MODIFIED:20220815T204140Z
UID:2520-1662721200-1662724800@oasisbereavement.com
SUMMARY:Doane and Margaret Bahen - Healthy Body Peaceful Mind - 8 Weeks
DESCRIPTION:
URL:https://oasisbereavement.com/event/doane-and-margaret-bahen-healthy-body-peaceful-mind-8-weeks-2/
END:VEVENT
BEGIN:VEVENT
DTSTART;TZID=UTC:20220908T080000
DTEND;TZID=UTC:20220911T170000
DTSTAMP:20260425T144053
CREATED:20220617T220148Z
LAST-MODIFIED:20220617T220148Z
UID:1328-1662624000-1662915600@oasisbereavement.com
SUMMARY:RTE:Hope Women's Healing Retreat
DESCRIPTION:Our next Women’s Healing Retreat will be September 8-11 at Bell Valley Retreat in Northern California. Visit our website to learn more.
URL:https://oasisbereavement.com/event/rtehope-womens-healing-retreat/
END:VEVENT
BEGIN:VEVENT
DTSTART;TZID=UTC:20220908T080000
DTEND;TZID=UTC:20220911T170000
DTSTAMP:20260425T144053
CREATED:20220617T220148Z
LAST-MODIFIED:20220617T220148Z
UID:2458-1662624000-1662915600@oasisbereavement.com
SUMMARY:RTE:Hope Women's Healing Retreat
DESCRIPTION:Our next Women’s Healing Retreat will be September 8-11 at Bell Valley Retreat in Northern California. Visit our website to learn more.
URL:https://oasisbereavement.com/event/rtehope-womens-healing-retreat-2/
END:VEVENT
BEGIN:VEVENT
DTSTART;TZID=UTC:20220906T130000
DTEND;TZID=UTC:20220906T150000
DTSTAMP:20260425T144053
CREATED:20220617T224141Z
LAST-MODIFIED:20220617T224141Z
UID:1360-1662469200-1662476400@oasisbereavement.com
SUMMARY:Hope House Hospice Weekly Comfort Cafe
DESCRIPTION:
URL:https://oasisbereavement.com/event/hope-house-hospice-weekly-comfort-cafe-3/
END:VEVENT
BEGIN:VEVENT
DTSTART;TZID=UTC:20220906T130000
DTEND;TZID=UTC:20220906T150000
DTSTAMP:20260425T144053
CREATED:20220617T224141Z
LAST-MODIFIED:20220617T224141Z
UID:2472-1662469200-1662476400@oasisbereavement.com
SUMMARY:Hope House Hospice Weekly Comfort Cafe
DESCRIPTION:
URL:https://oasisbereavement.com/event/hope-house-hospice-weekly-comfort-cafe-3-2/
END:VEVENT
BEGIN:VEVENT
DTSTART;TZID=UTC:20220905T080000
DTEND;TZID=UTC:20220905T170000
DTSTAMP:20260425T144053
CREATED:20220617T230442Z
LAST-MODIFIED:20220617T230442Z
UID:1399-1662364800-1662397200@oasisbereavement.com
SUMMARY:Hope House Hospice Alternate Mondays - Relief Room - Teens 13-17
DESCRIPTION:
URL:https://oasisbereavement.com/event/hope-house-hospice-alternate-mondays-relief-room-teens-13-17-3/
END:VEVENT
BEGIN:VEVENT
DTSTART;TZID=UTC:20220905T080000
DTEND;TZID=UTC:20220905T170000
DTSTAMP:20260425T144053
CREATED:20220617T230442Z
LAST-MODIFIED:20220617T230442Z
UID:2490-1662364800-1662397200@oasisbereavement.com
SUMMARY:Hope House Hospice Alternate Mondays - Relief Room - Teens 13-17
DESCRIPTION:
URL:https://oasisbereavement.com/event/hope-house-hospice-alternate-mondays-relief-room-teens-13-17-3-2/
END:VEVENT
BEGIN:VEVENT
DTSTART;TZID=UTC:20220903T120000
DTEND;TZID=UTC:20220903T133000
DTSTAMP:20260425T144053
CREATED:20220815T200509Z
LAST-MODIFIED:20220815T200509Z
UID:1756-1662206400-1662211800@oasisbereavement.com
SUMMARY:RTZ - Virtual Pregnancy and Infant Loss Workshop Sept 3 to Oct 8 Saturdays
DESCRIPTION:Pregnancy and Infant Loss (Birthing Parent)\, September 2022  \n 9 hours @ $150.00 \nWho: Birthing parents who have experienced loss through infertility\, miscarriage\, stillbirth\, terminations for medical reasons\, or infant death\, whether more recently or in the past.\nDates: September 3-October 8\, 2022\nDay: Saturdays\nTime: 9:00-10:30am PST/12:00-1:30pm EST\nFacilitator: Anita Bubany\nCost: $150 Pay Full Price or $75 Pay What You Can\nUse coupon PAYWHATYOUCAN to redeem discount
URL:https://oasisbereavement.com/event/rtz-virtual-pregnancy-and-infant-loss-workshop-sept-3-to-oct-8-saturdays/
END:VEVENT
BEGIN:VEVENT
DTSTART;TZID=UTC:20220903T120000
DTEND;TZID=UTC:20220903T133000
DTSTAMP:20260425T144053
CREATED:20220815T200509Z
LAST-MODIFIED:20220815T200509Z
UID:2506-1662206400-1662211800@oasisbereavement.com
SUMMARY:RTZ - Virtual Pregnancy and Infant Loss Workshop Sept 3 to Oct 8 Saturdays
DESCRIPTION:Pregnancy and Infant Loss (Birthing Parent)\, September 2022  \n 9 hours @ $150.00 \nWho: Birthing parents who have experienced loss through infertility\, miscarriage\, stillbirth\, terminations for medical reasons\, or infant death\, whether more recently or in the past.\nDates: September 3-October 8\, 2022\nDay: Saturdays\nTime: 9:00-10:30am PST/12:00-1:30pm EST\nFacilitator: Anita Bubany\nCost: $150 Pay Full Price or $75 Pay What You Can\nUse coupon PAYWHATYOUCAN to redeem discount
URL:https://oasisbereavement.com/event/rtz-virtual-pregnancy-and-infant-loss-workshop-sept-3-to-oct-8-saturdays-2/
END:VEVENT
BEGIN:VEVENT
DTSTART;TZID=UTC:20220902T100000
DTEND;TZID=UTC:20220902T113000
DTSTAMP:20260425T144053
CREATED:20220617T224926Z
LAST-MODIFIED:20220617T224926Z
UID:1373-1662112800-1662118200@oasisbereavement.com
SUMMARY:Hope House Hospice Weekly Bereavement Bistro
DESCRIPTION:
URL:https://oasisbereavement.com/event/hope-house-hospice-weekly-bereavement-bistro-3/
END:VEVENT
BEGIN:VEVENT
DTSTART;TZID=UTC:20220902T100000
DTEND;TZID=UTC:20220902T113000
DTSTAMP:20260425T144053
CREATED:20220617T224926Z
LAST-MODIFIED:20220617T224926Z
UID:2478-1662112800-1662118200@oasisbereavement.com
SUMMARY:Hope House Hospice Weekly Bereavement Bistro
DESCRIPTION:
URL:https://oasisbereavement.com/event/hope-house-hospice-weekly-bereavement-bistro-3-2/
END:VEVENT
END:VCALENDAR