BEGIN:VCALENDAR
VERSION:2.0
PRODID:-//Oasis Bereavement - ECPv6.15.18//NONSGML v1.0//EN
CALSCALE:GREGORIAN
METHOD:PUBLISH
X-WR-CALNAME:Oasis Bereavement
X-ORIGINAL-URL:https://oasisbereavement.com
X-WR-CALDESC:Events for Oasis Bereavement
REFRESH-INTERVAL;VALUE=DURATION:PT1H
X-Robots-Tag:noindex
X-PUBLISHED-TTL:PT1H
BEGIN:VTIMEZONE
TZID:UTC
BEGIN:STANDARD
TZOFFSETFROM:+0000
TZOFFSETTO:+0000
TZNAME:UTC
DTSTART:20210101T000000
END:STANDARD
END:VTIMEZONE
BEGIN:VTIMEZONE
TZID:Atlantic/Azores
BEGIN:DAYLIGHT
TZOFFSETFROM:-0100
TZOFFSETTO:+0000
TZNAME:+00
DTSTART:20210328T010000
END:DAYLIGHT
BEGIN:STANDARD
TZOFFSETFROM:+0000
TZOFFSETTO:-0100
TZNAME:-01
DTSTART:20211031T010000
END:STANDARD
BEGIN:DAYLIGHT
TZOFFSETFROM:-0100
TZOFFSETTO:+0000
TZNAME:+00
DTSTART:20220327T010000
END:DAYLIGHT
BEGIN:STANDARD
TZOFFSETFROM:+0000
TZOFFSETTO:-0100
TZNAME:-01
DTSTART:20221030T010000
END:STANDARD
BEGIN:DAYLIGHT
TZOFFSETFROM:-0100
TZOFFSETTO:+0000
TZNAME:+00
DTSTART:20230326T010000
END:DAYLIGHT
BEGIN:STANDARD
TZOFFSETFROM:+0000
TZOFFSETTO:-0100
TZNAME:-01
DTSTART:20231029T010000
END:STANDARD
END:VTIMEZONE
BEGIN:VEVENT
DTSTART;TZID=UTC:20220307T133000
DTEND;TZID=UTC:20220307T143000
DTSTAMP:20260425T224432
CREATED:20220113T220329Z
LAST-MODIFIED:20220113T220329Z
UID:2407-1646659800-1646663400@oasisbereavement.com
SUMMARY:Evergreen Connection Café – Games Galore Club
DESCRIPTION:The Evergreen Connection Café Games Galore Club will meet the first Monday of every month from 1:30pm to 3:00pm. We will meet to play games and discuss fun activities. \nAll Connection Café Clubs are here to help people looking for social activities and community events in addition to providing interest-based activities to those who attend. They are open to clients\,volunteers\, staff\, and community members – everyone! These clubs are not support groups – just a way to connect people. \nUpcoming Games Galore Club Dates: \n\nFeb 7\, 2022 at 1:30 pm\nMar 7\, 2022 at 1:30 pm\nApr 4\, 2022 at 1:30 pm\n\nRegister with Zoom in advance for these events below. After registering\, you will receive a confirmation email containing information about joining the meeting. \nhttps://zoom.us/meeting/register/tJ0ofuisrDIuHdOSL3S8opEuKsuRKAmhU1a6
URL:https://oasisbereavement.com/event/evergreen-connection-cafe-games-galore-club-2-2/
END:VEVENT
BEGIN:VEVENT
DTSTART;TZID=UTC:20220304T100000
DTEND;TZID=UTC:20220304T110000
DTSTAMP:20260425T224433
CREATED:20220113T223603Z
LAST-MODIFIED:20220113T223603Z
UID:1145-1646388000-1646391600@oasisbereavement.com
SUMMARY:Hope House Hospice Bereavement Bistro - Weekly
DESCRIPTION:
URL:https://oasisbereavement.com/event/hope-house-hospice-bereavement-bistro-weekly-7/
END:VEVENT
BEGIN:VEVENT
DTSTART;TZID=UTC:20220304T100000
DTEND;TZID=UTC:20220304T110000
DTSTAMP:20260425T224433
CREATED:20220113T223603Z
LAST-MODIFIED:20220113T223603Z
UID:2430-1646388000-1646391600@oasisbereavement.com
SUMMARY:Hope House Hospice Bereavement Bistro - Weekly
DESCRIPTION:
URL:https://oasisbereavement.com/event/hope-house-hospice-bereavement-bistro-weekly-7-2/
END:VEVENT
BEGIN:VEVENT
DTSTART;TZID=UTC:20220301T130000
DTEND;TZID=UTC:20220301T150000
DTSTAMP:20260425T224433
CREATED:20220113T222314Z
LAST-MODIFIED:20220113T222314Z
UID:1122-1646139600-1646146800@oasisbereavement.com
SUMMARY:Hope Hospice Comfort Cafe
DESCRIPTION:
URL:https://oasisbereavement.com/event/hope-hospice-comfort-cafe-2/
END:VEVENT
BEGIN:VEVENT
DTSTART;TZID=UTC:20220301T130000
DTEND;TZID=UTC:20220301T150000
DTSTAMP:20260425T224433
CREATED:20220113T222314Z
LAST-MODIFIED:20220113T222314Z
UID:2419-1646139600-1646146800@oasisbereavement.com
SUMMARY:Hope Hospice Comfort Cafe
DESCRIPTION:
URL:https://oasisbereavement.com/event/hope-hospice-comfort-cafe-2-2/
END:VEVENT
BEGIN:VEVENT
DTSTART;TZID=Atlantic/Azores:20220301T123000
DTEND;TZID=Atlantic/Azores:20220301T133000
DTSTAMP:20260425T224433
CREATED:20220217T020309Z
LAST-MODIFIED:20220217T020309Z
UID:2440-1646137800-1646141400@oasisbereavement.com
SUMMARY:Parenting After Loss 6 Week Virtual Support Group
DESCRIPTION:Return to Zero: Parenting After Loss – Begins March 1\, 2022 – Tuesdays at 9:30 PST \nWe’ve been working diligently to revamp our virtual support group program.  The registration page on our website is now updated with an easy registration format\, and we’ve added multiple new groups as well. \nhttps://rtzhope.org/register \n 
URL:https://oasisbereavement.com/event/parenting-after-loss-6-week-virtual-support-group-2/
END:VEVENT
BEGIN:VEVENT
DTSTART;TZID=Atlantic/Azores:20220301T123000
DTEND;TZID=Atlantic/Azores:20220301T133000
DTSTAMP:20260425T224433
CREATED:20220217T020309Z
LAST-MODIFIED:20220217T020332Z
UID:1182-1646137800-1646141400@oasisbereavement.com
SUMMARY:Parenting After Loss 6 Week Virtual Support Group
DESCRIPTION:Return to Zero: Parenting After Loss – Begins March 1\, 2022 – Tuesdays at 9:30 PST \nWe’ve been working diligently to revamp our virtual support group program.  The registration page on our website is now updated with an easy registration format\, and we’ve added multiple new groups as well. \nhttps://rtzhope.org/register \n 
URL:https://oasisbereavement.com/event/parenting-after-loss-6-week-virtual-support-group/
END:VEVENT
BEGIN:VEVENT
DTSTART;TZID=UTC:20220227T133000
DTEND;TZID=UTC:20220227T143000
DTSTAMP:20260425T224433
CREATED:20220113T215755Z
LAST-MODIFIED:20220113T215755Z
UID:2404-1645968600-1645972200@oasisbereavement.com
SUMMARY:Bridges of Hope Drop In - 4th Sunday of the Month
DESCRIPTION:
URL:https://oasisbereavement.com/event/bridges-of-hope-drop-in-4th-sunday-of-the-month-2-2/
END:VEVENT
BEGIN:VEVENT
DTSTART;TZID=UTC:20220227T133000
DTEND;TZID=UTC:20220227T143000
DTSTAMP:20260425T224433
CREATED:20220113T215755Z
LAST-MODIFIED:20220113T215755Z
UID:1091-1645968600-1645972200@oasisbereavement.com
SUMMARY:Bridges of Hope Drop In - 4th Sunday of the Month
DESCRIPTION:
URL:https://oasisbereavement.com/event/bridges-of-hope-drop-in-4th-sunday-of-the-month-2/
END:VEVENT
BEGIN:VEVENT
DTSTART;TZID=UTC:20220225T133000
DTEND;TZID=UTC:20220225T143000
DTSTAMP:20260425T224433
CREATED:20220217T015928Z
LAST-MODIFIED:20220217T020430Z
UID:1180-1645795800-1645799400@oasisbereavement.com
SUMMARY:Pregnancy & Infant Loss 6 Week Virtual Support Group
DESCRIPTION:Return to Zero: Pregnancy & Infant Loss – Begins February 25\, 2022 – Fridays at 10:30 am PST \nWe’ve been working diligently to revamp our virtual support group program.  The registration page on our website is now updated with an easy registration format\, and we’ve added multiple new groups as well. \n  \nhttps://rtzhope.org/register
URL:https://oasisbereavement.com/event/pregnancy-infant-loss-6-week-virtual-support-group/
END:VEVENT
BEGIN:VEVENT
DTSTART;TZID=UTC:20220225T133000
DTEND;TZID=UTC:20220225T143000
DTSTAMP:20260425T224433
CREATED:20220217T015928Z
LAST-MODIFIED:20220217T015928Z
UID:2439-1645795800-1645799400@oasisbereavement.com
SUMMARY:Pregnancy & Infant Loss 6 Week Virtual Support Group
DESCRIPTION:Return to Zero: Pregnancy & Infant Loss – Begins February 25\, 2022 – Fridays at 10:30 am PST \nWe’ve been working diligently to revamp our virtual support group program.  The registration page on our website is now updated with an easy registration format\, and we’ve added multiple new groups as well. \n  \nhttps://rtzhope.org/register
URL:https://oasisbereavement.com/event/pregnancy-infant-loss-6-week-virtual-support-group-3/
END:VEVENT
BEGIN:VEVENT
DTSTART;TZID=UTC:20220225T100000
DTEND;TZID=UTC:20220225T110000
DTSTAMP:20260425T224433
CREATED:20220113T223502Z
LAST-MODIFIED:20220113T223502Z
UID:1143-1645783200-1645786800@oasisbereavement.com
SUMMARY:Hope House Hospice Bereavement Bistro - Weekly
DESCRIPTION:
URL:https://oasisbereavement.com/event/hope-house-hospice-bereavement-bistro-weekly-6/
END:VEVENT
BEGIN:VEVENT
DTSTART;TZID=UTC:20220225T100000
DTEND;TZID=UTC:20220225T110000
DTSTAMP:20260425T224433
CREATED:20220113T223502Z
LAST-MODIFIED:20220113T223502Z
UID:2429-1645783200-1645786800@oasisbereavement.com
SUMMARY:Hope House Hospice Bereavement Bistro - Weekly
DESCRIPTION:
URL:https://oasisbereavement.com/event/hope-house-hospice-bereavement-bistro-weekly-6-2/
END:VEVENT
BEGIN:VEVENT
DTSTART;TZID=UTC:20220222T130000
DTEND;TZID=UTC:20220222T150000
DTSTAMP:20260425T224433
CREATED:20220113T222157Z
LAST-MODIFIED:20220113T222157Z
UID:1120-1645534800-1645542000@oasisbereavement.com
SUMMARY:Hope Hospice Comfort Cafe - Drop In Tuesdays
DESCRIPTION:
URL:https://oasisbereavement.com/event/hope-hospice-comfort-cafe-drop-in-tuesdays-5/
END:VEVENT
BEGIN:VEVENT
DTSTART;TZID=UTC:20220222T130000
DTEND;TZID=UTC:20220222T150000
DTSTAMP:20260425T224433
CREATED:20220113T222157Z
LAST-MODIFIED:20220113T222157Z
UID:2418-1645534800-1645542000@oasisbereavement.com
SUMMARY:Hope Hospice Comfort Cafe - Drop In Tuesdays
DESCRIPTION:
URL:https://oasisbereavement.com/event/hope-hospice-comfort-cafe-drop-in-tuesdays-5-2/
END:VEVENT
BEGIN:VEVENT
DTSTART;TZID=UTC:20220218T110000
DTEND;TZID=UTC:20220218T120000
DTSTAMP:20260425T224433
CREATED:20220113T220811Z
LAST-MODIFIED:20220113T220811Z
UID:1103-1645182000-1645185600@oasisbereavement.com
SUMMARY:Evergreen Connection Café  – Book Discussion Club
DESCRIPTION:The Evergreen Connection Café Book Discussion Club will meet the third Friday of every month from 11:00am to 12:30pm via Zoom. \nWe will discuss books that focus on self-care\, grief\, and other healthcare related topics. There will not be a specific book for everyone to read\, instead it will be more of a reference library for those interested in finding their next book and/or recommending and discussing one they have found to be helpful on their journey. \nAll Connection Café Clubs are here to help people looking for social activities and community events in addition to providing interest-based activities to those who attend. They are open to clients\,volunteers\, staff\, and community members – everyone! These clubs are not support groups – just a way to connect people. \nUpcoming Book Discussion Club Dates: \n\nFeb 18\, 2022 at 11:00 am\nMar 18\, 2022 at 11:00 am\nApr 15\, 2022 at 11:00 am\n\nRegister with Zoom in advance for these events below. After registering\, you will receive a confirmation email containing information about joining the meeting. \nhttps://us06web.zoom.us/meeting/register/tZ0pcuqrrzwjHdavKhW6npDpsKvgVwRfkPQu \n 
URL:https://oasisbereavement.com/event/evergreen-connection-cafe-book-discussion-club/
LOCATION:ZOOM
END:VEVENT
BEGIN:VEVENT
DTSTART;TZID=UTC:20220218T110000
DTEND;TZID=UTC:20220218T120000
DTSTAMP:20260425T224434
CREATED:20220113T220811Z
LAST-MODIFIED:20220113T220811Z
UID:2410-1645182000-1645185600@oasisbereavement.com
SUMMARY:Evergreen Connection Café  – Book Discussion Club
DESCRIPTION:The Evergreen Connection Café Book Discussion Club will meet the third Friday of every month from 11:00am to 12:30pm via Zoom. \nWe will discuss books that focus on self-care\, grief\, and other healthcare related topics. There will not be a specific book for everyone to read\, instead it will be more of a reference library for those interested in finding their next book and/or recommending and discussing one they have found to be helpful on their journey. \nAll Connection Café Clubs are here to help people looking for social activities and community events in addition to providing interest-based activities to those who attend. They are open to clients\,volunteers\, staff\, and community members – everyone! These clubs are not support groups – just a way to connect people. \nUpcoming Book Discussion Club Dates: \n\nFeb 18\, 2022 at 11:00 am\nMar 18\, 2022 at 11:00 am\nApr 15\, 2022 at 11:00 am\n\nRegister with Zoom in advance for these events below. After registering\, you will receive a confirmation email containing information about joining the meeting. \nhttps://us06web.zoom.us/meeting/register/tZ0pcuqrrzwjHdavKhW6npDpsKvgVwRfkPQu \n 
URL:https://oasisbereavement.com/event/evergreen-connection-cafe-book-discussion-club-9/
LOCATION:ZOOM
END:VEVENT
BEGIN:VEVENT
DTSTART;TZID=UTC:20220218T100000
DTEND;TZID=UTC:20220218T110000
DTSTAMP:20260425T224434
CREATED:20220113T223413Z
LAST-MODIFIED:20220113T223413Z
UID:2428-1645178400-1645182000@oasisbereavement.com
SUMMARY:Hope House Hospice Bereavement Bistro - Weekly
DESCRIPTION:
URL:https://oasisbereavement.com/event/hope-house-hospice-bereavement-bistro-weekly-5-2/
END:VEVENT
BEGIN:VEVENT
DTSTART;TZID=UTC:20220218T100000
DTEND;TZID=UTC:20220218T110000
DTSTAMP:20260425T224434
CREATED:20220113T223413Z
LAST-MODIFIED:20220113T223413Z
UID:1141-1645178400-1645182000@oasisbereavement.com
SUMMARY:Hope House Hospice Bereavement Bistro - Weekly
DESCRIPTION:
URL:https://oasisbereavement.com/event/hope-house-hospice-bereavement-bistro-weekly-5/
END:VEVENT
BEGIN:VEVENT
DTSTART;TZID=UTC:20220215T130000
DTEND;TZID=UTC:20220215T150000
DTSTAMP:20260425T224434
CREATED:20220113T222102Z
LAST-MODIFIED:20220113T222102Z
UID:1118-1644930000-1644937200@oasisbereavement.com
SUMMARY:Hope Hospice Comfort Cafe - Drop In Tuesdays
DESCRIPTION:
URL:https://oasisbereavement.com/event/hope-hospice-comfort-cafe-drop-in-tuesdays-4/
END:VEVENT
BEGIN:VEVENT
DTSTART;TZID=UTC:20220215T130000
DTEND;TZID=UTC:20220215T150000
DTSTAMP:20260425T224434
CREATED:20220113T222102Z
LAST-MODIFIED:20220113T222102Z
UID:2417-1644930000-1644937200@oasisbereavement.com
SUMMARY:Hope Hospice Comfort Cafe - Drop In Tuesdays
DESCRIPTION:
URL:https://oasisbereavement.com/event/hope-hospice-comfort-cafe-drop-in-tuesdays-4-2/
END:VEVENT
BEGIN:VEVENT
DTSTART;TZID=UTC:20220215T080000
DTEND;TZID=UTC:20220215T170000
DTSTAMP:20260425T224434
CREATED:20220113T225411Z
LAST-MODIFIED:20220113T225411Z
UID:2436-1644912000-1644944400@oasisbereavement.com
SUMMARY:Hospice Georgina - Drop-In Grief Group - 1st and 3rd Tuesday
DESCRIPTION:Drop-In Grief Group\n\nTuesday\, January 18\, 2022\n7:00 PM  8:00 PM\nHospice Georgina (map)\n\n\n\n\n\n\n\nThis group is intended for those who are past the anniversary of their loss but are still grieving. This group will look to bring together those from different walks of grief\, to share their unique experience in a non-judgmental way. This group runs every 1st and 3rd Tuesday of the month. \nVIRTUAL only \nPlease contact Sarah at griefsupports@hospicegeorgina.com
URL:https://oasisbereavement.com/event/hospice-georgina-drop-in-grief-group-1st-and-3rd-tuesday-3-2/
END:VEVENT
BEGIN:VEVENT
DTSTART;TZID=UTC:20220215T080000
DTEND;TZID=UTC:20220215T170000
DTSTAMP:20260425T224434
CREATED:20220113T225411Z
LAST-MODIFIED:20220113T225411Z
UID:1157-1644912000-1644944400@oasisbereavement.com
SUMMARY:Hospice Georgina - Drop-In Grief Group - 1st and 3rd Tuesday
DESCRIPTION:Drop-In Grief Group\n\nTuesday\, January 18\, 2022\n7:00 PM  8:00 PM\nHospice Georgina (map)\n\n\n\n\n\n\n\nThis group is intended for those who are past the anniversary of their loss but are still grieving. This group will look to bring together those from different walks of grief\, to share their unique experience in a non-judgmental way. This group runs every 1st and 3rd Tuesday of the month. \nVIRTUAL only \nPlease contact Sarah at griefsupports@hospicegeorgina.com
URL:https://oasisbereavement.com/event/hospice-georgina-drop-in-grief-group-1st-and-3rd-tuesday-3/
END:VEVENT
BEGIN:VEVENT
DTSTART;TZID=UTC:20220211T100000
DTEND;TZID=UTC:20220211T110000
DTSTAMP:20260425T224434
CREATED:20220113T223315Z
LAST-MODIFIED:20220113T223315Z
UID:1139-1644573600-1644577200@oasisbereavement.com
SUMMARY:Hope House Hospice Bereavement Bistro - Weekly
DESCRIPTION:
URL:https://oasisbereavement.com/event/hope-house-hospice-bereavement-bistro-weekly-4/
END:VEVENT
BEGIN:VEVENT
DTSTART;TZID=UTC:20220211T100000
DTEND;TZID=UTC:20220211T110000
DTSTAMP:20260425T224434
CREATED:20220113T223315Z
LAST-MODIFIED:20220113T223315Z
UID:2427-1644573600-1644577200@oasisbereavement.com
SUMMARY:Hope House Hospice Bereavement Bistro - Weekly
DESCRIPTION:
URL:https://oasisbereavement.com/event/hope-house-hospice-bereavement-bistro-weekly-4-2/
END:VEVENT
BEGIN:VEVENT
DTSTART;TZID=UTC:20220208T130000
DTEND;TZID=UTC:20220208T150000
DTSTAMP:20260425T224434
CREATED:20220113T221957Z
LAST-MODIFIED:20220113T221957Z
UID:2416-1644325200-1644332400@oasisbereavement.com
SUMMARY:Hope Hospice Comfort Cafe - Drop In Tuesdays
DESCRIPTION:
URL:https://oasisbereavement.com/event/hope-hospice-comfort-cafe-drop-in-tuesdays-3-2/
END:VEVENT
BEGIN:VEVENT
DTSTART;TZID=UTC:20220208T130000
DTEND;TZID=UTC:20220208T150000
DTSTAMP:20260425T224434
CREATED:20220113T221957Z
LAST-MODIFIED:20220113T221957Z
UID:1116-1644325200-1644332400@oasisbereavement.com
SUMMARY:Hope Hospice Comfort Cafe - Drop In Tuesdays
DESCRIPTION:
URL:https://oasisbereavement.com/event/hope-hospice-comfort-cafe-drop-in-tuesdays-3/
END:VEVENT
BEGIN:VEVENT
DTSTART;TZID=UTC:20220208T130000
DTEND;TZID=UTC:20220208T140000
DTSTAMP:20260425T224434
CREATED:20220113T225736Z
LAST-MODIFIED:20220113T225736Z
UID:1161-1644325200-1644328800@oasisbereavement.com
SUMMARY:Hospice Georgina - Creative Therapy
DESCRIPTION:Creative Therapy\n\nTuesday\, February 8\, 2022\n1:00 PM  2:00 PM\nHospice Georgina (map)\n\n\n\n\n\n\n\nThe purpose of the Creative Therapy program is to provide clients with a creative outlet to express their feelings\, thoughts and emotions. \nIN PERSON + VIRTUAL \nLimited spaces available\, please contact Victoria to register. \nVictoria: 905-722-9333 (ext. 5505)\, events@hospicegeorgina.com
URL:https://oasisbereavement.com/event/hospice-georgina-creative-therapy-3/
END:VEVENT
BEGIN:VEVENT
DTSTART;TZID=UTC:20220208T130000
DTEND;TZID=UTC:20220208T140000
DTSTAMP:20260425T224434
CREATED:20220113T225736Z
LAST-MODIFIED:20220113T225736Z
UID:2438-1644325200-1644328800@oasisbereavement.com
SUMMARY:Hospice Georgina - Creative Therapy
DESCRIPTION:Creative Therapy\n\nTuesday\, February 8\, 2022\n1:00 PM  2:00 PM\nHospice Georgina (map)\n\n\n\n\n\n\n\nThe purpose of the Creative Therapy program is to provide clients with a creative outlet to express their feelings\, thoughts and emotions. \nIN PERSON + VIRTUAL \nLimited spaces available\, please contact Victoria to register. \nVictoria: 905-722-9333 (ext. 5505)\, events@hospicegeorgina.com
URL:https://oasisbereavement.com/event/hospice-georgina-creative-therapy-3-2/
END:VEVENT
BEGIN:VEVENT
DTSTART;TZID=UTC:20220207T133000
DTEND;TZID=UTC:20220207T143000
DTSTAMP:20260425T224434
CREATED:20220113T220212Z
LAST-MODIFIED:20220113T220212Z
UID:1095-1644240600-1644244200@oasisbereavement.com
SUMMARY:Evergreen Connection Café – Games Galore Club
DESCRIPTION:The Evergreen Connection Café Games Galore Club will meet the first Monday of every month from 1:30pm to 3:00pm. We will meet to play games and discuss fun activities. \nAll Connection Café Clubs are here to help people looking for social activities and community events in addition to providing interest-based activities to those who attend. They are open to clients\,volunteers\, staff\, and community members – everyone! These clubs are not support groups – just a way to connect people. \nUpcoming Games Galore Club Dates: \n\nFeb 7\, 2022 at 1:30 pm\nMar 7\, 2022 at 1:30 pm\nApr 4\, 2022 at 1:30 pm\n\nRegister with Zoom in advance for these events below. After registering\, you will receive a confirmation email containing information about joining the meeting. \nhttps://zoom.us/meeting/register/tJ0ofuisrDIuHdOSL3S8opEuKsuRKAmhU1a6
URL:https://oasisbereavement.com/event/evergreen-connection-cafe-games-galore-club/
END:VEVENT
END:VCALENDAR