BEGIN:VCALENDAR
VERSION:2.0
PRODID:-//Oasis Bereavement - ECPv6.15.18//NONSGML v1.0//EN
CALSCALE:GREGORIAN
METHOD:PUBLISH
X-WR-CALNAME:Oasis Bereavement
X-ORIGINAL-URL:https://oasisbereavement.com
X-WR-CALDESC:Events for Oasis Bereavement
REFRESH-INTERVAL;VALUE=DURATION:PT1H
X-Robots-Tag:noindex
X-PUBLISHED-TTL:PT1H
BEGIN:VTIMEZONE
TZID:UTC
BEGIN:STANDARD
TZOFFSETFROM:+0000
TZOFFSETTO:+0000
TZNAME:UTC
DTSTART:20210101T000000
END:STANDARD
END:VTIMEZONE
BEGIN:VEVENT
DTSTART;TZID=UTC:20220809T183000
DTEND;TZID=UTC:20220809T200000
DTSTAMP:20260425T192758
CREATED:20220617T225638Z
LAST-MODIFIED:20220617T225638Z
UID:2483-1660069800-1660075200@oasisbereavement.com
SUMMARY:Hope House Hospice Alternate Tuesdays - Adults 18-25
DESCRIPTION:
URL:https://oasisbereavement.com/event/hope-house-hospice-alternate-tuesdays-adults-18-25-2-2/
END:VEVENT
BEGIN:VEVENT
DTSTART;TZID=UTC:20220809T183000
DTEND;TZID=UTC:20220809T200000
DTSTAMP:20260425T192758
CREATED:20220617T225638Z
LAST-MODIFIED:20220617T225638Z
UID:1384-1660069800-1660075200@oasisbereavement.com
SUMMARY:Hope House Hospice Alternate Tuesdays - Adults 18-25
DESCRIPTION:
URL:https://oasisbereavement.com/event/hope-house-hospice-alternate-tuesdays-adults-18-25-2/
END:VEVENT
BEGIN:VEVENT
DTSTART;TZID=UTC:20220808T103000
DTEND;TZID=UTC:20220808T113000
DTSTAMP:20260425T192758
CREATED:20220621T224605Z
LAST-MODIFIED:20220621T224605Z
UID:1427-1659954600-1659958200@oasisbereavement.com
SUMMARY:Georgina Hospice Weekly Coffee and Chats
DESCRIPTION:Coffee & Chats\n\nMonday\, August 8\, 2022\n10:30 AM  11:30 AM\n\n\n\n\n\n\n\nJoin us Monday mornings for a cup of coffee and an hour of socialization with our Volunteer and Client Coordinator and a member of Vaughan Community Health Centre. In this program we take a laid back approach of talking about life and wellbeing. \nThis is facilitated on Zoom and is done in partnership with the Vaughan Community Health Centre. \nPlease contact Victoria 905-722-9333 (ext. 5505) or events@hospicegeorgina.com
URL:https://oasisbereavement.com/event/georgina-hospice-weekly-coffee-and-chats/
END:VEVENT
BEGIN:VEVENT
DTSTART;TZID=UTC:20220808T103000
DTEND;TZID=UTC:20220808T113000
DTSTAMP:20260425T192758
CREATED:20220621T224605Z
LAST-MODIFIED:20220621T224605Z
UID:2504-1659954600-1659958200@oasisbereavement.com
SUMMARY:Georgina Hospice Weekly Coffee and Chats
DESCRIPTION:Coffee & Chats\n\nMonday\, August 8\, 2022\n10:30 AM  11:30 AM\n\n\n\n\n\n\n\nJoin us Monday mornings for a cup of coffee and an hour of socialization with our Volunteer and Client Coordinator and a member of Vaughan Community Health Centre. In this program we take a laid back approach of talking about life and wellbeing. \nThis is facilitated on Zoom and is done in partnership with the Vaughan Community Health Centre. \nPlease contact Victoria 905-722-9333 (ext. 5505) or events@hospicegeorgina.com
URL:https://oasisbereavement.com/event/georgina-hospice-weekly-coffee-and-chats-2/
END:VEVENT
BEGIN:VEVENT
DTSTART;TZID=UTC:20220805T100000
DTEND;TZID=UTC:20220805T113000
DTSTAMP:20260425T192758
CREATED:20220617T224807Z
LAST-MODIFIED:20220617T224807Z
UID:1371-1659693600-1659699000@oasisbereavement.com
SUMMARY:Hope House Hospice Weekly Bereavement Bistro
DESCRIPTION:
URL:https://oasisbereavement.com/event/hope-house-hospice-weekly-bereavement-bistro-2/
END:VEVENT
BEGIN:VEVENT
DTSTART;TZID=UTC:20220805T100000
DTEND;TZID=UTC:20220805T113000
DTSTAMP:20260425T192758
CREATED:20220617T224807Z
LAST-MODIFIED:20220617T224807Z
UID:2477-1659693600-1659699000@oasisbereavement.com
SUMMARY:Hope House Hospice Weekly Bereavement Bistro
DESCRIPTION:
URL:https://oasisbereavement.com/event/hope-house-hospice-weekly-bereavement-bistro-2-2/
END:VEVENT
BEGIN:VEVENT
DTSTART;TZID=UTC:20220804T130000
DTEND;TZID=UTC:20220804T140000
DTSTAMP:20260425T192758
CREATED:20220621T224435Z
LAST-MODIFIED:20220621T224435Z
UID:2503-1659618000-1659621600@oasisbereavement.com
SUMMARY:Georgina Hospice Weekly Walking Group
DESCRIPTION:Walking Group\n\nThursday\, August 4\, 2022\n1:00 PM  2:00 PM\nHospice Georgina (map)\n\n\n\n\n\n\n\nJoin us on Thurday afternoon’s for an outdoor walking group\, where individuals are able to express their feelings and enjoy a light exercise. We will be walking around various trails and labyrinths\, while sometimes incorporating outdoor activities. \nWeather permitting. \nPlease register with Victoria: 905-722-9333 (ext. 5505)\, events@hospicegeorgina.com
URL:https://oasisbereavement.com/event/georgina-hospice-weekly-walking-group-2/
END:VEVENT
BEGIN:VEVENT
DTSTART;TZID=UTC:20220804T130000
DTEND;TZID=UTC:20220804T140000
DTSTAMP:20260425T192758
CREATED:20220621T224435Z
LAST-MODIFIED:20220621T224435Z
UID:1425-1659618000-1659621600@oasisbereavement.com
SUMMARY:Georgina Hospice Weekly Walking Group
DESCRIPTION:Walking Group\n\nThursday\, August 4\, 2022\n1:00 PM  2:00 PM\nHospice Georgina (map)\n\n\n\n\n\n\n\nJoin us on Thurday afternoon’s for an outdoor walking group\, where individuals are able to express their feelings and enjoy a light exercise. We will be walking around various trails and labyrinths\, while sometimes incorporating outdoor activities. \nWeather permitting. \nPlease register with Victoria: 905-722-9333 (ext. 5505)\, events@hospicegeorgina.com
URL:https://oasisbereavement.com/event/georgina-hospice-weekly-walking-group/
END:VEVENT
BEGIN:VEVENT
DTSTART;TZID=UTC:20220802T190000
DTEND;TZID=UTC:20220802T200000
DTSTAMP:20260425T192758
CREATED:20220621T224324Z
LAST-MODIFIED:20220621T224324Z
UID:1423-1659466800-1659470400@oasisbereavement.com
SUMMARY:Georgina Hospice Weekly Drop-In Grief Group
DESCRIPTION:Drop-In Grief Group\n\nTuesday\, August 2\, 2022\n7:00 PM  8:00 PM\nHospice Georgina (map)\n\n\n\n\n\n\n\nThis group is intended for those who are past the anniversary of their loss but are still grieving. This group will look to bring together those from different walks of grief\, to share their unique experience in a non-judgmental way. \nPlease contact Shannon at ccc@hospicegeorgina.com
URL:https://oasisbereavement.com/event/georgina-hospice-weekly-drop-in-grief-group/
END:VEVENT
BEGIN:VEVENT
DTSTART;TZID=UTC:20220802T190000
DTEND;TZID=UTC:20220802T200000
DTSTAMP:20260425T192758
CREATED:20220621T224324Z
LAST-MODIFIED:20220621T224324Z
UID:2502-1659466800-1659470400@oasisbereavement.com
SUMMARY:Georgina Hospice Weekly Drop-In Grief Group
DESCRIPTION:Drop-In Grief Group\n\nTuesday\, August 2\, 2022\n7:00 PM  8:00 PM\nHospice Georgina (map)\n\n\n\n\n\n\n\nThis group is intended for those who are past the anniversary of their loss but are still grieving. This group will look to bring together those from different walks of grief\, to share their unique experience in a non-judgmental way. \nPlease contact Shannon at ccc@hospicegeorgina.com
URL:https://oasisbereavement.com/event/georgina-hospice-weekly-drop-in-grief-group-2/
END:VEVENT
BEGIN:VEVENT
DTSTART;TZID=UTC:20220802T130000
DTEND;TZID=UTC:20220802T150000
DTSTAMP:20260425T192758
CREATED:20220617T224036Z
LAST-MODIFIED:20220617T224036Z
UID:2471-1659445200-1659452400@oasisbereavement.com
SUMMARY:Hope House Hospice Weekly Comfort Cafe
DESCRIPTION:
URL:https://oasisbereavement.com/event/hope-house-hospice-weekly-comfort-cafe-2-2/
END:VEVENT
BEGIN:VEVENT
DTSTART;TZID=UTC:20220802T130000
DTEND;TZID=UTC:20220802T150000
DTSTAMP:20260425T192758
CREATED:20220617T224036Z
LAST-MODIFIED:20220617T224036Z
UID:1358-1659445200-1659452400@oasisbereavement.com
SUMMARY:Hope House Hospice Weekly Comfort Cafe
DESCRIPTION:
URL:https://oasisbereavement.com/event/hope-house-hospice-weekly-comfort-cafe-2/
END:VEVENT
BEGIN:VEVENT
DTSTART;TZID=UTC:20220801T180000
DTEND;TZID=UTC:20220801T193000
DTSTAMP:20260425T192758
CREATED:20220617T230406Z
LAST-MODIFIED:20220617T230406Z
UID:1397-1659376800-1659382200@oasisbereavement.com
SUMMARY:Hope House Hospice Alternate Mondays - Relief Room - Teens 13-17
DESCRIPTION:
URL:https://oasisbereavement.com/event/hope-house-hospice-alternate-mondays-relief-room-teens-13-17-2/
END:VEVENT
BEGIN:VEVENT
DTSTART;TZID=UTC:20220801T180000
DTEND;TZID=UTC:20220801T193000
DTSTAMP:20260425T192758
CREATED:20220617T230406Z
LAST-MODIFIED:20220617T230406Z
UID:2489-1659376800-1659382200@oasisbereavement.com
SUMMARY:Hope House Hospice Alternate Mondays - Relief Room - Teens 13-17
DESCRIPTION:
URL:https://oasisbereavement.com/event/hope-house-hospice-alternate-mondays-relief-room-teens-13-17-2-2/
END:VEVENT
BEGIN:VEVENT
DTSTART;TZID=UTC:20220722T133000
DTEND;TZID=UTC:20220722T160000
DTSTAMP:20260425T192758
CREATED:20220331T171129Z
LAST-MODIFIED:20220331T171129Z
UID:1210-1658496600-1658505600@oasisbereavement.com
SUMMARY:Children's Grief Art Therapy 3-Day Camp Offered by Doane House Hospice
DESCRIPTION:Afternoon sessions are for Children ages 10-12: 1:30pm-4:00pm  \nThere are three main art therapy activities for each day: 1) Feeling Flowers 2) Superheroes 3) Wish Kite \nFurther details on the poster.  Please Register by calling Doane House Hospice at 905-967-0259 or email: kvalkanas@myhospice.ca \n 
URL:https://oasisbereavement.com/event/childrens-grief-art-therapy-3-day-camp-offered-by-doane-house-hospice-6/
END:VEVENT
BEGIN:VEVENT
DTSTART;TZID=UTC:20220722T133000
DTEND;TZID=UTC:20220722T160000
DTSTAMP:20260425T192758
CREATED:20220331T171129Z
LAST-MODIFIED:20220331T171129Z
UID:2452-1658496600-1658505600@oasisbereavement.com
SUMMARY:Children's Grief Art Therapy 3-Day Camp Offered by Doane House Hospice
DESCRIPTION:Afternoon sessions are for Children ages 10-12: 1:30pm-4:00pm  \nThere are three main art therapy activities for each day: 1) Feeling Flowers 2) Superheroes 3) Wish Kite \nFurther details on the poster.  Please Register by calling Doane House Hospice at 905-967-0259 or email: kvalkanas@myhospice.ca \n 
URL:https://oasisbereavement.com/event/childrens-grief-art-therapy-3-day-camp-offered-by-doane-house-hospice-6-2/
END:VEVENT
BEGIN:VEVENT
DTSTART;TZID=UTC:20220722T090000
DTEND;TZID=UTC:20220722T113000
DTSTAMP:20260425T192758
CREATED:20220331T170935Z
LAST-MODIFIED:20220331T170935Z
UID:2451-1658480400-1658489400@oasisbereavement.com
SUMMARY:Children's Grief Art Therapy 3-Day Camp Offered by Doane House Hospice
DESCRIPTION:Morning sessions are for Children ages 6-9: 9am-11:30am \nThere are three main art therapy activities for each day: 1) Feeling Flowers 2) Superheroes 3) Wish Kite \nFurther details on the poster.  Please Register by calling Doane House Hospice at 905-967-0259 or email: kvalkanas@myhospice.ca \n 
URL:https://oasisbereavement.com/event/childrens-grief-art-therapy-3-day-camp-offered-by-doane-house-hospice-5-2/
END:VEVENT
BEGIN:VEVENT
DTSTART;TZID=UTC:20220722T090000
DTEND;TZID=UTC:20220722T113000
DTSTAMP:20260425T192758
CREATED:20220331T170935Z
LAST-MODIFIED:20220331T170935Z
UID:1208-1658480400-1658489400@oasisbereavement.com
SUMMARY:Children's Grief Art Therapy 3-Day Camp Offered by Doane House Hospice
DESCRIPTION:Morning sessions are for Children ages 6-9: 9am-11:30am \nThere are three main art therapy activities for each day: 1) Feeling Flowers 2) Superheroes 3) Wish Kite \nFurther details on the poster.  Please Register by calling Doane House Hospice at 905-967-0259 or email: kvalkanas@myhospice.ca \n 
URL:https://oasisbereavement.com/event/childrens-grief-art-therapy-3-day-camp-offered-by-doane-house-hospice-5/
END:VEVENT
BEGIN:VEVENT
DTSTART;TZID=UTC:20220721T133000
DTEND;TZID=UTC:20220721T160000
DTSTAMP:20260425T192758
CREATED:20220331T170730Z
LAST-MODIFIED:20220331T171307Z
UID:1206-1658410200-1658419200@oasisbereavement.com
SUMMARY:Children's Grief Art Therapy 3-Day Camp Offered by Doane House Hospice
DESCRIPTION:Afternoon sessions are for Children ages 10-12: 1:30pm-4:00pm  \nThere are three main art therapy activities for each day: \n1) Feeling Flowers 2) Superheroes 3) Wish Kite \nFurther details on the poster.  Please Register by calling Doane House Hospice at 905-967-0259 or email: kvalkanas@myhospice.ca \n 
URL:https://oasisbereavement.com/event/childrens-grief-art-therapy-3-day-camp-offered-by-doane-house-hospice-4/
END:VEVENT
BEGIN:VEVENT
DTSTART;TZID=UTC:20220721T133000
DTEND;TZID=UTC:20220721T160000
DTSTAMP:20260425T192758
CREATED:20220331T170730Z
LAST-MODIFIED:20220331T170730Z
UID:2450-1658410200-1658419200@oasisbereavement.com
SUMMARY:Children's Grief Art Therapy 3-Day Camp Offered by Doane House Hospice
DESCRIPTION:Afternoon sessions are for Children ages 10-12: 1:30pm-4:00pm  \nThere are three main art therapy activities for each day: \n1) Feeling Flowers 2) Superheroes 3) Wish Kite \nFurther details on the poster.  Please Register by calling Doane House Hospice at 905-967-0259 or email: kvalkanas@myhospice.ca \n 
URL:https://oasisbereavement.com/event/childrens-grief-art-therapy-3-day-camp-offered-by-doane-house-hospice-4-2/
END:VEVENT
BEGIN:VEVENT
DTSTART;TZID=UTC:20220721T090000
DTEND;TZID=UTC:20220721T113000
DTSTAMP:20260425T192758
CREATED:20220331T170511Z
LAST-MODIFIED:20220331T170511Z
UID:1204-1658394000-1658403000@oasisbereavement.com
SUMMARY:Children's Grief Art Therapy 3-Day Camp Offered by Doane House Hospice
DESCRIPTION:Morning sessions are for Children ages 6-9: 9am-11:30am \nThere are three main art therapy activities for each day: \n1) Feeling Flowers 2) Superheroes 3) Wish Kite \nFurther details on the poster.  Please Register by calling Doane House Hospice at 905-967-0259 or email: kvalkanas@myhospice.ca \n 
URL:https://oasisbereavement.com/event/childrens-grief-art-therapy-3-day-camp-offered-by-doane-house-hospice-3/
END:VEVENT
BEGIN:VEVENT
DTSTART;TZID=UTC:20220721T090000
DTEND;TZID=UTC:20220721T113000
DTSTAMP:20260425T192758
CREATED:20220331T170511Z
LAST-MODIFIED:20220331T170511Z
UID:2449-1658394000-1658403000@oasisbereavement.com
SUMMARY:Children's Grief Art Therapy 3-Day Camp Offered by Doane House Hospice
DESCRIPTION:Morning sessions are for Children ages 6-9: 9am-11:30am \nThere are three main art therapy activities for each day: \n1) Feeling Flowers 2) Superheroes 3) Wish Kite \nFurther details on the poster.  Please Register by calling Doane House Hospice at 905-967-0259 or email: kvalkanas@myhospice.ca \n 
URL:https://oasisbereavement.com/event/childrens-grief-art-therapy-3-day-camp-offered-by-doane-house-hospice-3-2/
END:VEVENT
BEGIN:VEVENT
DTSTART;TZID=UTC:20220720T133000
DTEND;TZID=UTC:20220720T160000
DTSTAMP:20260425T192758
CREATED:20220331T170308Z
LAST-MODIFIED:20220331T171340Z
UID:1202-1658323800-1658332800@oasisbereavement.com
SUMMARY:Children's Grief Art Therapy 3-Day Camp Offered by Doane House Hospice
DESCRIPTION:Afternoon sessions are for Children ages 10-12: 1:30pm-4:00pm  \nThere are three main art therapy activities for each day: \n1) Feeling Flowers 2) Superheroes 3) Wish Kite \nFurther details on the poster.  Please Register by calling Doane House Hospice at 905-967-0259 or email: kvalkanas@myhospice.ca \n 
URL:https://oasisbereavement.com/event/childrens-grief-art-therapy-3-day-camp-offered-by-doane-house-hospice-2/
END:VEVENT
BEGIN:VEVENT
DTSTART;TZID=UTC:20220720T133000
DTEND;TZID=UTC:20220720T160000
DTSTAMP:20260425T192758
CREATED:20220331T170308Z
LAST-MODIFIED:20220331T170308Z
UID:2448-1658323800-1658332800@oasisbereavement.com
SUMMARY:Children's Grief Art Therapy 3-Day Camp Offered by Doane House Hospice
DESCRIPTION:Afternoon sessions are for Children ages 10-12: 1:30pm-4:00pm  \nThere are three main art therapy activities for each day: \n1) Feeling Flowers 2) Superheroes 3) Wish Kite \nFurther details on the poster.  Please Register by calling Doane House Hospice at 905-967-0259 or email: kvalkanas@myhospice.ca \n 
URL:https://oasisbereavement.com/event/childrens-grief-art-therapy-3-day-camp-offered-by-doane-house-hospice-2-2/
END:VEVENT
BEGIN:VEVENT
DTSTART;TZID=UTC:20220720T130000
DTEND;TZID=UTC:20220722T163000
DTSTAMP:20260425T192758
CREATED:20220617T222212Z
LAST-MODIFIED:20220617T222212Z
UID:1339-1658322000-1658507400@oasisbereavement.com
SUMMARY:Doane House Hospice 3 Day Art Camp - Age 10-12
DESCRIPTION:CHILDREN’S GRIEF ART THERAPY CAMP (Summer)\nDates: Wednesday\, July 20th\, Thursday\, July 21st and Friday\, July 22nd\, 2022\nMorning sessions are for Children ages 6-9: 9am-11:30am\nAfternoon sessions are for Children ages 10-12: 1pm-4:30pm\nThere are three main art therapy activities for each day: 1) Feeling Flowers 2) Superheroes 3) Wish Kite\nFurther details on the poster. \nPlease Register by calling Doane House Hospice at 905-967-0259 or email: kvalkanas@myhospice.ca
URL:https://oasisbereavement.com/event/doane-house-hospice-3-day-art-camp-age-10-12/
END:VEVENT
BEGIN:VEVENT
DTSTART;TZID=UTC:20220720T130000
DTEND;TZID=UTC:20220722T163000
DTSTAMP:20260425T192758
CREATED:20220617T222212Z
LAST-MODIFIED:20220617T222212Z
UID:2462-1658322000-1658507400@oasisbereavement.com
SUMMARY:Doane House Hospice 3 Day Art Camp - Age 10-12
DESCRIPTION:CHILDREN’S GRIEF ART THERAPY CAMP (Summer)\nDates: Wednesday\, July 20th\, Thursday\, July 21st and Friday\, July 22nd\, 2022\nMorning sessions are for Children ages 6-9: 9am-11:30am\nAfternoon sessions are for Children ages 10-12: 1pm-4:30pm\nThere are three main art therapy activities for each day: 1) Feeling Flowers 2) Superheroes 3) Wish Kite\nFurther details on the poster. \nPlease Register by calling Doane House Hospice at 905-967-0259 or email: kvalkanas@myhospice.ca
URL:https://oasisbereavement.com/event/doane-house-hospice-3-day-art-camp-age-10-12-2/
END:VEVENT
BEGIN:VEVENT
DTSTART;TZID=UTC:20220720T090000
DTEND;TZID=UTC:20220722T113000
DTSTAMP:20260425T192758
CREATED:20220617T222031Z
LAST-MODIFIED:20220617T222031Z
UID:1336-1658307600-1658489400@oasisbereavement.com
SUMMARY:Doane House Hospice 3 Day Art Camp - Age 6-9
DESCRIPTION:CHILDREN’S GRIEF ART THERAPY CAMP (Summer)\nDates: Wednesday\, July 20th\, Thursday\, July 21st and Friday\, July 22nd\, 2022\nMorning sessions are for Children ages 6-9: 9am-11:30am\nAfternoon sessions are for Children ages 10-12: 1pm-4:30pm\nThere are three main art therapy activities for each day: 1) Feeling Flowers 2) Superheroes 3) Wish Kite\nFurther details on the poster. \nPlease Register by calling Doane House Hospice at 905-967-0259 or email: kvalkanas@myhospice.ca
URL:https://oasisbereavement.com/event/doane-house-hospice-3-day-art-camp-age-6-9/
END:VEVENT
BEGIN:VEVENT
DTSTART;TZID=UTC:20220720T090000
DTEND;TZID=UTC:20220722T113000
DTSTAMP:20260425T192758
CREATED:20220617T222031Z
LAST-MODIFIED:20220617T222031Z
UID:2461-1658307600-1658489400@oasisbereavement.com
SUMMARY:Doane House Hospice 3 Day Art Camp - Age 6-9
DESCRIPTION:CHILDREN’S GRIEF ART THERAPY CAMP (Summer)\nDates: Wednesday\, July 20th\, Thursday\, July 21st and Friday\, July 22nd\, 2022\nMorning sessions are for Children ages 6-9: 9am-11:30am\nAfternoon sessions are for Children ages 10-12: 1pm-4:30pm\nThere are three main art therapy activities for each day: 1) Feeling Flowers 2) Superheroes 3) Wish Kite\nFurther details on the poster. \nPlease Register by calling Doane House Hospice at 905-967-0259 or email: kvalkanas@myhospice.ca
URL:https://oasisbereavement.com/event/doane-house-hospice-3-day-art-camp-age-6-9-2/
END:VEVENT
BEGIN:VEVENT
DTSTART;TZID=UTC:20220720T090000
DTEND;TZID=UTC:20220720T113000
DTSTAMP:20260425T192758
CREATED:20220331T170046Z
LAST-MODIFIED:20220331T170046Z
UID:2447-1658307600-1658316600@oasisbereavement.com
SUMMARY:Children's Grief Art Therapy 3-Day Camp Offered by Doane House Hospice
DESCRIPTION:AGES 6-9 in AM SESSIONS \nFurther details on the poster.  Please Register by calling Doane House Hospice at 905-967-0259 or email: kvalkanas@myhospice.ca \n 
URL:https://oasisbereavement.com/event/childrens-grief-art-therapy-3-day-camp-offered-by-doane-house-hospice-7/
END:VEVENT
BEGIN:VEVENT
DTSTART;TZID=UTC:20220720T090000
DTEND;TZID=UTC:20220720T113000
DTSTAMP:20260425T192758
CREATED:20220331T170046Z
LAST-MODIFIED:20220331T170046Z
UID:1199-1658307600-1658316600@oasisbereavement.com
SUMMARY:Children's Grief Art Therapy 3-Day Camp Offered by Doane House Hospice
DESCRIPTION:AGES 6-9 in AM SESSIONS \nFurther details on the poster.  Please Register by calling Doane House Hospice at 905-967-0259 or email: kvalkanas@myhospice.ca \n 
URL:https://oasisbereavement.com/event/childrens-grief-art-therapy-3-day-camp-offered-by-doane-house-hospice/
END:VEVENT
END:VCALENDAR