BEGIN:VCALENDAR
VERSION:2.0
PRODID:-//Oasis Bereavement - ECPv6.15.18//NONSGML v1.0//EN
CALSCALE:GREGORIAN
METHOD:PUBLISH
X-WR-CALNAME:Oasis Bereavement
X-ORIGINAL-URL:https://oasisbereavement.com
X-WR-CALDESC:Events for Oasis Bereavement
REFRESH-INTERVAL;VALUE=DURATION:PT1H
X-Robots-Tag:noindex
X-PUBLISHED-TTL:PT1H
BEGIN:VTIMEZONE
TZID:UTC
BEGIN:STANDARD
TZOFFSETFROM:+0000
TZOFFSETTO:+0000
TZNAME:UTC
DTSTART:20210101T000000
END:STANDARD
END:VTIMEZONE
BEGIN:VEVENT
DTSTART;TZID=UTC:20220211T100000
DTEND;TZID=UTC:20220211T110000
DTSTAMP:20260426T015011
CREATED:20220113T223315Z
LAST-MODIFIED:20220113T223315Z
UID:2427-1644573600-1644577200@oasisbereavement.com
SUMMARY:Hope House Hospice Bereavement Bistro - Weekly
DESCRIPTION:
URL:https://oasisbereavement.com/event/hope-house-hospice-bereavement-bistro-weekly-4-2/
END:VEVENT
BEGIN:VEVENT
DTSTART;TZID=UTC:20220208T130000
DTEND;TZID=UTC:20220208T150000
DTSTAMP:20260426T015011
CREATED:20220113T221957Z
LAST-MODIFIED:20220113T221957Z
UID:1116-1644325200-1644332400@oasisbereavement.com
SUMMARY:Hope Hospice Comfort Cafe - Drop In Tuesdays
DESCRIPTION:
URL:https://oasisbereavement.com/event/hope-hospice-comfort-cafe-drop-in-tuesdays-3/
END:VEVENT
BEGIN:VEVENT
DTSTART;TZID=UTC:20220208T130000
DTEND;TZID=UTC:20220208T150000
DTSTAMP:20260426T015011
CREATED:20220113T221957Z
LAST-MODIFIED:20220113T221957Z
UID:2416-1644325200-1644332400@oasisbereavement.com
SUMMARY:Hope Hospice Comfort Cafe - Drop In Tuesdays
DESCRIPTION:
URL:https://oasisbereavement.com/event/hope-hospice-comfort-cafe-drop-in-tuesdays-3-2/
END:VEVENT
BEGIN:VEVENT
DTSTART;TZID=UTC:20220208T130000
DTEND;TZID=UTC:20220208T140000
DTSTAMP:20260426T015011
CREATED:20220113T225736Z
LAST-MODIFIED:20220113T225736Z
UID:2438-1644325200-1644328800@oasisbereavement.com
SUMMARY:Hospice Georgina - Creative Therapy
DESCRIPTION:Creative Therapy\n\nTuesday\, February 8\, 2022\n1:00 PM  2:00 PM\nHospice Georgina (map)\n\n\n\n\n\n\n\nThe purpose of the Creative Therapy program is to provide clients with a creative outlet to express their feelings\, thoughts and emotions. \nIN PERSON + VIRTUAL \nLimited spaces available\, please contact Victoria to register. \nVictoria: 905-722-9333 (ext. 5505)\, events@hospicegeorgina.com
URL:https://oasisbereavement.com/event/hospice-georgina-creative-therapy-3-2/
END:VEVENT
BEGIN:VEVENT
DTSTART;TZID=UTC:20220208T130000
DTEND;TZID=UTC:20220208T140000
DTSTAMP:20260426T015011
CREATED:20220113T225736Z
LAST-MODIFIED:20220113T225736Z
UID:1161-1644325200-1644328800@oasisbereavement.com
SUMMARY:Hospice Georgina - Creative Therapy
DESCRIPTION:Creative Therapy\n\nTuesday\, February 8\, 2022\n1:00 PM  2:00 PM\nHospice Georgina (map)\n\n\n\n\n\n\n\nThe purpose of the Creative Therapy program is to provide clients with a creative outlet to express their feelings\, thoughts and emotions. \nIN PERSON + VIRTUAL \nLimited spaces available\, please contact Victoria to register. \nVictoria: 905-722-9333 (ext. 5505)\, events@hospicegeorgina.com
URL:https://oasisbereavement.com/event/hospice-georgina-creative-therapy-3/
END:VEVENT
BEGIN:VEVENT
DTSTART;TZID=UTC:20220207T133000
DTEND;TZID=UTC:20220207T143000
DTSTAMP:20260426T015011
CREATED:20220113T220212Z
LAST-MODIFIED:20220113T220212Z
UID:2406-1644240600-1644244200@oasisbereavement.com
SUMMARY:Evergreen Connection Café – Games Galore Club
DESCRIPTION:The Evergreen Connection Café Games Galore Club will meet the first Monday of every month from 1:30pm to 3:00pm. We will meet to play games and discuss fun activities. \nAll Connection Café Clubs are here to help people looking for social activities and community events in addition to providing interest-based activities to those who attend. They are open to clients\,volunteers\, staff\, and community members – everyone! These clubs are not support groups – just a way to connect people. \nUpcoming Games Galore Club Dates: \n\nFeb 7\, 2022 at 1:30 pm\nMar 7\, 2022 at 1:30 pm\nApr 4\, 2022 at 1:30 pm\n\nRegister with Zoom in advance for these events below. After registering\, you will receive a confirmation email containing information about joining the meeting. \nhttps://zoom.us/meeting/register/tJ0ofuisrDIuHdOSL3S8opEuKsuRKAmhU1a6
URL:https://oasisbereavement.com/event/evergreen-connection-cafe-games-galore-club-4/
END:VEVENT
BEGIN:VEVENT
DTSTART;TZID=UTC:20220207T133000
DTEND;TZID=UTC:20220207T143000
DTSTAMP:20260426T015011
CREATED:20220113T220212Z
LAST-MODIFIED:20220113T220212Z
UID:1095-1644240600-1644244200@oasisbereavement.com
SUMMARY:Evergreen Connection Café – Games Galore Club
DESCRIPTION:The Evergreen Connection Café Games Galore Club will meet the first Monday of every month from 1:30pm to 3:00pm. We will meet to play games and discuss fun activities. \nAll Connection Café Clubs are here to help people looking for social activities and community events in addition to providing interest-based activities to those who attend. They are open to clients\,volunteers\, staff\, and community members – everyone! These clubs are not support groups – just a way to connect people. \nUpcoming Games Galore Club Dates: \n\nFeb 7\, 2022 at 1:30 pm\nMar 7\, 2022 at 1:30 pm\nApr 4\, 2022 at 1:30 pm\n\nRegister with Zoom in advance for these events below. After registering\, you will receive a confirmation email containing information about joining the meeting. \nhttps://zoom.us/meeting/register/tJ0ofuisrDIuHdOSL3S8opEuKsuRKAmhU1a6
URL:https://oasisbereavement.com/event/evergreen-connection-cafe-games-galore-club/
END:VEVENT
BEGIN:VEVENT
DTSTART;TZID=UTC:20220204T100000
DTEND;TZID=UTC:20220204T110000
DTSTAMP:20260426T015011
CREATED:20220113T223227Z
LAST-MODIFIED:20220113T223227Z
UID:2426-1643968800-1643972400@oasisbereavement.com
SUMMARY:Hope House Hospice Bereavement Bistro - Weekly
DESCRIPTION:
URL:https://oasisbereavement.com/event/hope-house-hospice-bereavement-bistro-weekly-3-2/
END:VEVENT
BEGIN:VEVENT
DTSTART;TZID=UTC:20220204T100000
DTEND;TZID=UTC:20220204T110000
DTSTAMP:20260426T015011
CREATED:20220113T223227Z
LAST-MODIFIED:20220113T223227Z
UID:1137-1643968800-1643972400@oasisbereavement.com
SUMMARY:Hope House Hospice Bereavement Bistro - Weekly
DESCRIPTION:
URL:https://oasisbereavement.com/event/hope-house-hospice-bereavement-bistro-weekly-3/
END:VEVENT
BEGIN:VEVENT
DTSTART;TZID=UTC:20220201T190000
DTEND;TZID=UTC:20220201T200000
DTSTAMP:20260426T015011
CREATED:20220113T225248Z
LAST-MODIFIED:20220113T225248Z
UID:1155-1643742000-1643745600@oasisbereavement.com
SUMMARY:Hospice Georgina - Drop-In Grief Group - 1st and 3rd Tuesday
DESCRIPTION:Drop-In Grief Group\n\nTuesday\, January 18\, 2022\n7:00 PM  8:00 PM\nHospice Georgina (map)\n\n\n\n\n\n\n\nThis group is intended for those who are past the anniversary of their loss but are still grieving. This group will look to bring together those from different walks of grief\, to share their unique experience in a non-judgmental way. This group runs every 1st and 3rd Tuesday of the month. \nVIRTUAL only \nPlease contact Sarah at griefsupports@hospicegeorgina.com
URL:https://oasisbereavement.com/event/hospice-georgina-drop-in-grief-group-1st-and-3rd-tuesday-2/
END:VEVENT
BEGIN:VEVENT
DTSTART;TZID=UTC:20220201T190000
DTEND;TZID=UTC:20220201T200000
DTSTAMP:20260426T015011
CREATED:20220113T225248Z
LAST-MODIFIED:20220113T225248Z
UID:2435-1643742000-1643745600@oasisbereavement.com
SUMMARY:Hospice Georgina - Drop-In Grief Group - 1st and 3rd Tuesday
DESCRIPTION:Drop-In Grief Group\n\nTuesday\, January 18\, 2022\n7:00 PM  8:00 PM\nHospice Georgina (map)\n\n\n\n\n\n\n\nThis group is intended for those who are past the anniversary of their loss but are still grieving. This group will look to bring together those from different walks of grief\, to share their unique experience in a non-judgmental way. This group runs every 1st and 3rd Tuesday of the month. \nVIRTUAL only \nPlease contact Sarah at griefsupports@hospicegeorgina.com
URL:https://oasisbereavement.com/event/hospice-georgina-drop-in-grief-group-1st-and-3rd-tuesday-2-2/
END:VEVENT
BEGIN:VEVENT
DTSTART;TZID=UTC:20220201T130000
DTEND;TZID=UTC:20220201T150000
DTSTAMP:20260426T015011
CREATED:20220113T221905Z
LAST-MODIFIED:20220113T221905Z
UID:1114-1643720400-1643727600@oasisbereavement.com
SUMMARY:Hope Hospice Comfort Cafe - Drop In Tuesdays
DESCRIPTION:
URL:https://oasisbereavement.com/event/hope-hospice-comfort-cafe-drop-in-tuesdays-2/
END:VEVENT
BEGIN:VEVENT
DTSTART;TZID=UTC:20220201T130000
DTEND;TZID=UTC:20220201T150000
DTSTAMP:20260426T015011
CREATED:20220113T221905Z
LAST-MODIFIED:20220113T221905Z
UID:2415-1643720400-1643727600@oasisbereavement.com
SUMMARY:Hope Hospice Comfort Cafe - Drop In Tuesdays
DESCRIPTION:
URL:https://oasisbereavement.com/event/hope-hospice-comfort-cafe-drop-in-tuesdays-2-2/
END:VEVENT
BEGIN:VEVENT
DTSTART;TZID=UTC:20220128T100000
DTEND;TZID=UTC:20220128T110000
DTSTAMP:20260426T015011
CREATED:20220113T223122Z
LAST-MODIFIED:20220113T223122Z
UID:1135-1643364000-1643367600@oasisbereavement.com
SUMMARY:Hope House Hospice Bereavement Bistro - Weekly
DESCRIPTION:
URL:https://oasisbereavement.com/event/hope-house-hospice-bereavement-bistro-weekly-2/
END:VEVENT
BEGIN:VEVENT
DTSTART;TZID=UTC:20220128T100000
DTEND;TZID=UTC:20220128T110000
DTSTAMP:20260426T015011
CREATED:20220113T223122Z
LAST-MODIFIED:20220113T223122Z
UID:2425-1643364000-1643367600@oasisbereavement.com
SUMMARY:Hope House Hospice Bereavement Bistro - Weekly
DESCRIPTION:
URL:https://oasisbereavement.com/event/hope-house-hospice-bereavement-bistro-weekly-2-2/
END:VEVENT
BEGIN:VEVENT
DTSTART;TZID=UTC:20220125T130000
DTEND;TZID=UTC:20220125T150000
DTSTAMP:20260426T015011
CREATED:20220113T221804Z
LAST-MODIFIED:20220113T221804Z
UID:2414-1643115600-1643122800@oasisbereavement.com
SUMMARY:Hope Hospice Comfort Cafe - Drop In Tuesdays
DESCRIPTION:
URL:https://oasisbereavement.com/event/hope-hospice-comfort-cafe-drop-in-tuesdays-6/
END:VEVENT
BEGIN:VEVENT
DTSTART;TZID=UTC:20220125T130000
DTEND;TZID=UTC:20220125T150000
DTSTAMP:20260426T015011
CREATED:20220113T221804Z
LAST-MODIFIED:20220113T221804Z
UID:1112-1643115600-1643122800@oasisbereavement.com
SUMMARY:Hope Hospice Comfort Cafe - Drop In Tuesdays
DESCRIPTION:
URL:https://oasisbereavement.com/event/hope-hospice-comfort-cafe-drop-in-tuesdays/
END:VEVENT
BEGIN:VEVENT
DTSTART;TZID=UTC:20220124T190000
DTEND;TZID=UTC:20220124T200000
DTSTAMP:20260426T015011
CREATED:20220113T220556Z
LAST-MODIFIED:20220113T220556Z
UID:1101-1643050800-1643054400@oasisbereavement.com
SUMMARY:Evergreen Death Cafe
DESCRIPTION:Monday\, January 24th at 7:00pm\, Zoom\nJoin us for our next Death Cafe\, for a candid and open virtual conversation on death and dying. \n“At a Death Cafe people\, often strangers\, gather to eat cake\, drink tea and discuss death. Our objective is to increase awareness of death with a view to helping people make the most of their (finite) lives’. A Death Café is a group directed discussion of death with no agenda\, objectives or themes. It is a discussion group rather than a grief support or counselling session.” Deathcafe.com \nRegister in advance for this event below. Once registered\, you will receive a confirmation email with details on how to join the session.
URL:https://oasisbereavement.com/event/evergreen-death-cafe/
LOCATION:ZOOM
END:VEVENT
BEGIN:VEVENT
DTSTART;TZID=UTC:20220124T190000
DTEND;TZID=UTC:20220124T200000
DTSTAMP:20260426T015011
CREATED:20220113T220556Z
LAST-MODIFIED:20220113T220556Z
UID:2409-1643050800-1643054400@oasisbereavement.com
SUMMARY:Evergreen Death Cafe
DESCRIPTION:Monday\, January 24th at 7:00pm\, Zoom\nJoin us for our next Death Cafe\, for a candid and open virtual conversation on death and dying. \n“At a Death Cafe people\, often strangers\, gather to eat cake\, drink tea and discuss death. Our objective is to increase awareness of death with a view to helping people make the most of their (finite) lives’. A Death Café is a group directed discussion of death with no agenda\, objectives or themes. It is a discussion group rather than a grief support or counselling session.” Deathcafe.com \nRegister in advance for this event below. Once registered\, you will receive a confirmation email with details on how to join the session.
URL:https://oasisbereavement.com/event/evergreen-death-cafe-3/
LOCATION:ZOOM
END:VEVENT
BEGIN:VEVENT
DTSTART;TZID=UTC:20220123T133000
DTEND;TZID=UTC:20220123T143000
DTSTAMP:20260426T015011
CREATED:20220113T215631Z
LAST-MODIFIED:20220113T215631Z
UID:1088-1642944600-1642948200@oasisbereavement.com
SUMMARY:Bridges of Hope Drop In - 4th Sunday of the Month
DESCRIPTION:
URL:https://oasisbereavement.com/event/bridges-of-hope-drop-in-4th-sunday-of-the-month/
END:VEVENT
BEGIN:VEVENT
DTSTART;TZID=UTC:20220123T133000
DTEND;TZID=UTC:20220123T143000
DTSTAMP:20260426T015011
CREATED:20220113T215631Z
LAST-MODIFIED:20220113T215631Z
UID:2403-1642944600-1642948200@oasisbereavement.com
SUMMARY:Bridges of Hope Drop In - 4th Sunday of the Month
DESCRIPTION:
URL:https://oasisbereavement.com/event/bridges-of-hope-drop-in-4th-sunday-of-the-month-4/
END:VEVENT
BEGIN:VEVENT
DTSTART;TZID=UTC:20220121T100000
DTEND;TZID=UTC:20220121T110000
DTSTAMP:20260426T015011
CREATED:20220113T223029Z
LAST-MODIFIED:20220113T223029Z
UID:1132-1642759200-1642762800@oasisbereavement.com
SUMMARY:Hope House Hospice Bereavement Bistro - Weekly
DESCRIPTION:
URL:https://oasisbereavement.com/event/hope-house-hospice-bereavement-bistro-weekly/
END:VEVENT
BEGIN:VEVENT
DTSTART;TZID=UTC:20220121T100000
DTEND;TZID=UTC:20220121T110000
DTSTAMP:20260426T015011
CREATED:20220113T223029Z
LAST-MODIFIED:20220113T223029Z
UID:2424-1642759200-1642762800@oasisbereavement.com
SUMMARY:Hope House Hospice Bereavement Bistro - Weekly
DESCRIPTION:
URL:https://oasisbereavement.com/event/hope-house-hospice-bereavement-bistro-weekly-11/
END:VEVENT
BEGIN:VEVENT
DTSTART;TZID=UTC:20220118T190000
DTEND;TZID=UTC:20220118T200000
DTSTAMP:20260426T015011
CREATED:20220113T225130Z
LAST-MODIFIED:20220113T225130Z
UID:2434-1642532400-1642536000@oasisbereavement.com
SUMMARY:Hospice Georgina - Drop-In Grief Group - 1st and 3rd Tuesday
DESCRIPTION:Drop-In Grief Group\n\nTuesday\, January 18\, 2022\n7:00 PM  8:00 PM\nHospice Georgina (map)\n\n\n\n\n\n\n\nThis group is intended for those who are past the anniversary of their loss but are still grieving. This group will look to bring together those from different walks of grief\, to share their unique experience in a non-judgmental way. This group runs every 1st and 3rd Tuesday of the month. \nVIRTUAL only \nPlease contact Sarah at griefsupports@hospicegeorgina.com
URL:https://oasisbereavement.com/event/hospice-georgina-drop-in-grief-group-1st-and-3rd-tuesday-4/
END:VEVENT
BEGIN:VEVENT
DTSTART;TZID=UTC:20220118T190000
DTEND;TZID=UTC:20220118T200000
DTSTAMP:20260426T015011
CREATED:20220113T225130Z
LAST-MODIFIED:20220113T225130Z
UID:1153-1642532400-1642536000@oasisbereavement.com
SUMMARY:Hospice Georgina - Drop-In Grief Group - 1st and 3rd Tuesday
DESCRIPTION:Drop-In Grief Group\n\nTuesday\, January 18\, 2022\n7:00 PM  8:00 PM\nHospice Georgina (map)\n\n\n\n\n\n\n\nThis group is intended for those who are past the anniversary of their loss but are still grieving. This group will look to bring together those from different walks of grief\, to share their unique experience in a non-judgmental way. This group runs every 1st and 3rd Tuesday of the month. \nVIRTUAL only \nPlease contact Sarah at griefsupports@hospicegeorgina.com
URL:https://oasisbereavement.com/event/hospice-georgina-drop-in-grief-group-1st-and-3rd-tuesday/
END:VEVENT
BEGIN:VEVENT
DTSTART;TZID=UTC:20220118T130000
DTEND;TZID=UTC:20220118T150000
DTSTAMP:20260426T015011
CREATED:20220113T221643Z
LAST-MODIFIED:20220113T221643Z
UID:1109-1642510800-1642518000@oasisbereavement.com
SUMMARY:Hope House Comfort Cafe - Tuesday Drop In
DESCRIPTION:
URL:https://oasisbereavement.com/event/hope-house-comfort-cafe-tuesday-drop-in/
END:VEVENT
BEGIN:VEVENT
DTSTART;TZID=UTC:20220118T130000
DTEND;TZID=UTC:20220118T150000
DTSTAMP:20260426T015011
CREATED:20220113T221643Z
LAST-MODIFIED:20220113T221643Z
UID:2413-1642510800-1642518000@oasisbereavement.com
SUMMARY:Hope House Comfort Cafe - Tuesday Drop In
DESCRIPTION:
URL:https://oasisbereavement.com/event/hope-house-comfort-cafe-tuesday-drop-in-2/
END:VEVENT
BEGIN:VEVENT
DTSTART;TZID=UTC:20220118T130000
DTEND;TZID=UTC:20220118T140000
DTSTAMP:20260426T015011
CREATED:20220113T225627Z
LAST-MODIFIED:20220113T225627Z
UID:1159-1642510800-1642514400@oasisbereavement.com
SUMMARY:Hospice Georgina - Creative Therapy
DESCRIPTION:Creative Therapy\n\nTuesday\, January 18\, 2022\n1:00 PM  2:00 PM\nHospice Georgina (map)\n\n\n\n\n\n\n\nThe purpose of the Creative Therapy program is to provide clients with a creative outlet to express their feelings\, thoughts and emotions. \nIN PERSON + VIRTUAL \nLimited spaces available\, please contact Victoria to register. \nVictoria: 905-722-9333 (ext. 5505)\, events@hospicegeorgina.com
URL:https://oasisbereavement.com/event/hospice-georgina-creative-therapy-2/
END:VEVENT
BEGIN:VEVENT
DTSTART;TZID=UTC:20220118T130000
DTEND;TZID=UTC:20220118T140000
DTSTAMP:20260426T015011
CREATED:20220113T225627Z
LAST-MODIFIED:20220113T225627Z
UID:2437-1642510800-1642514400@oasisbereavement.com
SUMMARY:Hospice Georgina - Creative Therapy
DESCRIPTION:Creative Therapy\n\nTuesday\, January 18\, 2022\n1:00 PM  2:00 PM\nHospice Georgina (map)\n\n\n\n\n\n\n\nThe purpose of the Creative Therapy program is to provide clients with a creative outlet to express their feelings\, thoughts and emotions. \nIN PERSON + VIRTUAL \nLimited spaces available\, please contact Victoria to register. \nVictoria: 905-722-9333 (ext. 5505)\, events@hospicegeorgina.com
URL:https://oasisbereavement.com/event/hospice-georgina-creative-therapy-2-2/
END:VEVENT
BEGIN:VEVENT
DTSTART;TZID=UTC:20220103T133000
DTEND;TZID=UTC:20220103T150000
DTSTAMP:20260426T015011
CREATED:20211118T013115Z
LAST-MODIFIED:20211118T013115Z
UID:2386-1641216600-1641222000@oasisbereavement.com
SUMMARY:Evergreen Connection Café
DESCRIPTION:The Evergreen Connection Café will meet the 1st Monday of every month from 1:30pm to 3:00pm. Join us to explore activities and resources being offered in our community and beyond. As a group\, we can share what we are doing to connect\, brainstorm new ideas\, and help others do the same. This program is open to clients\, volunteers\, staff\, and community members. \nUpcoming Connection Café Dates: \n\nDecember 6\, 2021\nJanuary 3\, 2022\n\nRegister with Zoom in advance for this event below. After registering\, you will receive a confirmation email containing information about joining the meeting. \nhttps://zoom.us/meeting/register/tJ0ofuisrDIuHdOSL3S8opEuKsuRKAmhU1a6
URL:https://oasisbereavement.com/event/evergreen-connection-cafe-3-2/
END:VEVENT
END:VCALENDAR