BEGIN:VCALENDAR
VERSION:2.0
PRODID:-//Oasis Bereavement - ECPv6.15.18//NONSGML v1.0//EN
CALSCALE:GREGORIAN
METHOD:PUBLISH
X-WR-CALNAME:Oasis Bereavement
X-ORIGINAL-URL:https://oasisbereavement.com
X-WR-CALDESC:Events for Oasis Bereavement
REFRESH-INTERVAL;VALUE=DURATION:PT1H
X-Robots-Tag:noindex
X-PUBLISHED-TTL:PT1H
BEGIN:VTIMEZONE
TZID:UTC
BEGIN:STANDARD
TZOFFSETFROM:+0000
TZOFFSETTO:+0000
TZNAME:UTC
DTSTART:20260101T000000
END:STANDARD
END:VTIMEZONE
BEGIN:VEVENT
DTSTART;TZID=UTC:20271223T130000
DTEND;TZID=UTC:20271223T140000
DTSTAMP:20260423T083417
CREATED:20260408T174852Z
LAST-MODIFIED:20260408T174852Z
UID:3953-1829566800-1829570400@oasisbereavement.com
SUMMARY:Evergreen Men's Group - Online
DESCRIPTION:
URL:https://oasisbereavement.com/event/evergreen-mens-group-online/2027-12-23/
END:VEVENT
BEGIN:VEVENT
DTSTART;TZID=UTC:20271223T190000
DTEND;TZID=UTC:20271223T200000
DTSTAMP:20260423T083417
CREATED:20260408T183548Z
LAST-MODIFIED:20260408T183548Z
UID:4380-1829588400-1829592000@oasisbereavement.com
SUMMARY:Hope House Qigong for Rest & Sleep
DESCRIPTION:VIRTUAL \n4th Thursday of the month @ 7-8pm \n​ \n\n\nJoin us for a fun and easeful session focusing on winding down\, releasing stress and getting both the body and mind ready for sleep
URL:https://oasisbereavement.com/event/hope-house-qigong-for-rest-sleep/2027-12-23/
ATTACH;FMTTYPE=image/png:https://oasisbereavement.com/wp-content/uploads/2026/04/Screen-Shot-2026-04-08-at-2.33.23-PM.png
END:VEVENT
BEGIN:VEVENT
DTSTART;TZID=UTC:20271224T100000
DTEND;TZID=UTC:20271224T110000
DTSTAMP:20260423T083417
CREATED:20260408T182413Z
LAST-MODIFIED:20260408T182413Z
UID:4223-1829642400-1829646000@oasisbereavement.com
SUMMARY:Hope House Bereavement Bistro
DESCRIPTION:BEREAVEMENT BISTRO: ​A morning drop-in bereavement group for adults who are experiencing the death of a loved one. An opportunity for support & conversation.
URL:https://oasisbereavement.com/event/hope-house-bereavement-bistro-4/2027-12-24/
ATTACH;FMTTYPE=image/png:https://oasisbereavement.com/wp-content/uploads/2026/04/Screen-Shot-2026-04-08-at-2.17.49-PM.png
END:VEVENT
BEGIN:VEVENT
DTSTART;TZID=UTC:20271224T123000
DTEND;TZID=UTC:20271224T133000
DTSTAMP:20260423T083417
CREATED:20260408T181632Z
LAST-MODIFIED:20260408T181632Z
UID:4172-1829651400-1829655000@oasisbereavement.com
SUMMARY:Hope House Young Family Spousal Loss
DESCRIPTION:4th Friday of the Month12:30-1:30pm via ZOOM \n\n\nFAMILIES FINDING THEIR WAY \nmarch 27\, April 24\, May 22 & June 26\, 2026 \nA drop-in peer-support group intended for parents with children under 18 who are experiencing the death of a spouse or partner. This group provides a supportive space for conversation and connection
URL:https://oasisbereavement.com/event/hope-house-young-family-spousal-loss/2027-12-24/
ATTACH;FMTTYPE=image/png:https://oasisbereavement.com/wp-content/uploads/2026/04/Screen-Shot-2026-04-08-at-2.13.22-PM.png
END:VEVENT
BEGIN:VEVENT
DTSTART;TZID=UTC:20271227T100000
DTEND;TZID=UTC:20271227T120000
DTSTAMP:20260423T083417
CREATED:20260408T173349Z
LAST-MODIFIED:20260408T173349Z
UID:3494-1829901600-1829908800@oasisbereavement.com
SUMMARY:Evergreen Connection Cafe-Walking Club
DESCRIPTION:
URL:https://oasisbereavement.com/event/evergreen-connection-cafe-walking-club/2027-12-27/
END:VEVENT
BEGIN:VEVENT
DTSTART;TZID=UTC:20271227T183000
DTEND;TZID=UTC:20271227T193000
DTSTAMP:20260423T083417
CREATED:20260408T172715Z
LAST-MODIFIED:20260408T172715Z
UID:3691-1829932200-1829935800@oasisbereavement.com
SUMMARY:Evergreen On-line Drop-In Bereavement Group
DESCRIPTION:
URL:https://oasisbereavement.com/event/evergreen-online-drop-in-bereavement-group/2027-12-27/
LOCATION:ZOOM
END:VEVENT
BEGIN:VEVENT
DTSTART;TZID=UTC:20271228T110000
DTEND;TZID=UTC:20271228T130000
DTSTAMP:20260423T083417
CREATED:20260408T173620Z
LAST-MODIFIED:20260408T173620Z
UID:3588-1829991600-1829998800@oasisbereavement.com
SUMMARY:Evergreen Women's Group - Online
DESCRIPTION:
URL:https://oasisbereavement.com/event/evergreen-womens-group-online/2027-12-28/
END:VEVENT
BEGIN:VEVENT
DTSTART;TZID=UTC:20271228T190000
DTEND;TZID=UTC:20271228T210000
DTSTAMP:20260423T083417
CREATED:20260408T180331Z
LAST-MODIFIED:20260408T180331Z
UID:4108-1830020400-1830027600@oasisbereavement.com
SUMMARY:Northridge Grief Care
DESCRIPTION:This is a support group for anyone 18 years or older who is looking to find comfort\, answers\, and hope after the death of a family member or friend. \nSchedule: Tuesdays @ 7:00-9:00 pm\nLocation: Northridge
URL:https://oasisbereavement.com/event/northridge-grief-care/2027-12-28/
END:VEVENT
BEGIN:VEVENT
DTSTART;TZID=UTC:20271229T100000
DTEND;TZID=UTC:20271229T110000
DTSTAMP:20260423T083417
CREATED:20260408T183251Z
LAST-MODIFIED:20260408T183251Z
UID:4343-1830074400-1830078000@oasisbereavement.com
SUMMARY:Hope House Joy In Movement
DESCRIPTION:VIRTUAL \nWednesdays @ 10-11am \n​ \n\n\nA fun and engaging morning mind/body session focused on simple movements and moments of stillness. Incorporates yoga\, qigong\, shaking medicine and spontaneous movement
URL:https://oasisbereavement.com/event/hope-house-joy-in-movement/2027-12-29/
ATTACH;FMTTYPE=image/png:https://oasisbereavement.com/wp-content/uploads/2026/04/Screen-Shot-2026-04-08-at-2.29.26-PM.png
END:VEVENT
BEGIN:VEVENT
DTSTART;TZID=UTC:20271230T110000
DTEND;TZID=UTC:20271230T120000
DTSTAMP:20260423T083417
CREATED:20260408T174650Z
LAST-MODIFIED:20260408T174650Z
UID:3822-1830164400-1830168000@oasisbereavement.com
SUMMARY:Evergreen Living Room
DESCRIPTION:The Living Room Program welcomes all Evergreen clients (those living with an illness\, caregivers\, and those who are grieving) to come together to share an activity focused on their well being and self care. It is an activity based group providing the opportunity to take time for yourself\, participate in conversation\, expressive art or music\, or just be in a healing\, supportive environment. \n​ \nPlease call the office at 416-499-2185 or e-mail info@evgcares.org to register for groups or to get more information. 
URL:https://oasisbereavement.com/event/evergreen-living-room/2027-12-30/
END:VEVENT
BEGIN:VEVENT
DTSTART;TZID=UTC:20271230T130000
DTEND;TZID=UTC:20271230T140000
DTSTAMP:20260423T083417
CREATED:20260408T174852Z
LAST-MODIFIED:20260408T174852Z
UID:3954-1830171600-1830175200@oasisbereavement.com
SUMMARY:Evergreen Men's Group - Online
DESCRIPTION:
URL:https://oasisbereavement.com/event/evergreen-mens-group-online/2027-12-30/
END:VEVENT
BEGIN:VEVENT
DTSTART;TZID=UTC:20280103T183000
DTEND;TZID=UTC:20280103T193000
DTSTAMP:20260423T083417
CREATED:20260408T172715Z
LAST-MODIFIED:20260408T172715Z
UID:3692-1830537000-1830540600@oasisbereavement.com
SUMMARY:Evergreen On-line Drop-In Bereavement Group
DESCRIPTION:
URL:https://oasisbereavement.com/event/evergreen-online-drop-in-bereavement-group/2028-01-03/
LOCATION:ZOOM
END:VEVENT
BEGIN:VEVENT
DTSTART;TZID=UTC:20280104T110000
DTEND;TZID=UTC:20280104T130000
DTSTAMP:20260423T083417
CREATED:20260408T173620Z
LAST-MODIFIED:20260408T173620Z
UID:3589-1830596400-1830603600@oasisbereavement.com
SUMMARY:Evergreen Women's Group - Online
DESCRIPTION:
URL:https://oasisbereavement.com/event/evergreen-womens-group-online/2028-01-04/
END:VEVENT
BEGIN:VEVENT
DTSTART;TZID=UTC:20280104T190000
DTEND;TZID=UTC:20280104T210000
DTSTAMP:20260423T083417
CREATED:20260408T180331Z
LAST-MODIFIED:20260408T180331Z
UID:4109-1830625200-1830632400@oasisbereavement.com
SUMMARY:Northridge Grief Care
DESCRIPTION:This is a support group for anyone 18 years or older who is looking to find comfort\, answers\, and hope after the death of a family member or friend. \nSchedule: Tuesdays @ 7:00-9:00 pm\nLocation: Northridge
URL:https://oasisbereavement.com/event/northridge-grief-care/2028-01-04/
END:VEVENT
BEGIN:VEVENT
DTSTART;TZID=UTC:20280105T100000
DTEND;TZID=UTC:20280105T110000
DTSTAMP:20260423T083417
CREATED:20260408T183251Z
LAST-MODIFIED:20260408T183251Z
UID:4344-1830679200-1830682800@oasisbereavement.com
SUMMARY:Hope House Joy In Movement
DESCRIPTION:VIRTUAL \nWednesdays @ 10-11am \n​ \n\n\nA fun and engaging morning mind/body session focused on simple movements and moments of stillness. Incorporates yoga\, qigong\, shaking medicine and spontaneous movement
URL:https://oasisbereavement.com/event/hope-house-joy-in-movement/2028-01-05/
ATTACH;FMTTYPE=image/png:https://oasisbereavement.com/wp-content/uploads/2026/04/Screen-Shot-2026-04-08-at-2.29.26-PM.png
END:VEVENT
BEGIN:VEVENT
DTSTART;TZID=UTC:20280106T110000
DTEND;TZID=UTC:20280106T120000
DTSTAMP:20260423T083417
CREATED:20260408T174650Z
LAST-MODIFIED:20260408T174650Z
UID:3823-1830769200-1830772800@oasisbereavement.com
SUMMARY:Evergreen Living Room
DESCRIPTION:The Living Room Program welcomes all Evergreen clients (those living with an illness\, caregivers\, and those who are grieving) to come together to share an activity focused on their well being and self care. It is an activity based group providing the opportunity to take time for yourself\, participate in conversation\, expressive art or music\, or just be in a healing\, supportive environment. \n​ \nPlease call the office at 416-499-2185 or e-mail info@evgcares.org to register for groups or to get more information. 
URL:https://oasisbereavement.com/event/evergreen-living-room/2028-01-06/
END:VEVENT
BEGIN:VEVENT
DTSTART;TZID=UTC:20280106T130000
DTEND;TZID=UTC:20280106T140000
DTSTAMP:20260423T083417
CREATED:20260408T174852Z
LAST-MODIFIED:20260408T174852Z
UID:3955-1830776400-1830780000@oasisbereavement.com
SUMMARY:Evergreen Men's Group - Online
DESCRIPTION:
URL:https://oasisbereavement.com/event/evergreen-mens-group-online/2028-01-06/
END:VEVENT
BEGIN:VEVENT
DTSTART;TZID=UTC:20280106T180000
DTEND;TZID=UTC:20280106T190000
DTSTAMP:20260423T083417
CREATED:20260408T181253Z
LAST-MODIFIED:20260408T181253Z
UID:4146-1830794400-1830798000@oasisbereavement.com
SUMMARY:Hope House Parent Loss Group
DESCRIPTION:1st Thursday of the Month6 – 7:00pm HYBRID in person & live via Zoom\n\n\nMISSING MILESTONE MEMORIES  \nApril 2\, May 7 & June 4\, 2026  \nA drop‑in peer support groupintended for clients under the age of 50 who are experiencing the death of a parent. This group offers an opportunity for support\,connection\, and conversationr
URL:https://oasisbereavement.com/event/hope-house-parent-loss-group/2028-01-06/
ATTACH;FMTTYPE=image/png:https://oasisbereavement.com/wp-content/uploads/2026/04/Screen-Shot-2026-04-08-at-2.10.53-PM.png
END:VEVENT
BEGIN:VEVENT
DTSTART;TZID=UTC:20280110T183000
DTEND;TZID=UTC:20280110T193000
DTSTAMP:20260423T083417
CREATED:20260408T172715Z
LAST-MODIFIED:20260408T172715Z
UID:3693-1831141800-1831145400@oasisbereavement.com
SUMMARY:Evergreen On-line Drop-In Bereavement Group
DESCRIPTION:
URL:https://oasisbereavement.com/event/evergreen-online-drop-in-bereavement-group/2028-01-10/
LOCATION:ZOOM
END:VEVENT
BEGIN:VEVENT
DTSTART;TZID=UTC:20280110T190000
DTEND;TZID=UTC:20280110T200000
DTSTAMP:20260423T083417
CREATED:20260408T182853Z
LAST-MODIFIED:20260408T182853Z
UID:4249-1831143600-1831147200@oasisbereavement.com
SUMMARY:Hope House  Zen with Gwen
DESCRIPTION:VIRTUAL  \n2nd Monday of the Month @ 7-8:00pm \n​​ \n\n\nEach session focuses on supporting a sense of wellbeing through gentle movement & mindfulnes
URL:https://oasisbereavement.com/event/hope-house-zen-with-gwen/2028-01-10/
ATTACH;FMTTYPE=image/png:https://oasisbereavement.com/wp-content/uploads/2026/04/Screen-Shot-2026-04-08-at-2.25.35-PM.png
END:VEVENT
BEGIN:VEVENT
DTSTART;TZID=UTC:20280111T110000
DTEND;TZID=UTC:20280111T130000
DTSTAMP:20260423T083417
CREATED:20260408T173620Z
LAST-MODIFIED:20260408T173620Z
UID:3590-1831201200-1831208400@oasisbereavement.com
SUMMARY:Evergreen Women's Group - Online
DESCRIPTION:
URL:https://oasisbereavement.com/event/evergreen-womens-group-online/2028-01-11/
END:VEVENT
BEGIN:VEVENT
DTSTART;TZID=UTC:20280111T180000
DTEND;TZID=UTC:20280111T200000
DTSTAMP:20260423T083417
CREATED:20260408T174323Z
LAST-MODIFIED:20260408T174323Z
UID:3728-1831226400-1831233600@oasisbereavement.com
SUMMARY:Evergreen  Bereaved Parent's Group
DESCRIPTION:
URL:https://oasisbereavement.com/event/evergreen-bereaved-parents-group-13/2028-01-11/
END:VEVENT
BEGIN:VEVENT
DTSTART;TZID=UTC:20280111T190000
DTEND;TZID=UTC:20280111T210000
DTSTAMP:20260423T083417
CREATED:20260408T180331Z
LAST-MODIFIED:20260408T180331Z
UID:4110-1831230000-1831237200@oasisbereavement.com
SUMMARY:Northridge Grief Care
DESCRIPTION:This is a support group for anyone 18 years or older who is looking to find comfort\, answers\, and hope after the death of a family member or friend. \nSchedule: Tuesdays @ 7:00-9:00 pm\nLocation: Northridge
URL:https://oasisbereavement.com/event/northridge-grief-care/2028-01-11/
END:VEVENT
BEGIN:VEVENT
DTSTART;TZID=UTC:20280112T100000
DTEND;TZID=UTC:20280112T110000
DTSTAMP:20260423T083417
CREATED:20260408T183251Z
LAST-MODIFIED:20260408T183251Z
UID:4345-1831284000-1831287600@oasisbereavement.com
SUMMARY:Hope House Joy In Movement
DESCRIPTION:VIRTUAL \nWednesdays @ 10-11am \n​ \n\n\nA fun and engaging morning mind/body session focused on simple movements and moments of stillness. Incorporates yoga\, qigong\, shaking medicine and spontaneous movement
URL:https://oasisbereavement.com/event/hope-house-joy-in-movement/2028-01-12/
ATTACH;FMTTYPE=image/png:https://oasisbereavement.com/wp-content/uploads/2026/04/Screen-Shot-2026-04-08-at-2.29.26-PM.png
END:VEVENT
BEGIN:VEVENT
DTSTART;TZID=UTC:20280113T110000
DTEND;TZID=UTC:20280113T120000
DTSTAMP:20260423T083417
CREATED:20260408T174650Z
LAST-MODIFIED:20260408T174650Z
UID:3824-1831374000-1831377600@oasisbereavement.com
SUMMARY:Evergreen Living Room
DESCRIPTION:The Living Room Program welcomes all Evergreen clients (those living with an illness\, caregivers\, and those who are grieving) to come together to share an activity focused on their well being and self care. It is an activity based group providing the opportunity to take time for yourself\, participate in conversation\, expressive art or music\, or just be in a healing\, supportive environment. \n​ \nPlease call the office at 416-499-2185 or e-mail info@evgcares.org to register for groups or to get more information. 
URL:https://oasisbereavement.com/event/evergreen-living-room/2028-01-13/
END:VEVENT
BEGIN:VEVENT
DTSTART;TZID=UTC:20280113T130000
DTEND;TZID=UTC:20280113T140000
DTSTAMP:20260423T083417
CREATED:20260408T174852Z
LAST-MODIFIED:20260408T174852Z
UID:3956-1831381200-1831384800@oasisbereavement.com
SUMMARY:Evergreen Men's Group - Online
DESCRIPTION:
URL:https://oasisbereavement.com/event/evergreen-mens-group-online/2028-01-13/
END:VEVENT
BEGIN:VEVENT
DTSTART;TZID=UTC:20280114T100000
DTEND;TZID=UTC:20280114T110000
DTSTAMP:20260423T083417
CREATED:20260408T182129Z
LAST-MODIFIED:20260408T182129Z
UID:4199-1831456800-1831460400@oasisbereavement.com
SUMMARY:Hope House Bereavement Bistro
DESCRIPTION:BEREAVEMENT BISTRO: ​A morning drop-in bereavement group for adults who are experiencing the death of a loved one. An opportunity for support & conversation.
URL:https://oasisbereavement.com/event/hope-house-bereavement-bistro-3/2028-01-14/
ATTACH;FMTTYPE=image/png:https://oasisbereavement.com/wp-content/uploads/2026/04/Screen-Shot-2026-04-08-at-2.17.49-PM.png
END:VEVENT
BEGIN:VEVENT
DTSTART;TZID=UTC:20280114T130000
DTEND;TZID=UTC:20280114T143000
DTSTAMP:20260423T083417
CREATED:20260408T175125Z
LAST-MODIFIED:20260408T175125Z
UID:3921-1831467600-1831473000@oasisbereavement.com
SUMMARY:Evergreen Connection Cafe-Creative Club Friday
DESCRIPTION:This is open to everyone: volunteers\, staff\, clients and community. \nRegister in advance for this meeting: \n  \nhttps://us06web.zoom.us/meeting/register/tZEtdOigrz4pGNBBaHpBFqhaS1SkHG586sPM \nAfter registering\, you will receive a confirmation email containing information about joining the meeting.
URL:https://oasisbereavement.com/event/evergreen-connection-cafe-creative-club-friday/2028-01-14/
END:VEVENT
BEGIN:VEVENT
DTSTART;TZID=UTC:20280114T140000
DTEND;TZID=UTC:20280114T150000
DTSTAMP:20260423T083417
CREATED:20260408T183908Z
LAST-MODIFIED:20260408T183908Z
UID:4406-1831471200-1831474800@oasisbereavement.com
SUMMARY:Hope House Crafting Wellbeing
DESCRIPTION:IN PERSON  15105 Yonge St. Unit 105 \n2nd Friday of the month @ 2-3:30pm \n​ \n\n\nLooking for a chance to connect\, unwind\, and have a little fun? Join us each month for a delightful gathering of creativity\, coffee (or tea)\, and conversation
URL:https://oasisbereavement.com/event/hope-house-crafting-wellbeing/2028-01-14/
ATTACH;FMTTYPE=image/png:https://oasisbereavement.com/wp-content/uploads/2026/04/Screen-Shot-2026-04-08-at-2.36.18-PM.png
END:VEVENT
BEGIN:VEVENT
DTSTART;TZID=UTC:20280117T183000
DTEND;TZID=UTC:20280117T193000
DTSTAMP:20260423T083417
CREATED:20260408T172715Z
LAST-MODIFIED:20260408T172715Z
UID:3694-1831746600-1831750200@oasisbereavement.com
SUMMARY:Evergreen On-line Drop-In Bereavement Group
DESCRIPTION:
URL:https://oasisbereavement.com/event/evergreen-online-drop-in-bereavement-group/2028-01-17/
LOCATION:ZOOM
END:VEVENT
END:VCALENDAR