BEGIN:VCALENDAR
VERSION:2.0
PRODID:-//Oasis Bereavement - ECPv6.15.18//NONSGML v1.0//EN
CALSCALE:GREGORIAN
METHOD:PUBLISH
X-WR-CALNAME:Oasis Bereavement
X-ORIGINAL-URL:https://oasisbereavement.com
X-WR-CALDESC:Events for Oasis Bereavement
REFRESH-INTERVAL;VALUE=DURATION:PT1H
X-Robots-Tag:noindex
X-PUBLISHED-TTL:PT1H
BEGIN:VTIMEZONE
TZID:UTC
BEGIN:STANDARD
TZOFFSETFROM:+0000
TZOFFSETTO:+0000
TZNAME:UTC
DTSTART:20210101T000000
END:STANDARD
END:VTIMEZONE
BEGIN:VEVENT
DTSTART;TZID=UTC:20220404T013000
DTEND;TZID=UTC:20220404T143000
DTSTAMP:20260426T023658
CREATED:20220113T220433Z
LAST-MODIFIED:20220113T220433Z
UID:1099-1649035800-1649082600@oasisbereavement.com
SUMMARY:Evergreen Connection Café – Games Galore Club
DESCRIPTION:The Evergreen Connection Café Games Galore Club will meet the first Monday of every month from 1:30pm to 3:00pm. We will meet to play games and discuss fun activities. \nAll Connection Café Clubs are here to help people looking for social activities and community events in addition to providing interest-based activities to those who attend. They are open to clients\,volunteers\, staff\, and community members – everyone! These clubs are not support groups – just a way to connect people. \nUpcoming Games Galore Club Dates: \n\nFeb 7\, 2022 at 1:30 pm\nMar 7\, 2022 at 1:30 pm\nApr 4\, 2022 at 1:30 pm\n\nRegister with Zoom in advance for these events below. After registering\, you will receive a confirmation email containing information about joining the meeting. \nhttps://zoom.us/meeting/register/tJ0ofuisrDIuHdOSL3S8opEuKsuRKAmhU1a6
URL:https://oasisbereavement.com/event/evergreen-connection-cafe-games-galore-club-3/
END:VEVENT
BEGIN:VEVENT
DTSTART;TZID=UTC:20220329T010000
DTEND;TZID=UTC:20220329T150000
DTSTAMP:20260426T023658
CREATED:20220113T222704Z
LAST-MODIFIED:20220113T222704Z
UID:1130-1648515600-1648566000@oasisbereavement.com
SUMMARY:Hope Hospice Comfort Cafe
DESCRIPTION:
URL:https://oasisbereavement.com/event/hope-hospice-comfort-cafe-6/
END:VEVENT
BEGIN:VEVENT
DTSTART;TZID=UTC:20220329T010000
DTEND;TZID=UTC:20220329T150000
DTSTAMP:20260426T023658
CREATED:20220113T222704Z
LAST-MODIFIED:20220113T222704Z
UID:2423-1648515600-1648566000@oasisbereavement.com
SUMMARY:Hope Hospice Comfort Cafe
DESCRIPTION:
URL:https://oasisbereavement.com/event/hope-hospice-comfort-cafe-6-2/
END:VEVENT
BEGIN:VEVENT
DTSTART;TZID=UTC:20220327T133000
DTEND;TZID=UTC:20220327T143000
DTSTAMP:20260426T023658
CREATED:20220113T215903Z
LAST-MODIFIED:20220113T215903Z
UID:1093-1648387800-1648391400@oasisbereavement.com
SUMMARY:Bridges of Hope Drop In - 4th Sunday of the Month
DESCRIPTION:
URL:https://oasisbereavement.com/event/bridges-of-hope-drop-in-4th-sunday-of-the-month-3/
END:VEVENT
BEGIN:VEVENT
DTSTART;TZID=UTC:20220327T133000
DTEND;TZID=UTC:20220327T143000
DTSTAMP:20260426T023658
CREATED:20220113T215903Z
LAST-MODIFIED:20220113T215903Z
UID:2405-1648387800-1648391400@oasisbereavement.com
SUMMARY:Bridges of Hope Drop In - 4th Sunday of the Month
DESCRIPTION:
URL:https://oasisbereavement.com/event/bridges-of-hope-drop-in-4th-sunday-of-the-month-3-2/
END:VEVENT
BEGIN:VEVENT
DTSTART;TZID=UTC:20220326T120000
DTEND;TZID=UTC:20220326T130000
DTSTAMP:20260426T023658
CREATED:20220217T021216Z
LAST-MODIFIED:20220217T021216Z
UID:1190-1648296000-1648299600@oasisbereavement.com
SUMMARY:Pregnancy & Infant Loss for Couples 6 Week Virtual Support Group
DESCRIPTION:Return to Zero: Pregnancy & Infant Loss for Couples – Begins March 26\, 2022 – Saturdays at 9:00 am PST \nhttps://rtzhope.org/register \nThese groups can provide healing\, community\, and much more.  Here’s what a few of our past participants have to say: \n“I love my experience with this group\, I felt so comfortable with others that shared the same experiences that I have. I felt open and able to talk about everything and have others relate to my experiences\, I felt less alone.” – Magaly \n“The RTZ HOPE support group has been an actual lifeline for me… it’s connected me to a community of parents that speak the same baby loss language.” – Meredith
URL:https://oasisbereavement.com/event/pregnancy-infant-loss-for-couples-6-week-virtual-support-group/
END:VEVENT
BEGIN:VEVENT
DTSTART;TZID=UTC:20220326T120000
DTEND;TZID=UTC:20220326T130000
DTSTAMP:20260426T023658
CREATED:20220217T021216Z
LAST-MODIFIED:20220217T021216Z
UID:2443-1648296000-1648299600@oasisbereavement.com
SUMMARY:Pregnancy & Infant Loss for Couples 6 Week Virtual Support Group
DESCRIPTION:Return to Zero: Pregnancy & Infant Loss for Couples – Begins March 26\, 2022 – Saturdays at 9:00 am PST \nhttps://rtzhope.org/register \nThese groups can provide healing\, community\, and much more.  Here’s what a few of our past participants have to say: \n“I love my experience with this group\, I felt so comfortable with others that shared the same experiences that I have. I felt open and able to talk about everything and have others relate to my experiences\, I felt less alone.” – Magaly \n“The RTZ HOPE support group has been an actual lifeline for me… it’s connected me to a community of parents that speak the same baby loss language.” – Meredith
URL:https://oasisbereavement.com/event/pregnancy-infant-loss-for-couples-6-week-virtual-support-group-2/
END:VEVENT
BEGIN:VEVENT
DTSTART;TZID=UTC:20220325T100000
DTEND;TZID=UTC:20220325T110000
DTSTAMP:20260426T023658
CREATED:20220113T223858Z
LAST-MODIFIED:20220113T223858Z
UID:1151-1648202400-1648206000@oasisbereavement.com
SUMMARY:Hope House Hospice Bereavement Bistro - Weekly
DESCRIPTION:
URL:https://oasisbereavement.com/event/hope-house-hospice-bereavement-bistro-weekly-10/
END:VEVENT
BEGIN:VEVENT
DTSTART;TZID=UTC:20220325T100000
DTEND;TZID=UTC:20220325T110000
DTSTAMP:20260426T023658
CREATED:20220113T223858Z
LAST-MODIFIED:20220113T223858Z
UID:2433-1648202400-1648206000@oasisbereavement.com
SUMMARY:Hope House Hospice Bereavement Bistro - Weekly
DESCRIPTION:
URL:https://oasisbereavement.com/event/hope-house-hospice-bereavement-bistro-weekly-10-2/
END:VEVENT
BEGIN:VEVENT
DTSTART;TZID=UTC:20220322T130000
DTEND;TZID=UTC:20220322T150000
DTSTAMP:20260426T023658
CREATED:20220113T222604Z
LAST-MODIFIED:20220113T222604Z
UID:1128-1647954000-1647961200@oasisbereavement.com
SUMMARY:Hope Hospice Comfort Cafe
DESCRIPTION:
URL:https://oasisbereavement.com/event/hope-hospice-comfort-cafe-5/
END:VEVENT
BEGIN:VEVENT
DTSTART;TZID=UTC:20220322T130000
DTEND;TZID=UTC:20220322T150000
DTSTAMP:20260426T023658
CREATED:20220113T222604Z
LAST-MODIFIED:20220113T222604Z
UID:2422-1647954000-1647961200@oasisbereavement.com
SUMMARY:Hope Hospice Comfort Cafe
DESCRIPTION:
URL:https://oasisbereavement.com/event/hope-hospice-comfort-cafe-5-2/
END:VEVENT
BEGIN:VEVENT
DTSTART;TZID=UTC:20220318T110000
DTEND;TZID=UTC:20220318T120000
DTSTAMP:20260426T023658
CREATED:20220113T220938Z
LAST-MODIFIED:20220113T220938Z
UID:1105-1647601200-1647604800@oasisbereavement.com
SUMMARY:Evergreen Connection Café  – Book Discussion Club
DESCRIPTION:The Evergreen Connection Café Book Discussion Club will meet the third Friday of every month from 11:00am to 12:30pm via Zoom. \nWe will discuss books that focus on self-care\, grief\, and other healthcare related topics. There will not be a specific book for everyone to read\, instead it will be more of a reference library for those interested in finding their next book and/or recommending and discussing one they have found to be helpful on their journey. \nAll Connection Café Clubs are here to help people looking for social activities and community events in addition to providing interest-based activities to those who attend. They are open to clients\,volunteers\, staff\, and community members – everyone! These clubs are not support groups – just a way to connect people. \nUpcoming Book Discussion Club Dates: \n\nFeb 18\, 2022 at 11:00 am\nMar 18\, 2022 at 11:00 am\nApr 15\, 2022 at 11:00 am\n\nRegister with Zoom in advance for these events below. After registering\, you will receive a confirmation email containing information about joining the meeting. \nhttps://us06web.zoom.us/meeting/register/tZ0pcuqrrzwjHdavKhW6npDpsKvgVwRfkPQu
URL:https://oasisbereavement.com/event/evergreen-connection-cafe-book-discussion-club-2/
LOCATION:ZOOM
END:VEVENT
BEGIN:VEVENT
DTSTART;TZID=UTC:20220318T110000
DTEND;TZID=UTC:20220318T120000
DTSTAMP:20260426T023658
CREATED:20220113T220938Z
LAST-MODIFIED:20220113T220938Z
UID:2411-1647601200-1647604800@oasisbereavement.com
SUMMARY:Evergreen Connection Café  – Book Discussion Club
DESCRIPTION:The Evergreen Connection Café Book Discussion Club will meet the third Friday of every month from 11:00am to 12:30pm via Zoom. \nWe will discuss books that focus on self-care\, grief\, and other healthcare related topics. There will not be a specific book for everyone to read\, instead it will be more of a reference library for those interested in finding their next book and/or recommending and discussing one they have found to be helpful on their journey. \nAll Connection Café Clubs are here to help people looking for social activities and community events in addition to providing interest-based activities to those who attend. They are open to clients\,volunteers\, staff\, and community members – everyone! These clubs are not support groups – just a way to connect people. \nUpcoming Book Discussion Club Dates: \n\nFeb 18\, 2022 at 11:00 am\nMar 18\, 2022 at 11:00 am\nApr 15\, 2022 at 11:00 am\n\nRegister with Zoom in advance for these events below. After registering\, you will receive a confirmation email containing information about joining the meeting. \nhttps://us06web.zoom.us/meeting/register/tZ0pcuqrrzwjHdavKhW6npDpsKvgVwRfkPQu
URL:https://oasisbereavement.com/event/evergreen-connection-cafe-book-discussion-club-2-2/
LOCATION:ZOOM
END:VEVENT
BEGIN:VEVENT
DTSTART;TZID=UTC:20220318T100000
DTEND;TZID=UTC:20220318T110000
DTSTAMP:20260426T023658
CREATED:20220113T223753Z
LAST-MODIFIED:20220113T223753Z
UID:2432-1647597600-1647601200@oasisbereavement.com
SUMMARY:Hope House Hospice Bereavement Bistro - Weekly
DESCRIPTION:
URL:https://oasisbereavement.com/event/hope-house-hospice-bereavement-bistro-weekly-9-2/
END:VEVENT
BEGIN:VEVENT
DTSTART;TZID=UTC:20220318T100000
DTEND;TZID=UTC:20220318T110000
DTSTAMP:20260426T023658
CREATED:20220113T223753Z
LAST-MODIFIED:20220113T223753Z
UID:1149-1647597600-1647601200@oasisbereavement.com
SUMMARY:Hope House Hospice Bereavement Bistro - Weekly
DESCRIPTION:
URL:https://oasisbereavement.com/event/hope-house-hospice-bereavement-bistro-weekly-9/
END:VEVENT
BEGIN:VEVENT
DTSTART;TZID=UTC:20220315T130000
DTEND;TZID=UTC:20220315T150000
DTSTAMP:20260426T023658
CREATED:20220113T222512Z
LAST-MODIFIED:20220113T222512Z
UID:1126-1647349200-1647356400@oasisbereavement.com
SUMMARY:Hope Hospice Comfort Cafe
DESCRIPTION:
URL:https://oasisbereavement.com/event/hope-hospice-comfort-cafe-4/
END:VEVENT
BEGIN:VEVENT
DTSTART;TZID=UTC:20220315T130000
DTEND;TZID=UTC:20220315T150000
DTSTAMP:20260426T023658
CREATED:20220113T222512Z
LAST-MODIFIED:20220113T222512Z
UID:2421-1647349200-1647356400@oasisbereavement.com
SUMMARY:Hope Hospice Comfort Cafe
DESCRIPTION:
URL:https://oasisbereavement.com/event/hope-hospice-comfort-cafe-4-2/
END:VEVENT
BEGIN:VEVENT
DTSTART;TZID=UTC:20220311T100000
DTEND;TZID=UTC:20220311T110000
DTSTAMP:20260426T023658
CREATED:20220113T223700Z
LAST-MODIFIED:20220113T223700Z
UID:1147-1646992800-1646996400@oasisbereavement.com
SUMMARY:Hope House Hospice Bereavement Bistro - Weekly
DESCRIPTION:
URL:https://oasisbereavement.com/event/hope-house-hospice-bereavement-bistro-weekly-8/
END:VEVENT
BEGIN:VEVENT
DTSTART;TZID=UTC:20220311T100000
DTEND;TZID=UTC:20220311T110000
DTSTAMP:20260426T023658
CREATED:20220113T223700Z
LAST-MODIFIED:20220113T223700Z
UID:2431-1646992800-1646996400@oasisbereavement.com
SUMMARY:Hope House Hospice Bereavement Bistro - Weekly
DESCRIPTION:
URL:https://oasisbereavement.com/event/hope-house-hospice-bereavement-bistro-weekly-8-2/
END:VEVENT
BEGIN:VEVENT
DTSTART;TZID=UTC:20220310T123000
DTEND;TZID=UTC:20220310T133000
DTSTAMP:20260426T023658
CREATED:20220217T020953Z
LAST-MODIFIED:20220217T020953Z
UID:1188-1646915400-1646919000@oasisbereavement.com
SUMMARY:Ending a Wanted Pregnancy (TFMR) 6 Week Virtual Support Group
DESCRIPTION:Return to Zero: Ending a Wanted Pregnancy (TFMR) – Begins March 10\, 2022 – Thursdays at 9:30 am PST \nhttps://rtzhope.org/register \nThese groups can provide healing\, community\, and much more.  Here’s what a few of our past participants have to say: \n“I love my experience with this group\, I felt so comfortable with others that shared the same experiences that I have. I felt open and able to talk about everything and have others relate to my experiences\, I felt less alone.” – Magaly \n“The RTZ HOPE support group has been an actual lifeline for me… it’s connected me to a community of parents that speak the same baby loss language.” – Meredith
URL:https://oasisbereavement.com/event/ending-a-wanted-pregnancy-tfmr-6-week-virtual-support-group/
END:VEVENT
BEGIN:VEVENT
DTSTART;TZID=UTC:20220310T123000
DTEND;TZID=UTC:20220310T133000
DTSTAMP:20260426T023658
CREATED:20220217T020953Z
LAST-MODIFIED:20220217T020953Z
UID:2442-1646915400-1646919000@oasisbereavement.com
SUMMARY:Ending a Wanted Pregnancy (TFMR) 6 Week Virtual Support Group
DESCRIPTION:Return to Zero: Ending a Wanted Pregnancy (TFMR) – Begins March 10\, 2022 – Thursdays at 9:30 am PST \nhttps://rtzhope.org/register \nThese groups can provide healing\, community\, and much more.  Here’s what a few of our past participants have to say: \n“I love my experience with this group\, I felt so comfortable with others that shared the same experiences that I have. I felt open and able to talk about everything and have others relate to my experiences\, I felt less alone.” – Magaly \n“The RTZ HOPE support group has been an actual lifeline for me… it’s connected me to a community of parents that speak the same baby loss language.” – Meredith
URL:https://oasisbereavement.com/event/ending-a-wanted-pregnancy-tfmr-6-week-virtual-support-group-3/
END:VEVENT
BEGIN:VEVENT
DTSTART;TZID=UTC:20220308T193000
DTEND;TZID=UTC:20220308T203000
DTSTAMP:20260426T023658
CREATED:20220217T020706Z
LAST-MODIFIED:20220217T020706Z
UID:1186-1646767800-1646771400@oasisbereavement.com
SUMMARY:Pregnancy & Infant Loss 6 Week Virtual Support Group
DESCRIPTION:Pregnancy & Infant Loss – Begins March 8\, 2022 – Tuesdays at 4:30 pm PST \nhttps://rtzhope.org/register \nThese groups can provide healing\, community\, and much more.  Here’s what a few of our past participants have to say: \n“I love my experience with this group\, I felt so comfortable with others that shared the same experiences that I have. I felt open and able to talk about everything and have others relate to my experiences\, I felt less alone.” – Magaly \n“The RTZ HOPE support group has been an actual lifeline for me… it’s connected me to a community of parents that speak the same baby loss language.” – Meredith
URL:https://oasisbereavement.com/event/pregnancy-infant-loss-6-week-virtual-support-group-2/
END:VEVENT
BEGIN:VEVENT
DTSTART;TZID=UTC:20220308T193000
DTEND;TZID=UTC:20220308T203000
DTSTAMP:20260426T023658
CREATED:20220217T020706Z
LAST-MODIFIED:20220217T020706Z
UID:2441-1646767800-1646771400@oasisbereavement.com
SUMMARY:Pregnancy & Infant Loss 6 Week Virtual Support Group
DESCRIPTION:Pregnancy & Infant Loss – Begins March 8\, 2022 – Tuesdays at 4:30 pm PST \nhttps://rtzhope.org/register \nThese groups can provide healing\, community\, and much more.  Here’s what a few of our past participants have to say: \n“I love my experience with this group\, I felt so comfortable with others that shared the same experiences that I have. I felt open and able to talk about everything and have others relate to my experiences\, I felt less alone.” – Magaly \n“The RTZ HOPE support group has been an actual lifeline for me… it’s connected me to a community of parents that speak the same baby loss language.” – Meredith
URL:https://oasisbereavement.com/event/pregnancy-infant-loss-6-week-virtual-support-group-2-2/
END:VEVENT
BEGIN:VEVENT
DTSTART;TZID=UTC:20220308T130000
DTEND;TZID=UTC:20220308T150000
DTSTAMP:20260426T023658
CREATED:20220113T222425Z
LAST-MODIFIED:20220113T222425Z
UID:2420-1646744400-1646751600@oasisbereavement.com
SUMMARY:Hope Hospice Comfort Cafe
DESCRIPTION:
URL:https://oasisbereavement.com/event/hope-hospice-comfort-cafe-3-2/
END:VEVENT
BEGIN:VEVENT
DTSTART;TZID=UTC:20220308T130000
DTEND;TZID=UTC:20220308T150000
DTSTAMP:20260426T023658
CREATED:20220113T222425Z
LAST-MODIFIED:20220113T222425Z
UID:1124-1646744400-1646751600@oasisbereavement.com
SUMMARY:Hope Hospice Comfort Cafe
DESCRIPTION:
URL:https://oasisbereavement.com/event/hope-hospice-comfort-cafe-3/
END:VEVENT
BEGIN:VEVENT
DTSTART;TZID=UTC:20220307T133000
DTEND;TZID=UTC:20220307T143000
DTSTAMP:20260426T023658
CREATED:20220113T220329Z
LAST-MODIFIED:20220113T220329Z
UID:1097-1646659800-1646663400@oasisbereavement.com
SUMMARY:Evergreen Connection Café – Games Galore Club
DESCRIPTION:The Evergreen Connection Café Games Galore Club will meet the first Monday of every month from 1:30pm to 3:00pm. We will meet to play games and discuss fun activities. \nAll Connection Café Clubs are here to help people looking for social activities and community events in addition to providing interest-based activities to those who attend. They are open to clients\,volunteers\, staff\, and community members – everyone! These clubs are not support groups – just a way to connect people. \nUpcoming Games Galore Club Dates: \n\nFeb 7\, 2022 at 1:30 pm\nMar 7\, 2022 at 1:30 pm\nApr 4\, 2022 at 1:30 pm\n\nRegister with Zoom in advance for these events below. After registering\, you will receive a confirmation email containing information about joining the meeting. \nhttps://zoom.us/meeting/register/tJ0ofuisrDIuHdOSL3S8opEuKsuRKAmhU1a6
URL:https://oasisbereavement.com/event/evergreen-connection-cafe-games-galore-club-2/
END:VEVENT
BEGIN:VEVENT
DTSTART;TZID=UTC:20220307T133000
DTEND;TZID=UTC:20220307T143000
DTSTAMP:20260426T023658
CREATED:20220113T220329Z
LAST-MODIFIED:20220113T220329Z
UID:2407-1646659800-1646663400@oasisbereavement.com
SUMMARY:Evergreen Connection Café – Games Galore Club
DESCRIPTION:The Evergreen Connection Café Games Galore Club will meet the first Monday of every month from 1:30pm to 3:00pm. We will meet to play games and discuss fun activities. \nAll Connection Café Clubs are here to help people looking for social activities and community events in addition to providing interest-based activities to those who attend. They are open to clients\,volunteers\, staff\, and community members – everyone! These clubs are not support groups – just a way to connect people. \nUpcoming Games Galore Club Dates: \n\nFeb 7\, 2022 at 1:30 pm\nMar 7\, 2022 at 1:30 pm\nApr 4\, 2022 at 1:30 pm\n\nRegister with Zoom in advance for these events below. After registering\, you will receive a confirmation email containing information about joining the meeting. \nhttps://zoom.us/meeting/register/tJ0ofuisrDIuHdOSL3S8opEuKsuRKAmhU1a6
URL:https://oasisbereavement.com/event/evergreen-connection-cafe-games-galore-club-2-2/
END:VEVENT
BEGIN:VEVENT
DTSTART;TZID=UTC:20220304T100000
DTEND;TZID=UTC:20220304T110000
DTSTAMP:20260426T023658
CREATED:20220113T223603Z
LAST-MODIFIED:20220113T223603Z
UID:1145-1646388000-1646391600@oasisbereavement.com
SUMMARY:Hope House Hospice Bereavement Bistro - Weekly
DESCRIPTION:
URL:https://oasisbereavement.com/event/hope-house-hospice-bereavement-bistro-weekly-7/
END:VEVENT
BEGIN:VEVENT
DTSTART;TZID=UTC:20220304T100000
DTEND;TZID=UTC:20220304T110000
DTSTAMP:20260426T023658
CREATED:20220113T223603Z
LAST-MODIFIED:20220113T223603Z
UID:2430-1646388000-1646391600@oasisbereavement.com
SUMMARY:Hope House Hospice Bereavement Bistro - Weekly
DESCRIPTION:
URL:https://oasisbereavement.com/event/hope-house-hospice-bereavement-bistro-weekly-7-2/
END:VEVENT
BEGIN:VEVENT
DTSTART;TZID=UTC:20220301T130000
DTEND;TZID=UTC:20220301T150000
DTSTAMP:20260426T023658
CREATED:20220113T222314Z
LAST-MODIFIED:20220113T222314Z
UID:1122-1646139600-1646146800@oasisbereavement.com
SUMMARY:Hope Hospice Comfort Cafe
DESCRIPTION:
URL:https://oasisbereavement.com/event/hope-hospice-comfort-cafe-2/
END:VEVENT
END:VCALENDAR