BEGIN:VCALENDAR
VERSION:2.0
PRODID:-//Oasis Bereavement - ECPv6.15.18//NONSGML v1.0//EN
CALSCALE:GREGORIAN
METHOD:PUBLISH
X-ORIGINAL-URL:https://oasisbereavement.com
X-WR-CALDESC:Events for Oasis Bereavement
REFRESH-INTERVAL;VALUE=DURATION:PT1H
X-Robots-Tag:noindex
X-PUBLISHED-TTL:PT1H
BEGIN:VTIMEZONE
TZID:UTC
BEGIN:STANDARD
TZOFFSETFROM:+0000
TZOFFSETTO:+0000
TZNAME:UTC
DTSTART:20220101T000000
END:STANDARD
END:VTIMEZONE
BEGIN:VEVENT
DTSTART;TZID=UTC:20230302T190000
DTEND;TZID=UTC:20230302T220000
DTSTAMP:20260422T183837
CREATED:20230118T175535Z
LAST-MODIFIED:20230118T175535Z
UID:1840-1677783600-1677794400@oasisbereavement.com
SUMMARY:Positively Purple - Dinner and Silent Auction
DESCRIPTION:Tickets: E-transfer to admin@oasisbereavement.ca (Please include your email address on the transfer so we can send updates for the event! 🙂
URL:https://oasisbereavement.com/event/positively-purple-dinner-and-silent-auction/
LOCATION:Sharon House Tap and Kitchen\, 19103B Leslie St\, Sharon\, Ontario\, L0G 1V0\, Canada
END:VEVENT
BEGIN:VEVENT
DTSTART;TZID=UTC:20230302T190000
DTEND;TZID=UTC:20230302T220000
DTSTAMP:20260422T183837
CREATED:20230118T175535Z
LAST-MODIFIED:20230118T175535Z
UID:2538-1677783600-1677794400@oasisbereavement.com
SUMMARY:Positively Purple - Dinner and Silent Auction
DESCRIPTION:Tickets: E-transfer to admin@oasisbereavement.ca (Please include your email address on the transfer so we can send updates for the event! 🙂
URL:https://oasisbereavement.com/event/positively-purple-dinner-and-silent-auction-2/
LOCATION:Sharon House Tap and Kitchen\, 19103B Leslie St\, Sharon\, Ontario\, L0G 1V0\, Canada
END:VEVENT
END:VCALENDAR