BEGIN:VCALENDAR
VERSION:2.0
PRODID:-//Oasis Bereavement - ECPv6.15.18//NONSGML v1.0//EN
CALSCALE:GREGORIAN
METHOD:PUBLISH
X-WR-CALNAME:Oasis Bereavement
X-ORIGINAL-URL:https://oasisbereavement.com
X-WR-CALDESC:Events for Oasis Bereavement
REFRESH-INTERVAL;VALUE=DURATION:PT1H
X-Robots-Tag:noindex
X-PUBLISHED-TTL:PT1H
BEGIN:VTIMEZONE
TZID:UTC
BEGIN:STANDARD
TZOFFSETFROM:+0000
TZOFFSETTO:+0000
TZNAME:UTC
DTSTART:20230101T000000
END:STANDARD
END:VTIMEZONE
BEGIN:VEVENT
DTSTART;TZID=UTC:20250304T153000
DTEND;TZID=UTC:20250304T170000
DTSTAMP:20260421T100512
CREATED:20250122T195115Z
LAST-MODIFIED:20250122T195115Z
UID:3388-1741102200-1741107600@oasisbereavement.com
SUMMARY:Pregnancy After Loss - Return to Zero - 6 Week Program
DESCRIPTION:This six week closed virtual support group is for birthing parents who have experienced a prior loss and are currently navigating a pregnancy after loss. It is recommended to have completed a loss support group prior to participation\, but is not a requirement. \nThe group will meet on Tuesdays at 12:30pm-2:00 pm PST/3:30 pm-5:00 pm EST from March 4th – April 15\, 2025. No session on April 1st. \nFacilitator: Betsy Winter \nWhat can I expect during a virtual support group? \n\n\nVirtual support groups are 90-minutes in length\, with the exception of the session\, Share Your Story\, where we ask 2 hours be set aside. \n\n\nOur groups are topic focused and structured in a way that builds on content from the previous week. \n\n\nEvery session has a similar flow. Each group starts with a guided meditation or body-centered mindfulness practice. \n\n\nThe topic of the week is introduced\, which includes some education. \n\n\nThen there will be group sharing in response to a topic-related question and facilitated discussion. \n\n\nGroups end with a period of reflective sharing. Where relevant\, the group may be led in writing\, creative expression\, or embodiment exercises to support resource building and integration. \n\n\nHow will this support group help me?  \n\n\nThese types of losses are very isolating—you will learn that you are not alone. \n\n\nOur hope is that you will find community with others who have similar loss experiences. \n\n\nBy sharing your story\, your loss experience is witnessed by others in a supportive and non-judgmental setting. \n\n\nYou never imagined you’d be in this situation. You will receive guidance and resources for your grieving journey.
URL:https://oasisbereavement.com/event/pregnancy-after-loss-return-to-zero-6-week-program/
LOCATION:ZOOM
ATTACH;FMTTYPE=image/png:https://oasisbereavement.com/wp-content/uploads/2025/01/Screen-Shot-2025-01-22-at-2.48.23-PM.png
END:VEVENT
BEGIN:VEVENT
DTSTART;TZID=UTC:20250303T133000
DTEND;TZID=UTC:20250303T150000
DTSTAMP:20260421T100512
CREATED:20241228T194215Z
LAST-MODIFIED:20241228T194215Z
UID:3085-1741008600-1741014000@oasisbereavement.com
SUMMARY:Evergreen - Games Galore Club (Virtual)
DESCRIPTION:
URL:https://oasisbereavement.com/event/evergreen-games-galore-club-virtual-3/
LOCATION:ZOOM
ATTACH;FMTTYPE=image/png:https://oasisbereavement.com/wp-content/uploads/2024/12/Screen-Shot-2024-12-28-at-2.37.12-PM.png
END:VEVENT
BEGIN:VEVENT
DTSTART;TZID=UTC:20250226T130000
DTEND;TZID=UTC:20250226T130000
DTSTAMP:20260421T100512
CREATED:20250122T194753Z
LAST-MODIFIED:20250122T194753Z
UID:3385-1740574800-1740574800@oasisbereavement.com
SUMMARY:Provider Webinar: Helping Parents Navigate Relationships After Loss - Part Two - Return to Zero
DESCRIPTION:The loss of a pregnancy or death of an infant will impact and change many relationships in a parent’s life\, including their partner\, children\, family\, friends\, co-workers\, and community members. This webinar looks closely at the expression of grief when viewed in the context of relationships and identifies strategies that providers can use to help support their clients/patients in the healing process. This will be a part of a series. \n\n\nAudience: Providers \n\n\nDate: Wednesday\, February 26th\, 2025 \n\n\nTime: 10:00 am PST / 1:00 pm EST \n\n\nSpeaker: Kiley Hanish\, OTD\, OTR/L\, PMH-C \nWhat you will learn during this webinar: \n\n\nExplain at least two qualities of grief when viewed in the context of relationships. \n\n\nCompare differences between intuitive and instrumental types of grief. \n\n\nIdentify three strategies to support parents in their intimate relationship as they grieve this significant loss.
URL:https://oasisbereavement.com/event/provider-webinar-helping-parents-navigate-relationships-after-loss-part-two-return-to-zero/
LOCATION:ZOOM
ATTACH;FMTTYPE=image/png:https://oasisbereavement.com/wp-content/uploads/2025/01/Screen-Shot-2025-01-22-at-2.45.41-PM.png
END:VEVENT
BEGIN:VEVENT
DTSTART;TZID=UTC:20250212T190000
DTEND;TZID=UTC:20250212T200000
DTSTAMP:20260421T100512
CREATED:20250122T194512Z
LAST-MODIFIED:20250122T194512Z
UID:3383-1739386800-1739390400@oasisbereavement.com
SUMMARY:No Living Children Not By Choice Workshop - Return to Zero
DESCRIPTION:This workshop is for women grappling with being childless – due to infertility or perinatal loss. In this 90-minute\, interactive workshop\, you will: \n\n\nUnderstand the complicated nature of grieving the loss of your cherished dream of motherhood while also facing an unknown future. \n\n\n\n\nExplore ways of supporting yourself as you move through the personal process of grieving. \n\n\nLearn the importance of honouring your child or the dream of a child. \n\n\nConsider a personal narrative that feels comfortable and authentic as you move forward. \n\n\nBegin to imagine your future-self with a life of fulfillment and purpose. \n\n\nLeave with hope and encouragement that a happy and fulfilling life without children is within reach. \n\n\nThe group will meet on Wednesday\, February 12th at 4:00pm-5:30 pm PST/7:00 pm-8:30 pm EST. \nFacilitator: Kristen Rademacher \nCost: Free\nAppreciated Donation: $10.00\nChoose the “Pay what you Want Amount” at registration to customize your donation amount.
URL:https://oasisbereavement.com/event/no-living-children-not-by-choice-workshop-return-to-zero/
LOCATION:ZOOM
END:VEVENT
BEGIN:VEVENT
DTSTART;TZID=UTC:20250212T173000
DTEND;TZID=UTC:20250212T183000
DTSTAMP:20260421T100512
CREATED:20250122T194326Z
LAST-MODIFIED:20250122T194326Z
UID:3381-1739381400-1739385000@oasisbereavement.com
SUMMARY:Parenting Through Loss: Supporting Surviving Children with Compassion and Connection - Return to Zero
DESCRIPTION:Parenting after pregnancy or infant loss brings unique challenges\, especially when balancing your grief with the needs of surviving children. This 60-minute workshop\, led by a somatic attachment specialist\, is designed to provide parents with tools and insights to nurture secure\, attuned connections with their surviving children while navigating their own healing journey. \nThrough an attachment-based lens\, this workshop will help you: \n\n\nUnderstand how grief may impact your relationship with your child and learn strategies to foster emotional connection and security. \n\n\nExplore somatic practices to regulate your nervous system\, creating a sense of safety and presence for yourself and your child. \n\n\nDevelop tools to support your child’s emotional processing and resilience while honoring your own boundaries and capacity. \n\n\nLearn ways to approach conversations about loss with age-appropriate language and sensitivity. \n\n\nThis supportive\, interactive session will offer practical insights\, mindfulness-based techniques\, and space to reflect on how you can show up for your child(ren) with love\, presence\, and intention. Together\, we’ll explore how to parent with compassion and connection as you navigate life after loss. \nHost: Betsy Winter\nDate: Wednesday\, February 12\, 2025\nTimes: 2:30pm to 3:30pm PST/5:30pm to 6:30pm EST\nCost: Free\nAppreciated Donation: $10.00\nChoose the “Pay what you Want Amount” at registration to customize your donation amount.
URL:https://oasisbereavement.com/event/parenting-through-loss-supporting-surviving-children-with-compassion-and-connection-return-to-zero/
LOCATION:ZOOM
END:VEVENT
BEGIN:VEVENT
DTSTART;TZID=UTC:20250203T133000
DTEND;TZID=UTC:20250203T150000
DTSTAMP:20260421T100512
CREATED:20241228T194036Z
LAST-MODIFIED:20241228T194036Z
UID:3083-1738589400-1738594800@oasisbereavement.com
SUMMARY:Evergreen - Games Galore Club (Virtual)
DESCRIPTION:
URL:https://oasisbereavement.com/event/evergreen-games-galore-club-virtual-2/
LOCATION:ZOOM
ATTACH;FMTTYPE=image/png:https://oasisbereavement.com/wp-content/uploads/2024/12/Screen-Shot-2024-12-28-at-2.37.12-PM.png
END:VEVENT
BEGIN:VEVENT
DTSTART;TZID=UTC:20250129T173000
DTEND;TZID=UTC:20250129T183000
DTSTAMP:20260421T100512
CREATED:20250122T193803Z
LAST-MODIFIED:20250122T193803Z
UID:3376-1738171800-1738175400@oasisbereavement.com
SUMMARY:Building Resilience: Somatic Practices for Stress Relief and Trauma Prevention During Difficult Times
DESCRIPTION:This 45-minute workshop is an invitation to reconnect with your body\, release accumulated stress\, and nurture your nervous system for optimal well-being. Designed for individuals who have experienced loss\, are navigating overwhelming life events\, or have been impacted by natural disasters\, this session offers practical tools to support nervous system health and prevent the long-term effects of stress and trauma\, including PTSD. \nLed by a skilled trauma specialist and somatic practitioner\, this workshop will guide you to: \n\n\nExplore gentle somatic practices to calm and regulate your nervous system. \n\n\nSafely discharge stored stress energy to restore balance and vitality. \n\n\nCreate opportunities for “rest and digest” to enhance resilience and promote healing. \n\n\nUnderstand the nervous system’s role in trauma recovery and overall well-being through a polyvagal-informed approach. \n\n\nWhether you’re seeking support to process grief\, navigate life’s challenges\, or recover from collective or personal trauma\, this workshop provides a compassionate\, supportive space for learning and integration. Join us to cultivate resilience\, presence\, and a deeper connection with your body. \nHost: Betsy Winter\nDate: Wednesday\, January 29\, 2025\nTimes: 2:30pm to 3:15pm PST/5:30pm to 6:15pm EST\nCost: Free\nAppreciated Donation: $10.00\nChoose the “Pay what you Want Amount” at registration to customize your donation amount.
URL:https://oasisbereavement.com/event/building-resilience-somatic-practices-for-stress-relief-and-trauma-prevention-during-difficult-times/
LOCATION:ZOOM
END:VEVENT
BEGIN:VEVENT
DTSTART;TZID=UTC:20250127T130000
DTEND;TZID=UTC:20250127T143000
DTSTAMP:20260421T100512
CREATED:20250122T193603Z
LAST-MODIFIED:20250122T193603Z
UID:3374-1737982800-1737988200@oasisbereavement.com
SUMMARY:Pregnancy and Infant Loss (Birthing Parent) - 6 Week Group - Return to Zero
DESCRIPTION:This six week closed virtual support group is for birthing parents who have experienced loss through infertility\, miscarriage\, stillbirth\, terminations for medical reasons\, or infant death\, whether more recently or in the past. \nThe group will meet on Mondays at 1:00 pm-2:30 pm PST/4:00 pm-5:30 pm EST from January 27 – March 10\, 2025 (No session on February 17th). \nFacilitator: Betsy Winter and Sarah Norell
URL:https://oasisbereavement.com/event/pregnancy-and-infant-loss-birthing-parent-6-week-group-return-to-zero/
LOCATION:ZOOM
END:VEVENT
BEGIN:VEVENT
DTSTART;TZID=UTC:20250106T133000
DTEND;TZID=UTC:20250106T150000
DTSTAMP:20260421T100512
CREATED:20241228T193859Z
LAST-MODIFIED:20241228T193859Z
UID:3080-1736170200-1736175600@oasisbereavement.com
SUMMARY:Evergreen - Games Galore Club (Virtual)
DESCRIPTION:
URL:https://oasisbereavement.com/event/evergreen-games-galore-club-virtual/
LOCATION:ZOOM
ATTACH;FMTTYPE=image/png:https://oasisbereavement.com/wp-content/uploads/2024/12/Screen-Shot-2024-12-28-at-2.37.12-PM.png
END:VEVENT
BEGIN:VEVENT
DTSTART;TZID=UTC:20250106T120000
DTEND;TZID=UTC:20250106T130000
DTSTAMP:20260421T100512
CREATED:20241228T192258Z
LAST-MODIFIED:20241228T192258Z
UID:3058-1736164800-1736168400@oasisbereavement.com
SUMMARY:Weekly: Evergreen On-Line Drop in Bereavement Group
DESCRIPTION:
URL:https://oasisbereavement.com/event/weekly-evergreen-on-line-drop-in-bereavement-group/
LOCATION:ZOOM
END:VEVENT
BEGIN:VEVENT
DTSTART;TZID=UTC:20241210T120000
DTEND;TZID=UTC:20241210T130000
DTSTAMP:20260421T100512
CREATED:20240124T202858Z
LAST-MODIFIED:20240124T202858Z
UID:2707-1733832000-1733835600@oasisbereavement.com
SUMMARY:PalCare - Join the Conversation
DESCRIPTION:Join the Conversation\n\n\nCourse Via Zoom\n\n\nDescription \nCome and join the conversation\, share your voice on topics that can include palliative care\, grief and bereavement\, organ donation\, MAID\, Advanced Care Planning and Self Compassion. We start the conversation by discussing videos\, TED talks\, podcasts etc. that we have shared with you to watch and listen to prior to the session.    \n​ \nDates \nTuesday\, January 9th\, 2024 \nTuesday\, February 13th\, 2024 \nTuesday\, March 12th\, 2024 \nTuesday\, April 9th\, 2024 \nTuesday\, May 14th\, 2024 \nTuesday\, June 11th\, 2024 \nTuesday\, July 9th\, 2024 \nTuesday\,August 13th\, 2024 \nTuesday\, September 10th\, 2024 \nTuesday\, October 8th\, 2024 \nTuesday\, November 12th\, 2024 \nTuesday\, December 10th\, 2024 \n​ \nTime \n12:00 – 12:45 pm
URL:https://oasisbereavement.com/event/palcare-join-the-conversation-11/
LOCATION:ZOOM
END:VEVENT
BEGIN:VEVENT
DTSTART;TZID=UTC:20241206T100000
DTEND;TZID=UTC:20241206T113000
DTSTAMP:20260421T100512
CREATED:20240113T204135Z
LAST-MODIFIED:20240113T204135Z
UID:2660-1733479200-1733484600@oasisbereavement.com
SUMMARY:Weekly – Hope House Virtual Bereavement Bistro
DESCRIPTION:
URL:https://oasisbereavement.com/event/weekly-hope-house-virtual-bereavement-bistro-12/
LOCATION:ZOOM
END:VEVENT
BEGIN:VEVENT
DTSTART;TZID=UTC:20241204T093000
DTEND;TZID=UTC:20241204T103000
DTSTAMP:20260421T100512
CREATED:20240406T162502Z
LAST-MODIFIED:20240406T162502Z
UID:2830-1733304600-1733308200@oasisbereavement.com
SUMMARY:Weekly – QIGONG – Hope House
DESCRIPTION:
URL:https://oasisbereavement.com/event/weekly-qigong-hope-house-9/
LOCATION:ZOOM
ATTACH;FMTTYPE=image/png:https://oasisbereavement.com/wp-content/uploads/2024/04/Screen-Shot-2024-04-06-at-12.05.46-PM.png
END:VEVENT
BEGIN:VEVENT
DTSTART;TZID=UTC:20241203T130000
DTEND;TZID=UTC:20241203T150000
DTSTAMP:20260421T100512
CREATED:20240113T202128Z
LAST-MODIFIED:20240113T202128Z
UID:2318-1733230800-1733238000@oasisbereavement.com
SUMMARY:Weekly – Hope House Comfort Cafe Virtual Drop-In
DESCRIPTION:
URL:https://oasisbereavement.com/event/weekly-hope-house-comfort-cafe-virtual-drop-in-11/
LOCATION:ZOOM
END:VEVENT
BEGIN:VEVENT
DTSTART;TZID=UTC:20241202T190000
DTEND;TZID=UTC:20241202T200000
DTSTAMP:20260421T100512
CREATED:20240113T003728Z
LAST-MODIFIED:20240113T003728Z
UID:2291-1733166000-1733169600@oasisbereavement.com
SUMMARY:Hope House – Weekly Virtual Drop-In – Moonlight Mourning
DESCRIPTION:
URL:https://oasisbereavement.com/event/hope-house-weekly-virtual-drop-in-moonlight-mourning-12/
LOCATION:ZOOM
END:VEVENT
BEGIN:VEVENT
DTSTART;TZID=UTC:20241202T100000
DTEND;TZID=UTC:20241202T110000
DTSTAMP:20260421T100512
CREATED:20240406T143228Z
LAST-MODIFIED:20240406T143228Z
UID:2774-1733133600-1733137200@oasisbereavement.com
SUMMARY:Weekly - Permission to Pause Gentle Yoga  - Hope House
DESCRIPTION:
URL:https://oasisbereavement.com/event/weekly-permission-to-pause-gentle-yoga-hope-house-9/
LOCATION:ZOOM
ATTACH;FMTTYPE=image/png:https://oasisbereavement.com/wp-content/uploads/2024/04/Screen-Shot-2024-04-06-at-10.17.57-AM.png
END:VEVENT
BEGIN:VEVENT
DTSTART;TZID=UTC:20241112T120000
DTEND;TZID=UTC:20241112T130000
DTSTAMP:20260421T100512
CREATED:20240124T202740Z
LAST-MODIFIED:20240124T202740Z
UID:2706-1731412800-1731416400@oasisbereavement.com
SUMMARY:PalCare - Join the Conversation
DESCRIPTION:Join the Conversation\n\n\nCourse Via Zoom\n\n\nDescription \nCome and join the conversation\, share your voice on topics that can include palliative care\, grief and bereavement\, organ donation\, MAID\, Advanced Care Planning and Self Compassion. We start the conversation by discussing videos\, TED talks\, podcasts etc. that we have shared with you to watch and listen to prior to the session.    \n​ \nDates \nTuesday\, January 9th\, 2024 \nTuesday\, February 13th\, 2024 \nTuesday\, March 12th\, 2024 \nTuesday\, April 9th\, 2024 \nTuesday\, May 14th\, 2024 \nTuesday\, June 11th\, 2024 \nTuesday\, July 9th\, 2024 \nTuesday\,August 13th\, 2024 \nTuesday\, September 10th\, 2024 \nTuesday\, October 8th\, 2024 \nTuesday\, November 12th\, 2024 \nTuesday\, December 10th\, 2024 \n​ \nTime \n12:00 – 12:45 pm
URL:https://oasisbereavement.com/event/palcare-join-the-conversation-10/
LOCATION:ZOOM
END:VEVENT
BEGIN:VEVENT
DTSTART;TZID=UTC:20241106T093000
DTEND;TZID=UTC:20241106T103000
DTSTAMP:20260421T100512
CREATED:20240406T162334Z
LAST-MODIFIED:20240406T162334Z
UID:2828-1730885400-1730889000@oasisbereavement.com
SUMMARY:Weekly – QIGONG – Hope House
DESCRIPTION:
URL:https://oasisbereavement.com/event/weekly-qigong-hope-house-8/
LOCATION:ZOOM
ATTACH;FMTTYPE=image/png:https://oasisbereavement.com/wp-content/uploads/2024/04/Screen-Shot-2024-04-06-at-12.05.46-PM.png
END:VEVENT
BEGIN:VEVENT
DTSTART;TZID=UTC:20241105T130000
DTEND;TZID=UTC:20241105T150000
DTSTAMP:20260421T100512
CREATED:20240113T202028Z
LAST-MODIFIED:20240404T174550Z
UID:2316-1730811600-1730818800@oasisbereavement.com
SUMMARY:Weekly – Hope House Comfort Cafe Virtual Drop-In
DESCRIPTION:
URL:https://oasisbereavement.com/event/weekly-hope-house-comfort-cafe-virtual-drop-in-10/
LOCATION:ZOOM
ATTACH;FMTTYPE=image/png:https://oasisbereavement.com/wp-content/uploads/2022/06/Screen-Shot-2022-06-17-at-6.36.25-PM.png
END:VEVENT
BEGIN:VEVENT
DTSTART;TZID=UTC:20241104T190000
DTEND;TZID=UTC:20241104T200000
DTSTAMP:20260421T100512
CREATED:20240113T003633Z
LAST-MODIFIED:20240113T003633Z
UID:2643-1730746800-1730750400@oasisbereavement.com
SUMMARY:Hope House – Weekly Virtual Drop-In – Moonlight Mourning
DESCRIPTION:
URL:https://oasisbereavement.com/event/hope-house-weekly-virtual-drop-in-moonlight-mourning-11/
LOCATION:ZOOM
END:VEVENT
BEGIN:VEVENT
DTSTART;TZID=UTC:20241104T100000
DTEND;TZID=UTC:20241104T110000
DTSTAMP:20260421T100512
CREATED:20240406T143123Z
LAST-MODIFIED:20240406T143123Z
UID:2772-1730714400-1730718000@oasisbereavement.com
SUMMARY:Weekly - Permission to Pause Gentle Yoga  - Hope House
DESCRIPTION:
URL:https://oasisbereavement.com/event/weekly-permission-to-pause-gentle-yoga-hope-house-8/
LOCATION:ZOOM
ATTACH;FMTTYPE=image/png:https://oasisbereavement.com/wp-content/uploads/2024/04/Screen-Shot-2024-04-06-at-10.17.57-AM.png
END:VEVENT
BEGIN:VEVENT
DTSTART;TZID=UTC:20241101T100000
DTEND;TZID=UTC:20241101T113000
DTSTAMP:20260421T100512
CREATED:20240113T204027Z
LAST-MODIFIED:20240113T204027Z
UID:2659-1730455200-1730460600@oasisbereavement.com
SUMMARY:Weekly – Hope House Virtual Bereavement Bistro
DESCRIPTION:
URL:https://oasisbereavement.com/event/weekly-hope-house-virtual-bereavement-bistro-11/
LOCATION:ZOOM
END:VEVENT
BEGIN:VEVENT
DTSTART;TZID=UTC:20241008T120000
DTEND;TZID=UTC:20241008T130000
DTSTAMP:20260421T100512
CREATED:20240124T202557Z
LAST-MODIFIED:20240124T202557Z
UID:2705-1728388800-1728392400@oasisbereavement.com
SUMMARY:PalCare - Join the Conversation
DESCRIPTION:Join the Conversation\n\n\nCourse Via Zoom\n\n\nDescription \nCome and join the conversation\, share your voice on topics that can include palliative care\, grief and bereavement\, organ donation\, MAID\, Advanced Care Planning and Self Compassion. We start the conversation by discussing videos\, TED talks\, podcasts etc. that we have shared with you to watch and listen to prior to the session.    \n​ \nDates \nTuesday\, January 9th\, 2024 \nTuesday\, February 13th\, 2024 \nTuesday\, March 12th\, 2024 \nTuesday\, April 9th\, 2024 \nTuesday\, May 14th\, 2024 \nTuesday\, June 11th\, 2024 \nTuesday\, July 9th\, 2024 \nTuesday\,August 13th\, 2024 \nTuesday\, September 10th\, 2024 \nTuesday\, October 8th\, 2024 \nTuesday\, November 12th\, 2024 \nTuesday\, December 10th\, 2024 \n​ \nTime \n12:00 – 12:45 pm
URL:https://oasisbereavement.com/event/palcare-join-the-conversation-9/
LOCATION:ZOOM
END:VEVENT
BEGIN:VEVENT
DTSTART;TZID=UTC:20241007T190000
DTEND;TZID=UTC:20241007T200000
DTSTAMP:20260421T100512
CREATED:20240113T003513Z
LAST-MODIFIED:20240113T003513Z
UID:2287-1728327600-1728331200@oasisbereavement.com
SUMMARY:Hope House – Weekly Virtual Drop-In – Moonlight Mourning
DESCRIPTION:
URL:https://oasisbereavement.com/event/hope-house-weekly-virtual-drop-in-moonlight-mourning-10/
LOCATION:ZOOM
END:VEVENT
BEGIN:VEVENT
DTSTART;TZID=UTC:20241007T100000
DTEND;TZID=UTC:20241007T110000
DTSTAMP:20260421T100512
CREATED:20240406T142957Z
LAST-MODIFIED:20240406T142957Z
UID:2770-1728295200-1728298800@oasisbereavement.com
SUMMARY:Weekly - Permission to Pause Gentle Yoga  - Hope House
DESCRIPTION:
URL:https://oasisbereavement.com/event/weekly-permission-to-pause-gentle-yoga-hope-house-7/
LOCATION:ZOOM
ATTACH;FMTTYPE=image/png:https://oasisbereavement.com/wp-content/uploads/2024/04/Screen-Shot-2024-04-06-at-10.17.57-AM.png
END:VEVENT
BEGIN:VEVENT
DTSTART;TZID=UTC:20241004T100000
DTEND;TZID=UTC:20241004T113000
DTSTAMP:20260421T100512
CREATED:20240113T203919Z
LAST-MODIFIED:20240113T203919Z
UID:2658-1728036000-1728041400@oasisbereavement.com
SUMMARY:Weekly – Hope House Virtual Bereavement Bistro
DESCRIPTION:
URL:https://oasisbereavement.com/event/weekly-hope-house-virtual-bereavement-bistro-10/
LOCATION:ZOOM
END:VEVENT
BEGIN:VEVENT
DTSTART;TZID=UTC:20241002T093000
DTEND;TZID=UTC:20241002T103000
DTSTAMP:20260421T100512
CREATED:20240406T162217Z
LAST-MODIFIED:20240406T162217Z
UID:2826-1727861400-1727865000@oasisbereavement.com
SUMMARY:Weekly – QIGONG – Hope House
DESCRIPTION:
URL:https://oasisbereavement.com/event/weekly-qigong-hope-house-7/
LOCATION:ZOOM
ATTACH;FMTTYPE=image/png:https://oasisbereavement.com/wp-content/uploads/2024/04/Screen-Shot-2024-04-06-at-12.05.46-PM.png
END:VEVENT
BEGIN:VEVENT
DTSTART;TZID=UTC:20241001T130000
DTEND;TZID=UTC:20241001T150000
DTSTAMP:20260421T100512
CREATED:20240113T201924Z
LAST-MODIFIED:20240113T201924Z
UID:2314-1727787600-1727794800@oasisbereavement.com
SUMMARY:Weekly – Hope House Comfort Cafe Virtual Drop-In
DESCRIPTION:
URL:https://oasisbereavement.com/event/weekly-hope-house-comfort-cafe-virtual-drop-in-9/
LOCATION:ZOOM
END:VEVENT
BEGIN:VEVENT
DTSTART;TZID=UTC:20240925T190000
DTEND;TZID=UTC:20240925T200000
DTSTAMP:20260421T100512
CREATED:20240828T215714Z
LAST-MODIFIED:20240828T215715Z
UID:3024-1727290800-1727294400@oasisbereavement.com
SUMMARY:OASIS AGM
DESCRIPTION:Watch this space for Zoom information and agenda.
URL:https://oasisbereavement.com/event/oasis-agm-4/
LOCATION:ZOOM
ATTACH;FMTTYPE=image/jpeg:https://oasisbereavement.com/wp-content/uploads/2023/01/video-screenshot.jpg
END:VEVENT
BEGIN:VEVENT
DTSTART;TZID=UTC:20240910T120000
DTEND;TZID=UTC:20240910T130000
DTSTAMP:20260421T100512
CREATED:20240124T202424Z
LAST-MODIFIED:20240124T202424Z
UID:2704-1725969600-1725973200@oasisbereavement.com
SUMMARY:PalCare - Join the Conversation
DESCRIPTION:Join the Conversation\n\n\nCourse Via Zoom\n\n\nDescription \nCome and join the conversation\, share your voice on topics that can include palliative care\, grief and bereavement\, organ donation\, MAID\, Advanced Care Planning and Self Compassion. We start the conversation by discussing videos\, TED talks\, podcasts etc. that we have shared with you to watch and listen to prior to the session.    \n​ \nDates \nTuesday\, January 9th\, 2024 \nTuesday\, February 13th\, 2024 \nTuesday\, March 12th\, 2024 \nTuesday\, April 9th\, 2024 \nTuesday\, May 14th\, 2024 \nTuesday\, June 11th\, 2024 \nTuesday\, July 9th\, 2024 \nTuesday\,August 13th\, 2024 \nTuesday\, September 10th\, 2024 \nTuesday\, October 8th\, 2024 \nTuesday\, November 12th\, 2024 \nTuesday\, December 10th\, 2024 \n​ \nTime \n12:00 – 12:45 pm
URL:https://oasisbereavement.com/event/palcare-join-the-conversation-8/
LOCATION:ZOOM
END:VEVENT
END:VCALENDAR