BEGIN:VCALENDAR
VERSION:2.0
PRODID:-//Oasis Bereavement - ECPv6.15.18//NONSGML v1.0//EN
CALSCALE:GREGORIAN
METHOD:PUBLISH
X-WR-CALNAME:Oasis Bereavement
X-ORIGINAL-URL:https://oasisbereavement.com
X-WR-CALDESC:Events for Oasis Bereavement
REFRESH-INTERVAL;VALUE=DURATION:PT1H
X-Robots-Tag:noindex
X-PUBLISHED-TTL:PT1H
BEGIN:VTIMEZONE
TZID:UTC
BEGIN:STANDARD
TZOFFSETFROM:+0000
TZOFFSETTO:+0000
TZNAME:UTC
DTSTART:20250101T000000
END:STANDARD
END:VTIMEZONE
BEGIN:VEVENT
DTSTART;TZID=UTC:20261012T183000
DTEND;TZID=UTC:20261012T193000
DTSTAMP:20260421T083448
CREATED:20260408T172715Z
LAST-MODIFIED:20260408T172715Z
UID:3628-1791829800-1791833400@oasisbereavement.com
SUMMARY:Evergreen On-line Drop-In Bereavement Group
DESCRIPTION:
URL:https://oasisbereavement.com/event/evergreen-online-drop-in-bereavement-group/2026-10-12/
LOCATION:ZOOM
END:VEVENT
BEGIN:VEVENT
DTSTART;TZID=UTC:20261019T183000
DTEND;TZID=UTC:20261019T193000
DTSTAMP:20260421T083448
CREATED:20260408T172715Z
LAST-MODIFIED:20260408T172715Z
UID:3629-1792434600-1792438200@oasisbereavement.com
SUMMARY:Evergreen On-line Drop-In Bereavement Group
DESCRIPTION:
URL:https://oasisbereavement.com/event/evergreen-online-drop-in-bereavement-group/2026-10-19/
LOCATION:ZOOM
END:VEVENT
BEGIN:VEVENT
DTSTART;TZID=UTC:20261026T183000
DTEND;TZID=UTC:20261026T193000
DTSTAMP:20260421T083448
CREATED:20260408T172715Z
LAST-MODIFIED:20260408T172715Z
UID:3630-1793039400-1793043000@oasisbereavement.com
SUMMARY:Evergreen On-line Drop-In Bereavement Group
DESCRIPTION:
URL:https://oasisbereavement.com/event/evergreen-online-drop-in-bereavement-group/2026-10-26/
LOCATION:ZOOM
END:VEVENT
BEGIN:VEVENT
DTSTART;TZID=UTC:20261102T183000
DTEND;TZID=UTC:20261102T193000
DTSTAMP:20260421T083448
CREATED:20260408T172715Z
LAST-MODIFIED:20260408T172715Z
UID:3631-1793644200-1793647800@oasisbereavement.com
SUMMARY:Evergreen On-line Drop-In Bereavement Group
DESCRIPTION:
URL:https://oasisbereavement.com/event/evergreen-online-drop-in-bereavement-group/2026-11-02/
LOCATION:ZOOM
END:VEVENT
BEGIN:VEVENT
DTSTART;TZID=UTC:20261109T183000
DTEND;TZID=UTC:20261109T193000
DTSTAMP:20260421T083448
CREATED:20260408T172715Z
LAST-MODIFIED:20260408T172715Z
UID:3632-1794249000-1794252600@oasisbereavement.com
SUMMARY:Evergreen On-line Drop-In Bereavement Group
DESCRIPTION:
URL:https://oasisbereavement.com/event/evergreen-online-drop-in-bereavement-group/2026-11-09/
LOCATION:ZOOM
END:VEVENT
BEGIN:VEVENT
DTSTART;TZID=UTC:20261116T183000
DTEND;TZID=UTC:20261116T193000
DTSTAMP:20260421T083448
CREATED:20260408T172715Z
LAST-MODIFIED:20260408T172715Z
UID:3633-1794853800-1794857400@oasisbereavement.com
SUMMARY:Evergreen On-line Drop-In Bereavement Group
DESCRIPTION:
URL:https://oasisbereavement.com/event/evergreen-online-drop-in-bereavement-group/2026-11-16/
LOCATION:ZOOM
END:VEVENT
BEGIN:VEVENT
DTSTART;TZID=UTC:20261123T183000
DTEND;TZID=UTC:20261123T193000
DTSTAMP:20260421T083448
CREATED:20260408T172715Z
LAST-MODIFIED:20260408T172715Z
UID:3634-1795458600-1795462200@oasisbereavement.com
SUMMARY:Evergreen On-line Drop-In Bereavement Group
DESCRIPTION:
URL:https://oasisbereavement.com/event/evergreen-online-drop-in-bereavement-group/2026-11-23/
LOCATION:ZOOM
END:VEVENT
BEGIN:VEVENT
DTSTART;TZID=UTC:20261130T183000
DTEND;TZID=UTC:20261130T193000
DTSTAMP:20260421T083448
CREATED:20260408T172715Z
LAST-MODIFIED:20260408T172715Z
UID:3635-1796063400-1796067000@oasisbereavement.com
SUMMARY:Evergreen On-line Drop-In Bereavement Group
DESCRIPTION:
URL:https://oasisbereavement.com/event/evergreen-online-drop-in-bereavement-group/2026-11-30/
LOCATION:ZOOM
END:VEVENT
BEGIN:VEVENT
DTSTART;TZID=UTC:20261207T183000
DTEND;TZID=UTC:20261207T193000
DTSTAMP:20260421T083448
CREATED:20260408T172715Z
LAST-MODIFIED:20260408T172715Z
UID:3636-1796668200-1796671800@oasisbereavement.com
SUMMARY:Evergreen On-line Drop-In Bereavement Group
DESCRIPTION:
URL:https://oasisbereavement.com/event/evergreen-online-drop-in-bereavement-group/2026-12-07/
LOCATION:ZOOM
END:VEVENT
BEGIN:VEVENT
DTSTART;TZID=UTC:20261214T183000
DTEND;TZID=UTC:20261214T193000
DTSTAMP:20260421T083448
CREATED:20260408T172715Z
LAST-MODIFIED:20260408T172715Z
UID:3637-1797273000-1797276600@oasisbereavement.com
SUMMARY:Evergreen On-line Drop-In Bereavement Group
DESCRIPTION:
URL:https://oasisbereavement.com/event/evergreen-online-drop-in-bereavement-group/2026-12-14/
LOCATION:ZOOM
END:VEVENT
BEGIN:VEVENT
DTSTART;TZID=UTC:20261221T183000
DTEND;TZID=UTC:20261221T193000
DTSTAMP:20260421T083448
CREATED:20260408T172715Z
LAST-MODIFIED:20260408T172715Z
UID:3638-1797877800-1797881400@oasisbereavement.com
SUMMARY:Evergreen On-line Drop-In Bereavement Group
DESCRIPTION:
URL:https://oasisbereavement.com/event/evergreen-online-drop-in-bereavement-group/2026-12-21/
LOCATION:ZOOM
END:VEVENT
BEGIN:VEVENT
DTSTART;TZID=UTC:20261228T183000
DTEND;TZID=UTC:20261228T193000
DTSTAMP:20260421T083448
CREATED:20260408T172715Z
LAST-MODIFIED:20260408T172715Z
UID:3639-1798482600-1798486200@oasisbereavement.com
SUMMARY:Evergreen On-line Drop-In Bereavement Group
DESCRIPTION:
URL:https://oasisbereavement.com/event/evergreen-online-drop-in-bereavement-group/2026-12-28/
LOCATION:ZOOM
END:VEVENT
BEGIN:VEVENT
DTSTART;TZID=UTC:20270104T183000
DTEND;TZID=UTC:20270104T193000
DTSTAMP:20260421T083448
CREATED:20260408T172715Z
LAST-MODIFIED:20260408T172715Z
UID:3640-1799087400-1799091000@oasisbereavement.com
SUMMARY:Evergreen On-line Drop-In Bereavement Group
DESCRIPTION:
URL:https://oasisbereavement.com/event/evergreen-online-drop-in-bereavement-group/2027-01-04/
LOCATION:ZOOM
END:VEVENT
BEGIN:VEVENT
DTSTART;TZID=UTC:20270111T183000
DTEND;TZID=UTC:20270111T193000
DTSTAMP:20260421T083448
CREATED:20260408T172715Z
LAST-MODIFIED:20260408T172715Z
UID:3641-1799692200-1799695800@oasisbereavement.com
SUMMARY:Evergreen On-line Drop-In Bereavement Group
DESCRIPTION:
URL:https://oasisbereavement.com/event/evergreen-online-drop-in-bereavement-group/2027-01-11/
LOCATION:ZOOM
END:VEVENT
BEGIN:VEVENT
DTSTART;TZID=UTC:20270118T183000
DTEND;TZID=UTC:20270118T193000
DTSTAMP:20260421T083448
CREATED:20260408T172715Z
LAST-MODIFIED:20260408T172715Z
UID:3642-1800297000-1800300600@oasisbereavement.com
SUMMARY:Evergreen On-line Drop-In Bereavement Group
DESCRIPTION:
URL:https://oasisbereavement.com/event/evergreen-online-drop-in-bereavement-group/2027-01-18/
LOCATION:ZOOM
END:VEVENT
BEGIN:VEVENT
DTSTART;TZID=UTC:20270125T183000
DTEND;TZID=UTC:20270125T193000
DTSTAMP:20260421T083448
CREATED:20260408T172715Z
LAST-MODIFIED:20260408T172715Z
UID:3643-1800901800-1800905400@oasisbereavement.com
SUMMARY:Evergreen On-line Drop-In Bereavement Group
DESCRIPTION:
URL:https://oasisbereavement.com/event/evergreen-online-drop-in-bereavement-group/2027-01-25/
LOCATION:ZOOM
END:VEVENT
BEGIN:VEVENT
DTSTART;TZID=UTC:20270201T183000
DTEND;TZID=UTC:20270201T193000
DTSTAMP:20260421T083448
CREATED:20260408T172715Z
LAST-MODIFIED:20260408T172715Z
UID:3644-1801506600-1801510200@oasisbereavement.com
SUMMARY:Evergreen On-line Drop-In Bereavement Group
DESCRIPTION:
URL:https://oasisbereavement.com/event/evergreen-online-drop-in-bereavement-group/2027-02-01/
LOCATION:ZOOM
END:VEVENT
BEGIN:VEVENT
DTSTART;TZID=UTC:20270208T183000
DTEND;TZID=UTC:20270208T193000
DTSTAMP:20260421T083448
CREATED:20260408T172715Z
LAST-MODIFIED:20260408T172715Z
UID:3645-1802111400-1802115000@oasisbereavement.com
SUMMARY:Evergreen On-line Drop-In Bereavement Group
DESCRIPTION:
URL:https://oasisbereavement.com/event/evergreen-online-drop-in-bereavement-group/2027-02-08/
LOCATION:ZOOM
END:VEVENT
BEGIN:VEVENT
DTSTART;TZID=UTC:20270215T183000
DTEND;TZID=UTC:20270215T193000
DTSTAMP:20260421T083448
CREATED:20260408T172715Z
LAST-MODIFIED:20260408T172715Z
UID:3646-1802716200-1802719800@oasisbereavement.com
SUMMARY:Evergreen On-line Drop-In Bereavement Group
DESCRIPTION:
URL:https://oasisbereavement.com/event/evergreen-online-drop-in-bereavement-group/2027-02-15/
LOCATION:ZOOM
END:VEVENT
BEGIN:VEVENT
DTSTART;TZID=UTC:20270222T183000
DTEND;TZID=UTC:20270222T193000
DTSTAMP:20260421T083448
CREATED:20260408T172715Z
LAST-MODIFIED:20260408T172715Z
UID:3647-1803321000-1803324600@oasisbereavement.com
SUMMARY:Evergreen On-line Drop-In Bereavement Group
DESCRIPTION:
URL:https://oasisbereavement.com/event/evergreen-online-drop-in-bereavement-group/2027-02-22/
LOCATION:ZOOM
END:VEVENT
BEGIN:VEVENT
DTSTART;TZID=UTC:20270301T183000
DTEND;TZID=UTC:20270301T193000
DTSTAMP:20260421T083448
CREATED:20260408T172715Z
LAST-MODIFIED:20260408T172715Z
UID:3648-1803925800-1803929400@oasisbereavement.com
SUMMARY:Evergreen On-line Drop-In Bereavement Group
DESCRIPTION:
URL:https://oasisbereavement.com/event/evergreen-online-drop-in-bereavement-group/2027-03-01/
LOCATION:ZOOM
END:VEVENT
BEGIN:VEVENT
DTSTART;TZID=UTC:20270308T183000
DTEND;TZID=UTC:20270308T193000
DTSTAMP:20260421T083448
CREATED:20260408T172715Z
LAST-MODIFIED:20260408T172715Z
UID:3649-1804530600-1804534200@oasisbereavement.com
SUMMARY:Evergreen On-line Drop-In Bereavement Group
DESCRIPTION:
URL:https://oasisbereavement.com/event/evergreen-online-drop-in-bereavement-group/2027-03-08/
LOCATION:ZOOM
END:VEVENT
BEGIN:VEVENT
DTSTART;TZID=UTC:20270315T183000
DTEND;TZID=UTC:20270315T193000
DTSTAMP:20260421T083448
CREATED:20260408T172715Z
LAST-MODIFIED:20260408T172715Z
UID:3650-1805135400-1805139000@oasisbereavement.com
SUMMARY:Evergreen On-line Drop-In Bereavement Group
DESCRIPTION:
URL:https://oasisbereavement.com/event/evergreen-online-drop-in-bereavement-group/2027-03-15/
LOCATION:ZOOM
END:VEVENT
BEGIN:VEVENT
DTSTART;TZID=UTC:20270322T183000
DTEND;TZID=UTC:20270322T193000
DTSTAMP:20260421T083448
CREATED:20260408T172715Z
LAST-MODIFIED:20260408T172715Z
UID:3651-1805740200-1805743800@oasisbereavement.com
SUMMARY:Evergreen On-line Drop-In Bereavement Group
DESCRIPTION:
URL:https://oasisbereavement.com/event/evergreen-online-drop-in-bereavement-group/2027-03-22/
LOCATION:ZOOM
END:VEVENT
BEGIN:VEVENT
DTSTART;TZID=UTC:20270329T183000
DTEND;TZID=UTC:20270329T193000
DTSTAMP:20260421T083448
CREATED:20260408T172715Z
LAST-MODIFIED:20260408T172715Z
UID:3652-1806345000-1806348600@oasisbereavement.com
SUMMARY:Evergreen On-line Drop-In Bereavement Group
DESCRIPTION:
URL:https://oasisbereavement.com/event/evergreen-online-drop-in-bereavement-group/2027-03-29/
LOCATION:ZOOM
END:VEVENT
BEGIN:VEVENT
DTSTART;TZID=UTC:20270405T183000
DTEND;TZID=UTC:20270405T193000
DTSTAMP:20260421T083448
CREATED:20260408T172715Z
LAST-MODIFIED:20260408T172715Z
UID:3653-1806949800-1806953400@oasisbereavement.com
SUMMARY:Evergreen On-line Drop-In Bereavement Group
DESCRIPTION:
URL:https://oasisbereavement.com/event/evergreen-online-drop-in-bereavement-group/2027-04-05/
LOCATION:ZOOM
END:VEVENT
BEGIN:VEVENT
DTSTART;TZID=UTC:20270412T183000
DTEND;TZID=UTC:20270412T193000
DTSTAMP:20260421T083448
CREATED:20260408T172715Z
LAST-MODIFIED:20260408T172715Z
UID:3654-1807554600-1807558200@oasisbereavement.com
SUMMARY:Evergreen On-line Drop-In Bereavement Group
DESCRIPTION:
URL:https://oasisbereavement.com/event/evergreen-online-drop-in-bereavement-group/2027-04-12/
LOCATION:ZOOM
END:VEVENT
BEGIN:VEVENT
DTSTART;TZID=UTC:20270419T183000
DTEND;TZID=UTC:20270419T193000
DTSTAMP:20260421T083448
CREATED:20260408T172715Z
LAST-MODIFIED:20260408T172715Z
UID:3655-1808159400-1808163000@oasisbereavement.com
SUMMARY:Evergreen On-line Drop-In Bereavement Group
DESCRIPTION:
URL:https://oasisbereavement.com/event/evergreen-online-drop-in-bereavement-group/2027-04-19/
LOCATION:ZOOM
END:VEVENT
BEGIN:VEVENT
DTSTART;TZID=UTC:20270426T183000
DTEND;TZID=UTC:20270426T193000
DTSTAMP:20260421T083448
CREATED:20260408T172715Z
LAST-MODIFIED:20260408T172715Z
UID:3656-1808764200-1808767800@oasisbereavement.com
SUMMARY:Evergreen On-line Drop-In Bereavement Group
DESCRIPTION:
URL:https://oasisbereavement.com/event/evergreen-online-drop-in-bereavement-group/2027-04-26/
LOCATION:ZOOM
END:VEVENT
BEGIN:VEVENT
DTSTART;TZID=UTC:20270503T183000
DTEND;TZID=UTC:20270503T193000
DTSTAMP:20260421T083448
CREATED:20260408T172715Z
LAST-MODIFIED:20260408T172715Z
UID:3657-1809369000-1809372600@oasisbereavement.com
SUMMARY:Evergreen On-line Drop-In Bereavement Group
DESCRIPTION:
URL:https://oasisbereavement.com/event/evergreen-online-drop-in-bereavement-group/2027-05-03/
LOCATION:ZOOM
END:VEVENT
END:VCALENDAR